BEGIN:VCALENDAR
VERSION:2.0
PRODID:-//jEvents 2.0 for Joomla//EN
CALSCALE:GREGORIAN
METHOD:PUBLISH
BEGIN:VTIMEZONE
TZID:Europe/Rome
BEGIN:STANDARD
DTSTART:20071125T000000
RDATE:20080330T030000
TZOFFSETFROM:+0200
TZOFFSETTO:+0100
TZNAME:Europe/Rome CET
END:STANDARD
BEGIN:STANDARD
DTSTART:20081026T020000
RDATE:20090329T030000
TZOFFSETFROM:+0200
TZOFFSETTO:+0100
TZNAME:Europe/Rome CET
END:STANDARD
BEGIN:STANDARD
DTSTART:20091025T020000
RDATE:20100328T030000
TZOFFSETFROM:+0200
TZOFFSETTO:+0100
TZNAME:Europe/Rome CET
END:STANDARD
BEGIN:STANDARD
DTSTART:20101031T020000
RDATE:20110327T030000
TZOFFSETFROM:+0200
TZOFFSETTO:+0100
TZNAME:Europe/Rome CET
END:STANDARD
BEGIN:STANDARD
DTSTART:20111030T020000
RDATE:20120325T030000
TZOFFSETFROM:+0200
TZOFFSETTO:+0100
TZNAME:Europe/Rome CET
END:STANDARD
BEGIN:STANDARD
DTSTART:20121028T020000
RDATE:20130331T030000
TZOFFSETFROM:+0200
TZOFFSETTO:+0100
TZNAME:Europe/Rome CET
END:STANDARD
BEGIN:STANDARD
DTSTART:20131027T020000
RDATE:20140330T030000
TZOFFSETFROM:+0200
TZOFFSETTO:+0100
TZNAME:Europe/Rome CET
END:STANDARD
BEGIN:STANDARD
DTSTART:20141026T020000
RDATE:20150329T030000
TZOFFSETFROM:+0200
TZOFFSETTO:+0100
TZNAME:Europe/Rome CET
END:STANDARD
BEGIN:STANDARD
DTSTART:20151025T020000
RDATE:20160327T030000
TZOFFSETFROM:+0200
TZOFFSETTO:+0100
TZNAME:Europe/Rome CET
END:STANDARD
BEGIN:STANDARD
DTSTART:20161030T020000
RDATE:20170326T030000
TZOFFSETFROM:+0200
TZOFFSETTO:+0100
TZNAME:Europe/Rome CET
END:STANDARD
BEGIN:STANDARD
DTSTART:20171029T020000
RDATE:20180325T030000
TZOFFSETFROM:+0200
TZOFFSETTO:+0100
TZNAME:Europe/Rome CET
END:STANDARD
BEGIN:STANDARD
DTSTART:20181028T020000
RDATE:20190331T030000
TZOFFSETFROM:+0200
TZOFFSETTO:+0100
TZNAME:Europe/Rome CET
END:STANDARD
BEGIN:STANDARD
DTSTART:20191027T020000
RDATE:20200329T030000
TZOFFSETFROM:+0200
TZOFFSETTO:+0100
TZNAME:Europe/Rome CET
END:STANDARD
BEGIN:STANDARD
DTSTART:20201025T020000
RDATE:20210328T030000
TZOFFSETFROM:+0200
TZOFFSETTO:+0100
TZNAME:Europe/Rome CET
END:STANDARD
BEGIN:STANDARD
DTSTART:20211031T020000
RDATE:20220327T030000
TZOFFSETFROM:+0200
TZOFFSETTO:+0100
TZNAME:Europe/Rome CET
END:STANDARD
BEGIN:STANDARD
DTSTART:20221030T020000
RDATE:20230326T030000
TZOFFSETFROM:+0200
TZOFFSETTO:+0100
TZNAME:Europe/Rome CET
END:STANDARD
BEGIN:STANDARD
DTSTART:20231029T020000
RDATE:20240331T030000
TZOFFSETFROM:+0200
TZOFFSETTO:+0100
TZNAME:Europe/Rome CET
END:STANDARD
BEGIN:STANDARD
DTSTART:20241027T020000
RDATE:20250330T030000
TZOFFSETFROM:+0200
TZOFFSETTO:+0100
TZNAME:Europe/Rome CET
END:STANDARD
BEGIN:STANDARD
DTSTART:20251026T020000
RDATE:20260329T030000
TZOFFSETFROM:+0200
TZOFFSETTO:+0100
TZNAME:Europe/Rome CET
END:STANDARD
BEGIN:STANDARD
DTSTART:20261025T020000
RDATE:20270328T030000
TZOFFSETFROM:+0200
TZOFFSETTO:+0100
TZNAME:Europe/Rome CET
END:STANDARD
BEGIN:STANDARD
DTSTART:20271031T020000
RDATE:20280326T030000
TZOFFSETFROM:+0200
TZOFFSETTO:+0100
TZNAME:Europe/Rome CET
END:STANDARD
BEGIN:STANDARD
DTSTART:20281029T020000
RDATE:20290325T030000
TZOFFSETFROM:+0200
TZOFFSETTO:+0100
TZNAME:Europe/Rome CET
END:STANDARD
BEGIN:STANDARD
DTSTART:20291028T020000
RDATE:20300331T030000
TZOFFSETFROM:+0200
TZOFFSETTO:+0100
TZNAME:Europe/Rome CET
END:STANDARD
BEGIN:STANDARD
DTSTART:20301027T020000
RDATE:20310330T030000
TZOFFSETFROM:+0200
TZOFFSETTO:+0100
TZNAME:Europe/Rome CET
END:STANDARD
BEGIN:STANDARD
DTSTART:20311026T020000
RDATE:20320328T030000
TZOFFSETFROM:+0200
TZOFFSETTO:+0100
TZNAME:Europe/Rome CET
END:STANDARD
BEGIN:STANDARD
DTSTART:20321031T020000
RDATE:20330327T030000
TZOFFSETFROM:+0200
TZOFFSETTO:+0100
TZNAME:Europe/Rome CET
END:STANDARD
BEGIN:STANDARD
DTSTART:20331030T020000
RDATE:20340326T030000
TZOFFSETFROM:+0200
TZOFFSETTO:+0100
TZNAME:Europe/Rome CET
END:STANDARD
BEGIN:STANDARD
DTSTART:20341029T020000
RDATE:20350325T030000
TZOFFSETFROM:+0200
TZOFFSETTO:+0100
TZNAME:Europe/Rome CET
END:STANDARD
BEGIN:STANDARD
DTSTART:20351028T020000
RDATE:20360330T030000
TZOFFSETFROM:+0200
TZOFFSETTO:+0100
TZNAME:Europe/Rome CET
END:STANDARD
BEGIN:STANDARD
DTSTART:20361026T020000
RDATE:20370329T030000
TZOFFSETFROM:+0200
TZOFFSETTO:+0100
TZNAME:Europe/Rome CET
END:STANDARD
BEGIN:STANDARD
DTSTART:20371025T020000
TZOFFSETFROM:+0200
TZOFFSETTO:+0100
TZNAME:Europe/Rome CET
END:STANDARD
BEGIN:DAYLIGHT
DTSTART:20080330T030000
RDATE:20081026T020000
TZOFFSETFROM:+0100
TZOFFSETTO:+0200
TZNAME:Europe/Rome CEST
END:DAYLIGHT
BEGIN:DAYLIGHT
DTSTART:20090329T030000
RDATE:20091025T020000
TZOFFSETFROM:+0100
TZOFFSETTO:+0200
TZNAME:Europe/Rome CEST
END:DAYLIGHT
BEGIN:DAYLIGHT
DTSTART:20100328T030000
RDATE:20101031T020000
TZOFFSETFROM:+0100
TZOFFSETTO:+0200
TZNAME:Europe/Rome CEST
END:DAYLIGHT
BEGIN:DAYLIGHT
DTSTART:20110327T030000
RDATE:20111030T020000
TZOFFSETFROM:+0100
TZOFFSETTO:+0200
TZNAME:Europe/Rome CEST
END:DAYLIGHT
BEGIN:DAYLIGHT
DTSTART:20120325T030000
RDATE:20121028T020000
TZOFFSETFROM:+0100
TZOFFSETTO:+0200
TZNAME:Europe/Rome CEST
END:DAYLIGHT
BEGIN:DAYLIGHT
DTSTART:20130331T030000
RDATE:20131027T020000
TZOFFSETFROM:+0100
TZOFFSETTO:+0200
TZNAME:Europe/Rome CEST
END:DAYLIGHT
BEGIN:DAYLIGHT
DTSTART:20140330T030000
RDATE:20141026T020000
TZOFFSETFROM:+0100
TZOFFSETTO:+0200
TZNAME:Europe/Rome CEST
END:DAYLIGHT
BEGIN:DAYLIGHT
DTSTART:20150329T030000
RDATE:20151025T020000
TZOFFSETFROM:+0100
TZOFFSETTO:+0200
TZNAME:Europe/Rome CEST
END:DAYLIGHT
BEGIN:DAYLIGHT
DTSTART:20160327T030000
RDATE:20161030T020000
TZOFFSETFROM:+0100
TZOFFSETTO:+0200
TZNAME:Europe/Rome CEST
END:DAYLIGHT
BEGIN:DAYLIGHT
DTSTART:20170326T030000
RDATE:20171029T020000
TZOFFSETFROM:+0100
TZOFFSETTO:+0200
TZNAME:Europe/Rome CEST
END:DAYLIGHT
BEGIN:DAYLIGHT
DTSTART:20180325T030000
RDATE:20181028T020000
TZOFFSETFROM:+0100
TZOFFSETTO:+0200
TZNAME:Europe/Rome CEST
END:DAYLIGHT
BEGIN:DAYLIGHT
DTSTART:20190331T030000
RDATE:20191027T020000
TZOFFSETFROM:+0100
TZOFFSETTO:+0200
TZNAME:Europe/Rome CEST
END:DAYLIGHT
BEGIN:DAYLIGHT
DTSTART:20200329T030000
RDATE:20201025T020000
TZOFFSETFROM:+0100
TZOFFSETTO:+0200
TZNAME:Europe/Rome CEST
END:DAYLIGHT
BEGIN:DAYLIGHT
DTSTART:20210328T030000
RDATE:20211031T020000
TZOFFSETFROM:+0100
TZOFFSETTO:+0200
TZNAME:Europe/Rome CEST
END:DAYLIGHT
BEGIN:DAYLIGHT
DTSTART:20220327T030000
RDATE:20221030T020000
TZOFFSETFROM:+0100
TZOFFSETTO:+0200
TZNAME:Europe/Rome CEST
END:DAYLIGHT
BEGIN:DAYLIGHT
DTSTART:20230326T030000
RDATE:20231029T020000
TZOFFSETFROM:+0100
TZOFFSETTO:+0200
TZNAME:Europe/Rome CEST
END:DAYLIGHT
BEGIN:DAYLIGHT
DTSTART:20240331T030000
RDATE:20241027T020000
TZOFFSETFROM:+0100
TZOFFSETTO:+0200
TZNAME:Europe/Rome CEST
END:DAYLIGHT
BEGIN:DAYLIGHT
DTSTART:20250330T030000
RDATE:20251026T020000
TZOFFSETFROM:+0100
TZOFFSETTO:+0200
TZNAME:Europe/Rome CEST
END:DAYLIGHT
BEGIN:DAYLIGHT
DTSTART:20260329T030000
RDATE:20261025T020000
TZOFFSETFROM:+0100
TZOFFSETTO:+0200
TZNAME:Europe/Rome CEST
END:DAYLIGHT
BEGIN:DAYLIGHT
DTSTART:20270328T030000
RDATE:20271031T020000
TZOFFSETFROM:+0100
TZOFFSETTO:+0200
TZNAME:Europe/Rome CEST
END:DAYLIGHT
BEGIN:DAYLIGHT
DTSTART:20280326T030000
RDATE:20281029T020000
TZOFFSETFROM:+0100
TZOFFSETTO:+0200
TZNAME:Europe/Rome CEST
END:DAYLIGHT
BEGIN:DAYLIGHT
DTSTART:20290325T030000
RDATE:20291028T020000
TZOFFSETFROM:+0100
TZOFFSETTO:+0200
TZNAME:Europe/Rome CEST
END:DAYLIGHT
BEGIN:DAYLIGHT
DTSTART:20300331T030000
RDATE:20301027T020000
TZOFFSETFROM:+0100
TZOFFSETTO:+0200
TZNAME:Europe/Rome CEST
END:DAYLIGHT
BEGIN:DAYLIGHT
DTSTART:20310330T030000
RDATE:20311026T020000
TZOFFSETFROM:+0100
TZOFFSETTO:+0200
TZNAME:Europe/Rome CEST
END:DAYLIGHT
BEGIN:DAYLIGHT
DTSTART:20320328T030000
RDATE:20321031T020000
TZOFFSETFROM:+0100
TZOFFSETTO:+0200
TZNAME:Europe/Rome CEST
END:DAYLIGHT
BEGIN:DAYLIGHT
DTSTART:20330327T030000
RDATE:20331030T020000
TZOFFSETFROM:+0100
TZOFFSETTO:+0200
TZNAME:Europe/Rome CEST
END:DAYLIGHT
BEGIN:DAYLIGHT
DTSTART:20340326T030000
RDATE:20341029T020000
TZOFFSETFROM:+0100
TZOFFSETTO:+0200
TZNAME:Europe/Rome CEST
END:DAYLIGHT
BEGIN:DAYLIGHT
DTSTART:20350325T030000
RDATE:20351028T020000
TZOFFSETFROM:+0100
TZOFFSETTO:+0200
TZNAME:Europe/Rome CEST
END:DAYLIGHT
BEGIN:DAYLIGHT
DTSTART:20360330T030000
RDATE:20361026T020000
TZOFFSETFROM:+0100
TZOFFSETTO:+0200
TZNAME:Europe/Rome CEST
END:DAYLIGHT
BEGIN:DAYLIGHT
DTSTART:20370329T030000
RDATE:20371025T020000
TZOFFSETFROM:+0100
TZOFFSETTO:+0200
TZNAME:Europe/Rome CEST
END:DAYLIGHT
END:VTIMEZONE
BEGIN:VEVENT
UID:1429119836evt117
CATEGORIES:.
SUMMARY:25- 3 DIC - Settimana della Donna (marocco)
DESCRIPTION;ENCODING=QUOTED-PRINTABLE:<!--[if gte mso 9]><xml>  <w:WordDocument>   <w:View>Normal</w:View>   <w:Z
 oom>0</w:Zoom>   <w:HyphenationZone>14</w:HyphenationZone>   <w:Punctuation
 Kerning/>   <w:ValidateAgainstSchemas/>   <w:SaveIfXMLInvalid>false</w:Save
 IfXMLInvalid>   <w:IgnoreMixedContent>false</w:IgnoreMixedContent>   <w:Alw
 aysShowPlaceholderText>false</w:AlwaysShowPlaceholderText>   <w:Compatibili
 ty>    <w:BreakWrappedTables/>    <w:SnapToGridInCell/>    <w:WrapTextWithP
 unct/>    <w:UseAsianBreakRules/>    <w:DontGrowAutofit/>   </w:Compatibili
 ty>   <w:BrowserLevel>MicrosoftInternetExplorer4</w:BrowserLevel>  </w:Word
 Document> </xml><![endif]--><!--[if gte mso 9]><xml>  <w:LatentStyles DefLo
 ckedState="false" LatentStyleCount="156">  </w:LatentStyles> </xml><![endif
 ]--> <!--  /* Style Definitions */  p.MsoNormal, li.MsoNormal, div.MsoNorma
 l 	{mso-style-parent:""; 	margin:0cm; 	margin-bottom:.0001pt; 	mso-paginati
 on:widow-orphan; 	font-size:12.0pt; 	font-family:"Times New Roman"; 	mso-fa
 reast-font-family:"Times New Roman";} @page Section1 	{size:595.3pt 841.9pt
 ; 	margin:70.85pt 2.0cm 2.0cm 2.0cm; 	mso-header-margin:35.4pt; 	mso-footer
 -margin:35.4pt; 	mso-paper-source:0;} div.Section1 	{page:Section1;} --> <!
 --[if gte mso 10]> <style>  /* Style Definitions */  table.MsoNormalTable 	
 {mso-style-name:"Tabella normale"; 	mso-tstyle-rowband-size:0; 	mso-tstyle-
 colband-size:0; 	mso-style-noshow:yes; 	mso-style-parent:""; 	mso-padding-a
 lt:0cm 5.4pt 0cm 5.4pt; 	mso-para-margin:0cm; 	mso-para-margin-bottom:.0001
 pt; 	mso-pagination:widow-orphan; 	font-size:10.0pt; 	font-family:"Times Ne
 w Roman"; 	mso-ansi-language:#0400; 	mso-fareast-language:#0400; 	mso-bidi-
 language:#0400;} </style> <![endif]-->  <p class="MsoNormal"><strong>CENTRO
  CULTURALE AVERROE&#39;</strong></p>  <p class="MsoNormal">&nbsp;</p>  <p c
 lass="MsoNormal">&nbsp;</p>  <p class="MsoNormal">IN OCCASIONE DELLA </p><p
  class="MsoNormal">GIORNATA MONDIALE CONTRO LA VIOLENZA SULLE DONNE </p>  <
 p class="MsoNormal">&nbsp;</p>  <p class="MsoNormal">L&#39;Associazione ACM
 ID-DONNA Onlus</p>  <p class="MsoNormal">&nbsp;</p>  <p class="MsoNormal">O
 rganizza dal 25 Novembre al 3 Dicembre 2008</p>  <p class="MsoNormal"><stro
 ng>La Settimana della Donna</strong></p>  <p class="MsoNormal">&nbsp;</p>  
 <p class="MsoNormal">&nbsp;</p>  <p class="MsoNormal"><strong>PROGRAMMA</st
 rong></p>  <p class="MsoNormal">&nbsp;</p>  <p class="MsoNormal"><strong>25
  Novembre</strong></p>  <p class="MsoNormal">&nbsp;</p>  <p class="MsoNorma
 l"><strong>Ore 17.30 </strong></p>  <p class="MsoNormal">Le donne afghane s
 i raccontano</p>  <p class="MsoNormal">&nbsp;</p>  <p class="MsoNormal">Inc
 ontro con Nassima Rahmani,</p>  <p class="MsoNormal">Resp. ActionAid per di
 ritti donne in Afghanistan.</p>  <p class="MsoNormal">Modera Hamza Boccolin
 i (Aki-Adnkronos)</p>  <p class="MsoNormal">&nbsp;</p>  <p class="MsoNormal
 "><strong>Ore 18.30 </strong></p>  <p class="MsoNormal">Figlie di Sherazade
 </p>  <p class="MsoNormal">&nbsp;</p>  <p class="MsoNormal">Dibattito con l
 e attrici Chiara</p>  <p class="MsoNormal">Casarico e Tiziana Scrocca.</p> 
  <p class="MsoNormal">Proiezione fotografie dello</p>  <p class="MsoNormal"
 >spettacolo a cura della fotografa</p>  <p class="MsoNormal">Franca D&rsquo
 ;Angelo.</p>  <p class="MsoNormal">&nbsp;</p>  <p class="MsoNormal"><strong
 >26 Novembre</strong></p>  <p class="MsoNormal">&nbsp;</p>  <p class="MsoNo
 rmal"><strong>Ore 16.30 </strong></p>  <p class="MsoNormal">Donne Mecenati 
 nell&#39;Arte Islamica</p>  <p class="MsoNormal">&nbsp;</p>  <p class="MsoN
 ormal">Dibattito a cura della Prof.ssa Dalu</p>  <p class="MsoNormal">Jones
 , storica di arte islamica.</p>  <p class="MsoNormal">Modera Flavia Amabile
 , giornalista</p>  <p class="MsoNormal">La Stampa.</p>  <p class="MsoNormal
 ">Seguir&agrave; Dimostrazione del Tatuaggio</p>  <p class="MsoNormal">con 
 l&#39;HENNE&#39;.</p>  <p class="MsoNormal">&nbsp;</p>  <p class="MsoNormal
 "><strong>27 Novembre</strong></p>  <p class="MsoNormal">&nbsp;</p>  <p cla
 ss="MsoNormal"><strong>Ore 16.30 </strong></p>  <p class="MsoNormal">Integr
 azione al Femminile</p>  <p class="MsoNormal">&nbsp;</p>  <p class="MsoNorm
 al">Dibattito con Prof.ssa Isabella Rauti, Capo</p>  <p class="MsoNormal">D
 ipartimento Pari Opportunit&agrave;, Patrizia Patrizi,</p>  <p class="MsoNo
 rmal">Resp. Pari Opportunit&agrave; presso il Comune di Roma</p>  <p class=
 "MsoNormal">e Keda Kaceli, dott.ssa in Scienze Internazionali,</p>  <p clas
 s="MsoNormal">esponente Comunit&agrave; Albanese.</p>  <p class="MsoNormal"
 >&nbsp;</p>  <p class="MsoNormal">&nbsp;</p>  <p class="MsoNormal"><strong>
 28 Novembre</strong></p>  <p class="MsoNormal">&nbsp;</p>  <p class="MsoNor
 mal"><strong>Ore 16.30 </strong></p>  <p class="MsoNormal">Presentazione &l
 dquo; Stelle Cadenti&rdquo;</p>  <p class="MsoNormal">&nbsp;</p>  <p class=
 "MsoNormal">Libro di poesie di Fabrizia</p>  <p class="MsoNormal">Bientines
 i, &ldquo;Stelle Cadenti&rdquo;, modera</p>  <p class="MsoNormal">il profes
 sore di Letteratura Italiana</p>  <p class="MsoNormal">Ettore Catalano.</p>
   <p class="MsoNormal">&nbsp;</p>  <p class="MsoNormal"><strong>1 Dicembre<
 /strong></p>  <p class="MsoNormal">&nbsp;</p>  <p class="MsoNormal"><strong
 >Ore 16.00 </strong></p>  <p class="MsoNormal">proiezione del film &ldquo;C
 aramel&rdquo;</p>  <p class="MsoNormal">&nbsp;</p>  <p class="MsoNormal">di
  Nadine Labaki , Ospite d&#39;Onore.</p>  <p class="MsoNormal">Seguir&agrav
 e; dibattito con Ginella Vocca director del</p>  <p class="MsoNormal">Med F
 ilm Festival, Emilio Casalini,</p>  <p class="MsoNormal">giornalista Rai, R
 achid Benhaj</p>  <p class="MsoNormal">Regista Algerino e Giulia Bonassi</p
 >  <p class="MsoNormal">Interviene Roger Bou Chahine,</p>  <p class="MsoNor
 mal">esponente della Comunit&agrave; Libanese.</p>  <p class="MsoNormal">&n
 bsp;</p>  <p class="MsoNormal"><strong>2 Dicembre</strong></p>  <p class="M
 soNormal">&nbsp;</p>  <p class="MsoNormal"><strong>Ore 17.30 </strong></p> 
  <p class="MsoNormal">Cous-cous Letterario</p>  <p class="MsoNormal">&nbsp;
 </p>  <p class="MsoNormal">Presentazione Libro di Alberto</p>  <p class="Ms
 oNormal">Gentili,&quot;Liberami amore&quot;.</p>  <p class="MsoNormal">Mode
 ra la Dott.ssa Karima Moual,</p>  <p class="MsoNormal">giornalista di Repub
 blica.</p>  <p class="MsoNormal">Mostra fotografica della fotografa</p>  <p
  class="MsoNormal">marocchina Asma Essouni.</p>  <p class="MsoNormal">Degus
 tazione di Couscous del Marocco</p>  <p class="MsoNormal">&nbsp;</p>  <p cl
 ass="MsoNormal"><strong>3 Dicembre</strong></p>  <p class="MsoNormal">&nbsp
 ;</p>  <p class="MsoNormal"><strong>Ore 17.30 </strong></p>  <p class="MsoN
 ormal">L&#39; Italia &egrave; razzista?</p>  <p class="MsoNormal">&nbsp;</p
 >  <p class="MsoNormal">Interviene Il Dott. Kobla Bedel , Professore di</p>
   <p class="MsoNormal">Sociologia presso l&#39;Universit&agrave; di Trieste
 , Sergio</p>  <p class="MsoNormal">Talamo giornalista Il Messaggero e il Qu
 otidiano</p>  <p class="MsoNormal">della Puglia , On. Marco Minniti (PD), O
 n. Isidoro</p>  <p class="MsoNormal">Gottardo (PDL).</p>  <p class="MsoNorm
 al">&nbsp;</p>  <p class="MsoNormal"><strong>Per info e Prenotazioni</stron
 g></p>  <p class="MsoNormal"><span id="cloak60971">Questo indirizzo email è
  protetto dagli spambots. È necessario abilitare JavaScript per vederlo.</s
 pan><script type='text/javascript'>
 //<!--
 document.getElementById('cloak
 60971').innerHTML = '';
 var prefix = '&#109;a' + 'i&#108;' + '&#116;o';
 v
 ar path = 'hr' + 'ef' + '=';
 var addy60971 = '&#105;nf&#111;' + '&#64;';
 
 addy60971 = addy60971 + '&#97;cm&#105;d-d&#111;nn&#97;' + '&#46;' + '&#105;
 t';
 document.getElementById('cloak60971').innerHTML += '<a ' + path + '\''
  + prefix + ':' + addy60971 + '\'>' +addy60971+'<\/a>';
 //-->
 </script> w
 ww.acmid-donna.it</p>  <p class="MsoNormal">Tel: 064742387 Fax: 0647885485<
 /p>  <p class="MsoNormal">&nbsp;</p>  <p class="MsoNormal"><strong>presso:<
 /strong> Via della Polveriera , 14 00184 Roma</p>  
DTSTAMP:20260420T102858Z
DTSTART;TZID=Europe/Rome;VALUE=DATE:20081125
DTEND;TZID=Europe/Rome;VALUE=DATE:20081126
SEQUENCE:0
TRANSP:OPAQUE
END:VEVENT
END:VCALENDAR