BEGIN:VCALENDAR
VERSION:2.0
PRODID:-//jEvents 2.0 for Joomla//EN
CALSCALE:GREGORIAN
METHOD:PUBLISH
BEGIN:VTIMEZONE
TZID:Europe/Rome
BEGIN:STANDARD
DTSTART:20071128T080000
RDATE:20080330T030000
TZOFFSETFROM:+0200
TZOFFSETTO:+0100
TZNAME:Europe/Rome CET
END:STANDARD
BEGIN:STANDARD
DTSTART:20081026T020000
RDATE:20090329T030000
TZOFFSETFROM:+0200
TZOFFSETTO:+0100
TZNAME:Europe/Rome CET
END:STANDARD
BEGIN:STANDARD
DTSTART:20091025T020000
RDATE:20100328T030000
TZOFFSETFROM:+0200
TZOFFSETTO:+0100
TZNAME:Europe/Rome CET
END:STANDARD
BEGIN:STANDARD
DTSTART:20101031T020000
RDATE:20110327T030000
TZOFFSETFROM:+0200
TZOFFSETTO:+0100
TZNAME:Europe/Rome CET
END:STANDARD
BEGIN:STANDARD
DTSTART:20111030T020000
RDATE:20120325T030000
TZOFFSETFROM:+0200
TZOFFSETTO:+0100
TZNAME:Europe/Rome CET
END:STANDARD
BEGIN:STANDARD
DTSTART:20121028T020000
RDATE:20130331T030000
TZOFFSETFROM:+0200
TZOFFSETTO:+0100
TZNAME:Europe/Rome CET
END:STANDARD
BEGIN:STANDARD
DTSTART:20131027T020000
RDATE:20140330T030000
TZOFFSETFROM:+0200
TZOFFSETTO:+0100
TZNAME:Europe/Rome CET
END:STANDARD
BEGIN:STANDARD
DTSTART:20141026T020000
RDATE:20150329T030000
TZOFFSETFROM:+0200
TZOFFSETTO:+0100
TZNAME:Europe/Rome CET
END:STANDARD
BEGIN:STANDARD
DTSTART:20151025T020000
RDATE:20160327T030000
TZOFFSETFROM:+0200
TZOFFSETTO:+0100
TZNAME:Europe/Rome CET
END:STANDARD
BEGIN:STANDARD
DTSTART:20161030T020000
RDATE:20170326T030000
TZOFFSETFROM:+0200
TZOFFSETTO:+0100
TZNAME:Europe/Rome CET
END:STANDARD
BEGIN:STANDARD
DTSTART:20171029T020000
RDATE:20180325T030000
TZOFFSETFROM:+0200
TZOFFSETTO:+0100
TZNAME:Europe/Rome CET
END:STANDARD
BEGIN:STANDARD
DTSTART:20181028T020000
RDATE:20190331T030000
TZOFFSETFROM:+0200
TZOFFSETTO:+0100
TZNAME:Europe/Rome CET
END:STANDARD
BEGIN:STANDARD
DTSTART:20191027T020000
RDATE:20200329T030000
TZOFFSETFROM:+0200
TZOFFSETTO:+0100
TZNAME:Europe/Rome CET
END:STANDARD
BEGIN:STANDARD
DTSTART:20201025T020000
RDATE:20210328T030000
TZOFFSETFROM:+0200
TZOFFSETTO:+0100
TZNAME:Europe/Rome CET
END:STANDARD
BEGIN:STANDARD
DTSTART:20211031T020000
RDATE:20220327T030000
TZOFFSETFROM:+0200
TZOFFSETTO:+0100
TZNAME:Europe/Rome CET
END:STANDARD
BEGIN:STANDARD
DTSTART:20221030T020000
RDATE:20230326T030000
TZOFFSETFROM:+0200
TZOFFSETTO:+0100
TZNAME:Europe/Rome CET
END:STANDARD
BEGIN:STANDARD
DTSTART:20231029T020000
RDATE:20240331T030000
TZOFFSETFROM:+0200
TZOFFSETTO:+0100
TZNAME:Europe/Rome CET
END:STANDARD
BEGIN:STANDARD
DTSTART:20241027T020000
RDATE:20250330T030000
TZOFFSETFROM:+0200
TZOFFSETTO:+0100
TZNAME:Europe/Rome CET
END:STANDARD
BEGIN:STANDARD
DTSTART:20251026T020000
RDATE:20260329T030000
TZOFFSETFROM:+0200
TZOFFSETTO:+0100
TZNAME:Europe/Rome CET
END:STANDARD
BEGIN:STANDARD
DTSTART:20261025T020000
RDATE:20270328T030000
TZOFFSETFROM:+0200
TZOFFSETTO:+0100
TZNAME:Europe/Rome CET
END:STANDARD
BEGIN:STANDARD
DTSTART:20271031T020000
RDATE:20280326T030000
TZOFFSETFROM:+0200
TZOFFSETTO:+0100
TZNAME:Europe/Rome CET
END:STANDARD
BEGIN:STANDARD
DTSTART:20281029T020000
RDATE:20290325T030000
TZOFFSETFROM:+0200
TZOFFSETTO:+0100
TZNAME:Europe/Rome CET
END:STANDARD
BEGIN:STANDARD
DTSTART:20291028T020000
RDATE:20300331T030000
TZOFFSETFROM:+0200
TZOFFSETTO:+0100
TZNAME:Europe/Rome CET
END:STANDARD
BEGIN:STANDARD
DTSTART:20301027T020000
RDATE:20310330T030000
TZOFFSETFROM:+0200
TZOFFSETTO:+0100
TZNAME:Europe/Rome CET
END:STANDARD
BEGIN:STANDARD
DTSTART:20311026T020000
RDATE:20320328T030000
TZOFFSETFROM:+0200
TZOFFSETTO:+0100
TZNAME:Europe/Rome CET
END:STANDARD
BEGIN:STANDARD
DTSTART:20321031T020000
RDATE:20330327T030000
TZOFFSETFROM:+0200
TZOFFSETTO:+0100
TZNAME:Europe/Rome CET
END:STANDARD
BEGIN:STANDARD
DTSTART:20331030T020000
RDATE:20340326T030000
TZOFFSETFROM:+0200
TZOFFSETTO:+0100
TZNAME:Europe/Rome CET
END:STANDARD
BEGIN:STANDARD
DTSTART:20341029T020000
RDATE:20350325T030000
TZOFFSETFROM:+0200
TZOFFSETTO:+0100
TZNAME:Europe/Rome CET
END:STANDARD
BEGIN:STANDARD
DTSTART:20351028T020000
RDATE:20360330T030000
TZOFFSETFROM:+0200
TZOFFSETTO:+0100
TZNAME:Europe/Rome CET
END:STANDARD
BEGIN:STANDARD
DTSTART:20361026T020000
RDATE:20370329T030000
TZOFFSETFROM:+0200
TZOFFSETTO:+0100
TZNAME:Europe/Rome CET
END:STANDARD
BEGIN:STANDARD
DTSTART:20371025T020000
TZOFFSETFROM:+0200
TZOFFSETTO:+0100
TZNAME:Europe/Rome CET
END:STANDARD
BEGIN:DAYLIGHT
DTSTART:20080330T030000
RDATE:20081026T020000
TZOFFSETFROM:+0100
TZOFFSETTO:+0200
TZNAME:Europe/Rome CEST
END:DAYLIGHT
BEGIN:DAYLIGHT
DTSTART:20090329T030000
RDATE:20091025T020000
TZOFFSETFROM:+0100
TZOFFSETTO:+0200
TZNAME:Europe/Rome CEST
END:DAYLIGHT
BEGIN:DAYLIGHT
DTSTART:20100328T030000
RDATE:20101031T020000
TZOFFSETFROM:+0100
TZOFFSETTO:+0200
TZNAME:Europe/Rome CEST
END:DAYLIGHT
BEGIN:DAYLIGHT
DTSTART:20110327T030000
RDATE:20111030T020000
TZOFFSETFROM:+0100
TZOFFSETTO:+0200
TZNAME:Europe/Rome CEST
END:DAYLIGHT
BEGIN:DAYLIGHT
DTSTART:20120325T030000
RDATE:20121028T020000
TZOFFSETFROM:+0100
TZOFFSETTO:+0200
TZNAME:Europe/Rome CEST
END:DAYLIGHT
BEGIN:DAYLIGHT
DTSTART:20130331T030000
RDATE:20131027T020000
TZOFFSETFROM:+0100
TZOFFSETTO:+0200
TZNAME:Europe/Rome CEST
END:DAYLIGHT
BEGIN:DAYLIGHT
DTSTART:20140330T030000
RDATE:20141026T020000
TZOFFSETFROM:+0100
TZOFFSETTO:+0200
TZNAME:Europe/Rome CEST
END:DAYLIGHT
BEGIN:DAYLIGHT
DTSTART:20150329T030000
RDATE:20151025T020000
TZOFFSETFROM:+0100
TZOFFSETTO:+0200
TZNAME:Europe/Rome CEST
END:DAYLIGHT
BEGIN:DAYLIGHT
DTSTART:20160327T030000
RDATE:20161030T020000
TZOFFSETFROM:+0100
TZOFFSETTO:+0200
TZNAME:Europe/Rome CEST
END:DAYLIGHT
BEGIN:DAYLIGHT
DTSTART:20170326T030000
RDATE:20171029T020000
TZOFFSETFROM:+0100
TZOFFSETTO:+0200
TZNAME:Europe/Rome CEST
END:DAYLIGHT
BEGIN:DAYLIGHT
DTSTART:20180325T030000
RDATE:20181028T020000
TZOFFSETFROM:+0100
TZOFFSETTO:+0200
TZNAME:Europe/Rome CEST
END:DAYLIGHT
BEGIN:DAYLIGHT
DTSTART:20190331T030000
RDATE:20191027T020000
TZOFFSETFROM:+0100
TZOFFSETTO:+0200
TZNAME:Europe/Rome CEST
END:DAYLIGHT
BEGIN:DAYLIGHT
DTSTART:20200329T030000
RDATE:20201025T020000
TZOFFSETFROM:+0100
TZOFFSETTO:+0200
TZNAME:Europe/Rome CEST
END:DAYLIGHT
BEGIN:DAYLIGHT
DTSTART:20210328T030000
RDATE:20211031T020000
TZOFFSETFROM:+0100
TZOFFSETTO:+0200
TZNAME:Europe/Rome CEST
END:DAYLIGHT
BEGIN:DAYLIGHT
DTSTART:20220327T030000
RDATE:20221030T020000
TZOFFSETFROM:+0100
TZOFFSETTO:+0200
TZNAME:Europe/Rome CEST
END:DAYLIGHT
BEGIN:DAYLIGHT
DTSTART:20230326T030000
RDATE:20231029T020000
TZOFFSETFROM:+0100
TZOFFSETTO:+0200
TZNAME:Europe/Rome CEST
END:DAYLIGHT
BEGIN:DAYLIGHT
DTSTART:20240331T030000
RDATE:20241027T020000
TZOFFSETFROM:+0100
TZOFFSETTO:+0200
TZNAME:Europe/Rome CEST
END:DAYLIGHT
BEGIN:DAYLIGHT
DTSTART:20250330T030000
RDATE:20251026T020000
TZOFFSETFROM:+0100
TZOFFSETTO:+0200
TZNAME:Europe/Rome CEST
END:DAYLIGHT
BEGIN:DAYLIGHT
DTSTART:20260329T030000
RDATE:20261025T020000
TZOFFSETFROM:+0100
TZOFFSETTO:+0200
TZNAME:Europe/Rome CEST
END:DAYLIGHT
BEGIN:DAYLIGHT
DTSTART:20270328T030000
RDATE:20271031T020000
TZOFFSETFROM:+0100
TZOFFSETTO:+0200
TZNAME:Europe/Rome CEST
END:DAYLIGHT
BEGIN:DAYLIGHT
DTSTART:20280326T030000
RDATE:20281029T020000
TZOFFSETFROM:+0100
TZOFFSETTO:+0200
TZNAME:Europe/Rome CEST
END:DAYLIGHT
BEGIN:DAYLIGHT
DTSTART:20290325T030000
RDATE:20291028T020000
TZOFFSETFROM:+0100
TZOFFSETTO:+0200
TZNAME:Europe/Rome CEST
END:DAYLIGHT
BEGIN:DAYLIGHT
DTSTART:20300331T030000
RDATE:20301027T020000
TZOFFSETFROM:+0100
TZOFFSETTO:+0200
TZNAME:Europe/Rome CEST
END:DAYLIGHT
BEGIN:DAYLIGHT
DTSTART:20310330T030000
RDATE:20311026T020000
TZOFFSETFROM:+0100
TZOFFSETTO:+0200
TZNAME:Europe/Rome CEST
END:DAYLIGHT
BEGIN:DAYLIGHT
DTSTART:20320328T030000
RDATE:20321031T020000
TZOFFSETFROM:+0100
TZOFFSETTO:+0200
TZNAME:Europe/Rome CEST
END:DAYLIGHT
BEGIN:DAYLIGHT
DTSTART:20330327T030000
RDATE:20331030T020000
TZOFFSETFROM:+0100
TZOFFSETTO:+0200
TZNAME:Europe/Rome CEST
END:DAYLIGHT
BEGIN:DAYLIGHT
DTSTART:20340326T030000
RDATE:20341029T020000
TZOFFSETFROM:+0100
TZOFFSETTO:+0200
TZNAME:Europe/Rome CEST
END:DAYLIGHT
BEGIN:DAYLIGHT
DTSTART:20350325T030000
RDATE:20351028T020000
TZOFFSETFROM:+0100
TZOFFSETTO:+0200
TZNAME:Europe/Rome CEST
END:DAYLIGHT
BEGIN:DAYLIGHT
DTSTART:20360330T030000
RDATE:20361026T020000
TZOFFSETFROM:+0100
TZOFFSETTO:+0200
TZNAME:Europe/Rome CEST
END:DAYLIGHT
BEGIN:DAYLIGHT
DTSTART:20370329T030000
RDATE:20371025T020000
TZOFFSETFROM:+0100
TZOFFSETTO:+0200
TZNAME:Europe/Rome CEST
END:DAYLIGHT
END:VTIMEZONE
BEGIN:VEVENT
UID:1429119836evt120
CATEGORIES:.
SUMMARY:28- Integrazione sociale a Roma e scuole di  italiano per migranti
DESCRIPTION;ENCODING=QUOTED-PRINTABLE:<br /><br />giornata seminariale<br /><br /><strong>&quot;Integrazione soci
 ale a Roma e scuole di <br />italiano per migranti&quot;</strong><br /><br 
 /><br /><strong>Roma 28 novembre 2008</strong><br /><br /><br /><strong>pre
 sso:</strong> Sala UNICEF via Palestro, 68<br /><strong>ore</strong> 9.00-1
 4.00<br /><br />&nbsp;<br />Ass. Centro Astalli<br />Ass. Comboniana Serviz
 io Emigranti<br />Asinitas onlus<br />Caritas Diocesana di Roma<br />Casa d
 ei Diritti Sociali Focus<br />Comunit&agrave; di Sant&#39;Egidio<br />Didat
 tica teatro Cotrad<br />Di 28 ce n&#39;&egrave; uno<br />Fed. Chiese Evange
 liche in Italia<br />Forum Comunit&agrave; Straniere<br />Insensinverso<br 
 />Progetto Mediazione Sociale<br />&nbsp;<br />Aderiscono all&#39;iniziativ
 a i Comitati Locali <br />EDA dei Municipi I, V,VI,IX<br /><br />L&rsquo;ap
 prendimento della lingua italiana, per il migrante, &egrave; <br />il primo
  elemento di inclusione e partecipazione sociale, <br />indispensabile per 
 la fruizione dei servizi di base, <br />per l&rsquo;esercizio dei diritti f
 ondamentali, per favorire <br />l&rsquo;incontro con l&rsquo;altro e la cre
 azione di nuove identit&agrave;. <br /><br />L&rsquo;offerta formativa di c
 orsi di italiano, nella capitale, <br />non riesce a stare al passo con una
  domanda crescente, in <br />una citt&agrave; che da dieci anni detiene il 
 primato dell&rsquo;incremento <br />del flusso migratorio.<br />Le principa
 li associazioni di volontariato e del privato sociale <br />che operano in 
 questo campo ne discutono con esponenti politici, <br />amministratori, rap
 presentanti&nbsp; dell&rsquo;universit&agrave; e del mondo della <br />scuo
 la, con le parti sociali, con le comunit&agrave; straniere.<br /><br /><str
 ong>Alla sessione della mattina</strong><br /><br />- Presiede: Fiorella Fa
 rinelli <br />(Presidente del Comitato Scientifico della Scuola Superiore d
 ella P.A.)<br />- Introduce Paolo Morozzo della Rocca&nbsp; (Comunit&agrave
 ; di S. Egidio)<br />- Relazione di Marco Carsetti&nbsp; (Asinitas onlus)<b
 r />- Comunicazione su ricerca statistica: Chiara Peri <br />(Ass. Centro A
 stalli) e Angela Rossi (Progetto Mediazione Sociale)<br /><br />Sono previs
 ti gli interventi di:<br />- Federico Masini&nbsp; (Preside della Facolt&ag
 rave; di Studi Orientali &ndash; <br />Universit&agrave; La Sapienza)<br />
 - Renata Tomei&nbsp; (Comitati Locali EDA dei Municipi I e IX)<br />- Amara
  Lakhous&nbsp; (scrittore)<br /><br />Dopo il Dibattito &egrave; previsto l
 &#39;intervento conclusivo di Franco <br />Pittau (Caritas Migrantes).<br /
 ><br />Sono stati invitati ad intervenire:<br />- Assessore alle politiche 
 scolastiche della Regione Lazio<br />- Miur &ndash; Ufficio Scolastico Regi
 onale del Lazio<br />- Sindaco di Roma<br />- Assessori alle Politiche scol
 astiche e alle Politiche sociali <br />della Provincia e del Comune di Roma
 <br />- Presidenti e Assessori dei Municipi<br />- Docenti dell&rsquo;Unive
 rsit&agrave; La Sapienza<br />- Coordinatori dei Comitati Locali EDA istitu
 iti nei Municipi di Roma<br />- Dirigenti e Docenti del circuito scolastico
  pubblico<br />- Rappresentanze istituzionali e sociali delle Comunit&agrav
 e; straniere<br />- Organizzazioni sindacali<br />- Associazioni di volonta
 riato<br /><br /><strong>Il dibattito terminer&agrave; alle ore 14,00. </st
 rong><br /><br /><strong>Nelpomeriggio, <br />dalle ore 15,00 alle ore 18,0
 0 </strong><br />si svolgeranno due<strong> workshop</strong> sui temi:<br 
 /><br />-&nbsp; Didattica e territorio: per un sistema di rete tra le scuol
 e <br />di italiano per stranieri. Il supporto dei Comitati locali EDA.&nbs
 p; <br />Coordina Augusto Venanzetti&nbsp; (Casa dei Diritti Sociali &ndash
 ; Focus)<br /><br />- Accoglienza e insegnamento dell&rsquo;italiano per mi
 granti: confronto <br />sulle metodologie, la didattica, la sperimentazione
 .&nbsp; <br />Coordina Cecilia Pani (Comunit&agrave; di Sant&rsquo;Egidio).
 <br /><br /><br /><br />------------------------------------------<br /><st
 rong>Info: </strong>333.8040906<br />06.491340&nbsp; <br /><span id="cloak7
 2452">Questo indirizzo email è protetto dagli spambots. È necessario abilit
 are JavaScript per vederlo.</span><script type='text/javascript'>
 //<!--
 
 document.getElementById('cloak72452').innerHTML = '';
 var prefix = '&#109;
 a' + 'i&#108;' + '&#116;o';
 var path = 'hr' + 'ef' + '=';
 var addy72452 =
  'c&#111;m&#117;n&#105;c&#97;z&#105;&#111;n&#101;' + '&#64;';
 addy72452 = 
 addy72452 + 'c&#101;sv' + '&#46;' + '&#111;rg';
 document.getElementById('c
 loak72452').innerHTML += '<a ' + path + '\'' + prefix + ':' + addy72452 + '
 \'>' +addy72452+'<\/a>';
 //-->
 </script><br /><strong><br />contatti</str
 ong><br />Progetto Mediazione Sociale - Esquilino<br />via Mamiani snc<br /
 >00185 Roma<br /><span id="cloak27218">Questo indirizzo email è protetto da
 gli spambots. È necessario abilitare JavaScript per vederlo.</span><script 
 type='text/javascript'>
 //<!--
 document.getElementById('cloak27218').inne
 rHTML = '';
 var prefix = '&#109;a' + 'i&#108;' + '&#116;o';
 var path = 'h
 r' + 'ef' + '=';
 var addy27218 = '&#105;nf&#111;' + '&#64;';
 addy27218 = 
 addy27218 + 'm&#101;d&#105;&#97;z&#105;&#111;n&#101;s&#111;c&#105;&#97;l&#1
 01;' + '&#46;' + '&#111;rg';
 document.getElementById('cloak27218').innerHT
 ML += '<a ' + path + '\'' + prefix + ':' + addy27218 + '\'>' +addy27218+'<\
 /a>';
 //-->
 </script><br />www.mediazionesociale.org<br />tel:&nbsp; 06-4
 4362772<br />cel: 3891116214<br />fax: 06-44362892
DTSTAMP:20260420T133333Z
DTSTART;TZID=Europe/Rome:20081128T080000
DTEND;TZID=Europe/Rome:20081128T170000
SEQUENCE:0
TRANSP:OPAQUE
END:VEVENT
END:VCALENDAR