BEGIN:VCALENDAR
VERSION:2.0
PRODID:-//jEvents 2.0 for Joomla//EN
CALSCALE:GREGORIAN
METHOD:PUBLISH
BEGIN:VTIMEZONE
TZID:Europe/Rome
BEGIN:STANDARD
DTSTART:20080201T080000
RDATE:20080330T030000
TZOFFSETFROM:+0200
TZOFFSETTO:+0100
TZNAME:Europe/Rome CET
END:STANDARD
BEGIN:STANDARD
DTSTART:20081026T020000
RDATE:20090329T030000
TZOFFSETFROM:+0200
TZOFFSETTO:+0100
TZNAME:Europe/Rome CET
END:STANDARD
BEGIN:STANDARD
DTSTART:20091025T020000
RDATE:20100328T030000
TZOFFSETFROM:+0200
TZOFFSETTO:+0100
TZNAME:Europe/Rome CET
END:STANDARD
BEGIN:STANDARD
DTSTART:20101031T020000
RDATE:20110327T030000
TZOFFSETFROM:+0200
TZOFFSETTO:+0100
TZNAME:Europe/Rome CET
END:STANDARD
BEGIN:STANDARD
DTSTART:20111030T020000
RDATE:20120325T030000
TZOFFSETFROM:+0200
TZOFFSETTO:+0100
TZNAME:Europe/Rome CET
END:STANDARD
BEGIN:STANDARD
DTSTART:20121028T020000
RDATE:20130331T030000
TZOFFSETFROM:+0200
TZOFFSETTO:+0100
TZNAME:Europe/Rome CET
END:STANDARD
BEGIN:STANDARD
DTSTART:20131027T020000
RDATE:20140330T030000
TZOFFSETFROM:+0200
TZOFFSETTO:+0100
TZNAME:Europe/Rome CET
END:STANDARD
BEGIN:STANDARD
DTSTART:20141026T020000
RDATE:20150329T030000
TZOFFSETFROM:+0200
TZOFFSETTO:+0100
TZNAME:Europe/Rome CET
END:STANDARD
BEGIN:STANDARD
DTSTART:20151025T020000
RDATE:20160327T030000
TZOFFSETFROM:+0200
TZOFFSETTO:+0100
TZNAME:Europe/Rome CET
END:STANDARD
BEGIN:STANDARD
DTSTART:20161030T020000
RDATE:20170326T030000
TZOFFSETFROM:+0200
TZOFFSETTO:+0100
TZNAME:Europe/Rome CET
END:STANDARD
BEGIN:STANDARD
DTSTART:20171029T020000
RDATE:20180325T030000
TZOFFSETFROM:+0200
TZOFFSETTO:+0100
TZNAME:Europe/Rome CET
END:STANDARD
BEGIN:STANDARD
DTSTART:20181028T020000
RDATE:20190331T030000
TZOFFSETFROM:+0200
TZOFFSETTO:+0100
TZNAME:Europe/Rome CET
END:STANDARD
BEGIN:STANDARD
DTSTART:20191027T020000
RDATE:20200329T030000
TZOFFSETFROM:+0200
TZOFFSETTO:+0100
TZNAME:Europe/Rome CET
END:STANDARD
BEGIN:STANDARD
DTSTART:20201025T020000
RDATE:20210328T030000
TZOFFSETFROM:+0200
TZOFFSETTO:+0100
TZNAME:Europe/Rome CET
END:STANDARD
BEGIN:STANDARD
DTSTART:20211031T020000
RDATE:20220327T030000
TZOFFSETFROM:+0200
TZOFFSETTO:+0100
TZNAME:Europe/Rome CET
END:STANDARD
BEGIN:STANDARD
DTSTART:20221030T020000
RDATE:20230326T030000
TZOFFSETFROM:+0200
TZOFFSETTO:+0100
TZNAME:Europe/Rome CET
END:STANDARD
BEGIN:STANDARD
DTSTART:20231029T020000
RDATE:20240331T030000
TZOFFSETFROM:+0200
TZOFFSETTO:+0100
TZNAME:Europe/Rome CET
END:STANDARD
BEGIN:STANDARD
DTSTART:20241027T020000
RDATE:20250330T030000
TZOFFSETFROM:+0200
TZOFFSETTO:+0100
TZNAME:Europe/Rome CET
END:STANDARD
BEGIN:STANDARD
DTSTART:20251026T020000
RDATE:20260329T030000
TZOFFSETFROM:+0200
TZOFFSETTO:+0100
TZNAME:Europe/Rome CET
END:STANDARD
BEGIN:STANDARD
DTSTART:20261025T020000
RDATE:20270328T030000
TZOFFSETFROM:+0200
TZOFFSETTO:+0100
TZNAME:Europe/Rome CET
END:STANDARD
BEGIN:STANDARD
DTSTART:20271031T020000
RDATE:20280326T030000
TZOFFSETFROM:+0200
TZOFFSETTO:+0100
TZNAME:Europe/Rome CET
END:STANDARD
BEGIN:STANDARD
DTSTART:20281029T020000
RDATE:20290325T030000
TZOFFSETFROM:+0200
TZOFFSETTO:+0100
TZNAME:Europe/Rome CET
END:STANDARD
BEGIN:STANDARD
DTSTART:20291028T020000
RDATE:20300331T030000
TZOFFSETFROM:+0200
TZOFFSETTO:+0100
TZNAME:Europe/Rome CET
END:STANDARD
BEGIN:STANDARD
DTSTART:20301027T020000
RDATE:20310330T030000
TZOFFSETFROM:+0200
TZOFFSETTO:+0100
TZNAME:Europe/Rome CET
END:STANDARD
BEGIN:STANDARD
DTSTART:20311026T020000
RDATE:20320328T030000
TZOFFSETFROM:+0200
TZOFFSETTO:+0100
TZNAME:Europe/Rome CET
END:STANDARD
BEGIN:STANDARD
DTSTART:20321031T020000
RDATE:20330327T030000
TZOFFSETFROM:+0200
TZOFFSETTO:+0100
TZNAME:Europe/Rome CET
END:STANDARD
BEGIN:STANDARD
DTSTART:20331030T020000
RDATE:20340326T030000
TZOFFSETFROM:+0200
TZOFFSETTO:+0100
TZNAME:Europe/Rome CET
END:STANDARD
BEGIN:STANDARD
DTSTART:20341029T020000
RDATE:20350325T030000
TZOFFSETFROM:+0200
TZOFFSETTO:+0100
TZNAME:Europe/Rome CET
END:STANDARD
BEGIN:STANDARD
DTSTART:20351028T020000
RDATE:20360330T030000
TZOFFSETFROM:+0200
TZOFFSETTO:+0100
TZNAME:Europe/Rome CET
END:STANDARD
BEGIN:STANDARD
DTSTART:20361026T020000
RDATE:20370329T030000
TZOFFSETFROM:+0200
TZOFFSETTO:+0100
TZNAME:Europe/Rome CET
END:STANDARD
BEGIN:STANDARD
DTSTART:20371025T020000
TZOFFSETFROM:+0200
TZOFFSETTO:+0100
TZNAME:Europe/Rome CET
END:STANDARD
BEGIN:DAYLIGHT
DTSTART:20080330T030000
RDATE:20081026T020000
TZOFFSETFROM:+0100
TZOFFSETTO:+0200
TZNAME:Europe/Rome CEST
END:DAYLIGHT
BEGIN:DAYLIGHT
DTSTART:20090329T030000
RDATE:20091025T020000
TZOFFSETFROM:+0100
TZOFFSETTO:+0200
TZNAME:Europe/Rome CEST
END:DAYLIGHT
BEGIN:DAYLIGHT
DTSTART:20100328T030000
RDATE:20101031T020000
TZOFFSETFROM:+0100
TZOFFSETTO:+0200
TZNAME:Europe/Rome CEST
END:DAYLIGHT
BEGIN:DAYLIGHT
DTSTART:20110327T030000
RDATE:20111030T020000
TZOFFSETFROM:+0100
TZOFFSETTO:+0200
TZNAME:Europe/Rome CEST
END:DAYLIGHT
BEGIN:DAYLIGHT
DTSTART:20120325T030000
RDATE:20121028T020000
TZOFFSETFROM:+0100
TZOFFSETTO:+0200
TZNAME:Europe/Rome CEST
END:DAYLIGHT
BEGIN:DAYLIGHT
DTSTART:20130331T030000
RDATE:20131027T020000
TZOFFSETFROM:+0100
TZOFFSETTO:+0200
TZNAME:Europe/Rome CEST
END:DAYLIGHT
BEGIN:DAYLIGHT
DTSTART:20140330T030000
RDATE:20141026T020000
TZOFFSETFROM:+0100
TZOFFSETTO:+0200
TZNAME:Europe/Rome CEST
END:DAYLIGHT
BEGIN:DAYLIGHT
DTSTART:20150329T030000
RDATE:20151025T020000
TZOFFSETFROM:+0100
TZOFFSETTO:+0200
TZNAME:Europe/Rome CEST
END:DAYLIGHT
BEGIN:DAYLIGHT
DTSTART:20160327T030000
RDATE:20161030T020000
TZOFFSETFROM:+0100
TZOFFSETTO:+0200
TZNAME:Europe/Rome CEST
END:DAYLIGHT
BEGIN:DAYLIGHT
DTSTART:20170326T030000
RDATE:20171029T020000
TZOFFSETFROM:+0100
TZOFFSETTO:+0200
TZNAME:Europe/Rome CEST
END:DAYLIGHT
BEGIN:DAYLIGHT
DTSTART:20180325T030000
RDATE:20181028T020000
TZOFFSETFROM:+0100
TZOFFSETTO:+0200
TZNAME:Europe/Rome CEST
END:DAYLIGHT
BEGIN:DAYLIGHT
DTSTART:20190331T030000
RDATE:20191027T020000
TZOFFSETFROM:+0100
TZOFFSETTO:+0200
TZNAME:Europe/Rome CEST
END:DAYLIGHT
BEGIN:DAYLIGHT
DTSTART:20200329T030000
RDATE:20201025T020000
TZOFFSETFROM:+0100
TZOFFSETTO:+0200
TZNAME:Europe/Rome CEST
END:DAYLIGHT
BEGIN:DAYLIGHT
DTSTART:20210328T030000
RDATE:20211031T020000
TZOFFSETFROM:+0100
TZOFFSETTO:+0200
TZNAME:Europe/Rome CEST
END:DAYLIGHT
BEGIN:DAYLIGHT
DTSTART:20220327T030000
RDATE:20221030T020000
TZOFFSETFROM:+0100
TZOFFSETTO:+0200
TZNAME:Europe/Rome CEST
END:DAYLIGHT
BEGIN:DAYLIGHT
DTSTART:20230326T030000
RDATE:20231029T020000
TZOFFSETFROM:+0100
TZOFFSETTO:+0200
TZNAME:Europe/Rome CEST
END:DAYLIGHT
BEGIN:DAYLIGHT
DTSTART:20240331T030000
RDATE:20241027T020000
TZOFFSETFROM:+0100
TZOFFSETTO:+0200
TZNAME:Europe/Rome CEST
END:DAYLIGHT
BEGIN:DAYLIGHT
DTSTART:20250330T030000
RDATE:20251026T020000
TZOFFSETFROM:+0100
TZOFFSETTO:+0200
TZNAME:Europe/Rome CEST
END:DAYLIGHT
BEGIN:DAYLIGHT
DTSTART:20260329T030000
RDATE:20261025T020000
TZOFFSETFROM:+0100
TZOFFSETTO:+0200
TZNAME:Europe/Rome CEST
END:DAYLIGHT
BEGIN:DAYLIGHT
DTSTART:20270328T030000
RDATE:20271031T020000
TZOFFSETFROM:+0100
TZOFFSETTO:+0200
TZNAME:Europe/Rome CEST
END:DAYLIGHT
BEGIN:DAYLIGHT
DTSTART:20280326T030000
RDATE:20281029T020000
TZOFFSETFROM:+0100
TZOFFSETTO:+0200
TZNAME:Europe/Rome CEST
END:DAYLIGHT
BEGIN:DAYLIGHT
DTSTART:20290325T030000
RDATE:20291028T020000
TZOFFSETFROM:+0100
TZOFFSETTO:+0200
TZNAME:Europe/Rome CEST
END:DAYLIGHT
BEGIN:DAYLIGHT
DTSTART:20300331T030000
RDATE:20301027T020000
TZOFFSETFROM:+0100
TZOFFSETTO:+0200
TZNAME:Europe/Rome CEST
END:DAYLIGHT
BEGIN:DAYLIGHT
DTSTART:20310330T030000
RDATE:20311026T020000
TZOFFSETFROM:+0100
TZOFFSETTO:+0200
TZNAME:Europe/Rome CEST
END:DAYLIGHT
BEGIN:DAYLIGHT
DTSTART:20320328T030000
RDATE:20321031T020000
TZOFFSETFROM:+0100
TZOFFSETTO:+0200
TZNAME:Europe/Rome CEST
END:DAYLIGHT
BEGIN:DAYLIGHT
DTSTART:20330327T030000
RDATE:20331030T020000
TZOFFSETFROM:+0100
TZOFFSETTO:+0200
TZNAME:Europe/Rome CEST
END:DAYLIGHT
BEGIN:DAYLIGHT
DTSTART:20340326T030000
RDATE:20341029T020000
TZOFFSETFROM:+0100
TZOFFSETTO:+0200
TZNAME:Europe/Rome CEST
END:DAYLIGHT
BEGIN:DAYLIGHT
DTSTART:20350325T030000
RDATE:20351028T020000
TZOFFSETFROM:+0100
TZOFFSETTO:+0200
TZNAME:Europe/Rome CEST
END:DAYLIGHT
BEGIN:DAYLIGHT
DTSTART:20360330T030000
RDATE:20361026T020000
TZOFFSETFROM:+0100
TZOFFSETTO:+0200
TZNAME:Europe/Rome CEST
END:DAYLIGHT
BEGIN:DAYLIGHT
DTSTART:20370329T030000
RDATE:20371025T020000
TZOFFSETFROM:+0100
TZOFFSETTO:+0200
TZNAME:Europe/Rome CEST
END:DAYLIGHT
END:VTIMEZONE
BEGIN:VEVENT
UID:1429119841evt190
CATEGORIES:.
SUMMARY:1- Sopralluoghi in Palestina (film &quot;festival&quot;)
DESCRIPTION;ENCODING=QUOTED-PRINTABLE:dall&#39; 8 Febbraio al 19 Aprile\n\nSOPRALLUOGHI IN PALESTINA\nFotogrammi 
 di un conflitto\n\n7 film da Palestina/Israele\n\n\n\n\npresso: ArciArcobal
 eno\nVia Pullino 1 (Garbatella &ndash; Roma)\nwww.arciarcobaleno.it\n\n\n\n
 \n\nDomenica 1 febbraio 2009, ore 19.30\nSerata inaugurale con proiezione d
 i cortometraggi da Palestina/Israele e aperitivo palestinese\n\n&nbsp;\n\n\
 n\nPROGRAMMA\n\n&nbsp;\n\nDomenica 8 febbraio 2009, ore 20.30\nGaza Strip, 
 di James Longley\n\n(USA, 2002, 74&#39;, Sott. Italiano - www.littleredbutt
 on.com/gaza)\nUn documentarista americano, durante l&rsquo;inverno del 2001
 , segue con la sua camera l&rsquo;insieme di eventi e persone che seguono l
 e elezioni del primo ministro israeliano Ariel Sharon nella Striscia di Gaz
 a. L&rsquo;inasprirsi della seconda Intifada, la distruzione delle case, le
  vittime dei bombardamenti, viste attraverso gli occhi del tredicenne Moham
 med Hejazi; fino all&rsquo;incursione di Khan Younis, che segner&agrave; l&
 rsquo;inizio della\nrioccupazione delle aree autonome palestinesi (Operazio
 ne Scudo di Difesa)\n\n\n\nDomenica 15 febbraio 2009, ore 20.30\nThe Iron W
 all, di Mohammed Alatar\n\n(Palestina, 2006, 57&rsquo;, Sott. Italiano - ww
 w.theironwall.ps)\n&ldquo;La colonizzazione sionista nella terra di Israele
  pu&ograve; solo arrestarsi o procedere a dispetto la popolazione nativa pa
 lestinese. Questo significa che pu&ograve; procedere e svilupparsi solo con
  la protezione di una potenza indipendente, dietro un muro di ferro, che i 
 nativi non potranno penetrare.&rdquo; Con queste parole, nel 1923, Vladmir 
 Jabotinsky indicava la strada per la colonizzazione della Palestina. Il mur
 o &egrave; solo una tappa di questo processo.\n\n\n\nDomenica 1 marzo 2009,
  ore 20.30\nOccupation 101, di Sufyan and Abdallah Omeish\n\n(USA/Palestina
 , 2005, 90&rsquo;, Sott. Italiano - www.occupation101.com)\nUn film-documen
 tario sulle cause storiche del conflitto Israelo-Palestinese. La vita sotto
  il controllo militare israeliano, il ruolo degli Stati Uniti nel conflitto
  e gli elementi che ancora ostacolano il raggiungimento di una pace duratur
 a e giusta. A parlare sono Palestinesi, Israeliani ed Internazionali, giorn
 alisti, politici, storici, attivisti, capi religiosi. Tra questi, Ilan Papp
 e, Rashid Khalidi, Noam Chomsky,\nPhyllis Bennis, Jeff Halper, Amira Hass, 
 Dr. Iyad Sarraj, Yael Stien .\n\n\n\nDomenica 15 marzo 2009, ore 20.30\nThe
  Inner Tour (da www.tichofilm.com), di Ra&#39;anan Alexandrovich\n\n(Palest
 ina/Israele, 2001, 97&#39;, Sott. Italiano - www.tichofilm.com/it/02289/30/
 page.html)\nUn viaggio organizzato che attraversa Israele in autobus. I par
 tecipanti sono uomini, donne e bambini palestinesi che risiedono nei Territ
 ori Occupati. Filmato pochi mesi prima dell&#39;inizio della Seconda Intifa
 da, il film &egrave; il racconto di un weekend oltre confine che si trasfor
 ma in un viaggio attraverso il tempo e la nostalgia. I protagonisti sono di
  fatto dei turisti nel loro stesso paese...\n\n\n\nDomenica 22 marzo 2009, 
 ore 20.30\nIl club anti occupazione delle nonnine infuriate, di Iwajla Klin
 ke\n\n(Germania/Italia, 2006, 88&#39;, Sott. Italiano - www.ogniana-film.de
 /it/raginggrannies.html)\nIl film narra le vicende della 76enne Hava e dell
 e sue amiche, quattro ottuagenarie israeliane che hanno in comune non solo 
 et&agrave; e provenienza - l&#39;Europa, abbandonata ai tempi del nazismo p
 er sfuggire all&#39;olocausto- ma anche l&#39;impegno politico nei confront
 i dei palestinesi. Un film non solo sulla politica di occupazione israelian
 a ma anche soprattutto su coloro che un tempo la resero reale, mentre oggi 
 la combattono con tutti i mezzi a loro disposizione, nonostante l&rsquo;et&
 agrave;.\n\n\n\nDomenica 5 aprile 2009, ore 20.30\nArna&rsquo;s children, d
 i Juliano M.Khamis e D.Danniel\n\n(Israele/Palestina/Olanda, 2003, 85&rsquo
 ;, Sott. Italiano - www.arna.info/Arna)\nYussef compie un attacco suicida n
 el 2001. Ashraf viene ucciso dall&#39;esercito israeliano nel 2002. Alaa, c
 apo di un gruppo di resistenti, trova la morte nel 2003. Il regista, che li
  ha filmati quando erano promettenti attori bambini nel gruppo teatrale fon
 dato insieme alla madre Arna, nell&#39;aprile del 2002 torna al campo profu
 ghi di Jenin, per capire che cosa ne &egrave; stato dei ragazzi che ha cono
 sciuto e amato...\n\n\n\nDomenica 19 aprile 2009, ore 20.30\nDispatches: Th
 e Killing Zone, di Sandra Jordan\n\n(Inghilterra, 2003, 49&rsquo;, Sott. It
 aliano - www.ifamericansknew.org/cur_sit/kzone.html)\nUn&#39;amara testimon
 ianza delle condizioni disumane in cui versano gli abitanti della striscia 
 di Gaza, imprigionati tra il fuoco dell&#39;esercito occupante israeliano, 
 la presenza delle colonie, la continua demolizione di case, la violenza ed 
 il silenzio della comunit&agrave; internazionale. Girato in onore degli att
 ivisti Rachel Corrie, Tom Hurdnall ed il cameraman James Miller.\n\n\n\n\n\
 nEntrata: a sottoscrizione libera\n(&egrave; necessaria la tessera ARCI val
 ida per il 2009 &ndash; costo 5&euro;)\n\nInfo: +39 331 7858469&nbsp; - Que
 sto indirizzo email è protetto dagli spambots. È necessario abilitare JavaS
 cript per vederlo.
 //
  \n\norganizzato da:\nAssopace Roma &ndash; Associa
 zione per la Pace &ndash; www.assopace.org\nAssociazione Culturale Aktivame
 nte - www.aktivamente.it\nAssociazione giovani palestinesi Wael Zwaiter &nd
 ash; www.palestinawz.org 
DTSTAMP:20260420T131339Z
DTSTART;TZID=Europe/Rome:20090201T080000
DTEND;TZID=Europe/Rome:20090201T170000
SEQUENCE:0
TRANSP:OPAQUE
END:VEVENT
END:VCALENDAR