BEGIN:VCALENDAR
VERSION:2.0
PRODID:-//jEvents 2.0 for Joomla//EN
CALSCALE:GREGORIAN
METHOD:PUBLISH
BEGIN:VTIMEZONE
TZID:Europe/Rome
BEGIN:STANDARD
DTSTART:20080224T000000
RDATE:20080330T030000
TZOFFSETFROM:+0200
TZOFFSETTO:+0100
TZNAME:Europe/Rome CET
END:STANDARD
BEGIN:STANDARD
DTSTART:20081026T020000
RDATE:20090329T030000
TZOFFSETFROM:+0200
TZOFFSETTO:+0100
TZNAME:Europe/Rome CET
END:STANDARD
BEGIN:STANDARD
DTSTART:20091025T020000
RDATE:20100328T030000
TZOFFSETFROM:+0200
TZOFFSETTO:+0100
TZNAME:Europe/Rome CET
END:STANDARD
BEGIN:STANDARD
DTSTART:20101031T020000
RDATE:20110327T030000
TZOFFSETFROM:+0200
TZOFFSETTO:+0100
TZNAME:Europe/Rome CET
END:STANDARD
BEGIN:STANDARD
DTSTART:20111030T020000
RDATE:20120325T030000
TZOFFSETFROM:+0200
TZOFFSETTO:+0100
TZNAME:Europe/Rome CET
END:STANDARD
BEGIN:STANDARD
DTSTART:20121028T020000
RDATE:20130331T030000
TZOFFSETFROM:+0200
TZOFFSETTO:+0100
TZNAME:Europe/Rome CET
END:STANDARD
BEGIN:STANDARD
DTSTART:20131027T020000
RDATE:20140330T030000
TZOFFSETFROM:+0200
TZOFFSETTO:+0100
TZNAME:Europe/Rome CET
END:STANDARD
BEGIN:STANDARD
DTSTART:20141026T020000
RDATE:20150329T030000
TZOFFSETFROM:+0200
TZOFFSETTO:+0100
TZNAME:Europe/Rome CET
END:STANDARD
BEGIN:STANDARD
DTSTART:20151025T020000
RDATE:20160327T030000
TZOFFSETFROM:+0200
TZOFFSETTO:+0100
TZNAME:Europe/Rome CET
END:STANDARD
BEGIN:STANDARD
DTSTART:20161030T020000
RDATE:20170326T030000
TZOFFSETFROM:+0200
TZOFFSETTO:+0100
TZNAME:Europe/Rome CET
END:STANDARD
BEGIN:STANDARD
DTSTART:20171029T020000
RDATE:20180325T030000
TZOFFSETFROM:+0200
TZOFFSETTO:+0100
TZNAME:Europe/Rome CET
END:STANDARD
BEGIN:STANDARD
DTSTART:20181028T020000
RDATE:20190331T030000
TZOFFSETFROM:+0200
TZOFFSETTO:+0100
TZNAME:Europe/Rome CET
END:STANDARD
BEGIN:STANDARD
DTSTART:20191027T020000
RDATE:20200329T030000
TZOFFSETFROM:+0200
TZOFFSETTO:+0100
TZNAME:Europe/Rome CET
END:STANDARD
BEGIN:STANDARD
DTSTART:20201025T020000
RDATE:20210328T030000
TZOFFSETFROM:+0200
TZOFFSETTO:+0100
TZNAME:Europe/Rome CET
END:STANDARD
BEGIN:STANDARD
DTSTART:20211031T020000
RDATE:20220327T030000
TZOFFSETFROM:+0200
TZOFFSETTO:+0100
TZNAME:Europe/Rome CET
END:STANDARD
BEGIN:STANDARD
DTSTART:20221030T020000
RDATE:20230326T030000
TZOFFSETFROM:+0200
TZOFFSETTO:+0100
TZNAME:Europe/Rome CET
END:STANDARD
BEGIN:STANDARD
DTSTART:20231029T020000
RDATE:20240331T030000
TZOFFSETFROM:+0200
TZOFFSETTO:+0100
TZNAME:Europe/Rome CET
END:STANDARD
BEGIN:STANDARD
DTSTART:20241027T020000
RDATE:20250330T030000
TZOFFSETFROM:+0200
TZOFFSETTO:+0100
TZNAME:Europe/Rome CET
END:STANDARD
BEGIN:STANDARD
DTSTART:20251026T020000
RDATE:20260329T030000
TZOFFSETFROM:+0200
TZOFFSETTO:+0100
TZNAME:Europe/Rome CET
END:STANDARD
BEGIN:STANDARD
DTSTART:20261025T020000
RDATE:20270328T030000
TZOFFSETFROM:+0200
TZOFFSETTO:+0100
TZNAME:Europe/Rome CET
END:STANDARD
BEGIN:STANDARD
DTSTART:20271031T020000
RDATE:20280326T030000
TZOFFSETFROM:+0200
TZOFFSETTO:+0100
TZNAME:Europe/Rome CET
END:STANDARD
BEGIN:STANDARD
DTSTART:20281029T020000
RDATE:20290325T030000
TZOFFSETFROM:+0200
TZOFFSETTO:+0100
TZNAME:Europe/Rome CET
END:STANDARD
BEGIN:STANDARD
DTSTART:20291028T020000
RDATE:20300331T030000
TZOFFSETFROM:+0200
TZOFFSETTO:+0100
TZNAME:Europe/Rome CET
END:STANDARD
BEGIN:STANDARD
DTSTART:20301027T020000
RDATE:20310330T030000
TZOFFSETFROM:+0200
TZOFFSETTO:+0100
TZNAME:Europe/Rome CET
END:STANDARD
BEGIN:STANDARD
DTSTART:20311026T020000
RDATE:20320328T030000
TZOFFSETFROM:+0200
TZOFFSETTO:+0100
TZNAME:Europe/Rome CET
END:STANDARD
BEGIN:STANDARD
DTSTART:20321031T020000
RDATE:20330327T030000
TZOFFSETFROM:+0200
TZOFFSETTO:+0100
TZNAME:Europe/Rome CET
END:STANDARD
BEGIN:STANDARD
DTSTART:20331030T020000
RDATE:20340326T030000
TZOFFSETFROM:+0200
TZOFFSETTO:+0100
TZNAME:Europe/Rome CET
END:STANDARD
BEGIN:STANDARD
DTSTART:20341029T020000
RDATE:20350325T030000
TZOFFSETFROM:+0200
TZOFFSETTO:+0100
TZNAME:Europe/Rome CET
END:STANDARD
BEGIN:STANDARD
DTSTART:20351028T020000
RDATE:20360330T030000
TZOFFSETFROM:+0200
TZOFFSETTO:+0100
TZNAME:Europe/Rome CET
END:STANDARD
BEGIN:STANDARD
DTSTART:20361026T020000
RDATE:20370329T030000
TZOFFSETFROM:+0200
TZOFFSETTO:+0100
TZNAME:Europe/Rome CET
END:STANDARD
BEGIN:STANDARD
DTSTART:20371025T020000
TZOFFSETFROM:+0200
TZOFFSETTO:+0100
TZNAME:Europe/Rome CET
END:STANDARD
BEGIN:DAYLIGHT
DTSTART:20080330T030000
RDATE:20081026T020000
TZOFFSETFROM:+0100
TZOFFSETTO:+0200
TZNAME:Europe/Rome CEST
END:DAYLIGHT
BEGIN:DAYLIGHT
DTSTART:20090329T030000
RDATE:20091025T020000
TZOFFSETFROM:+0100
TZOFFSETTO:+0200
TZNAME:Europe/Rome CEST
END:DAYLIGHT
BEGIN:DAYLIGHT
DTSTART:20100328T030000
RDATE:20101031T020000
TZOFFSETFROM:+0100
TZOFFSETTO:+0200
TZNAME:Europe/Rome CEST
END:DAYLIGHT
BEGIN:DAYLIGHT
DTSTART:20110327T030000
RDATE:20111030T020000
TZOFFSETFROM:+0100
TZOFFSETTO:+0200
TZNAME:Europe/Rome CEST
END:DAYLIGHT
BEGIN:DAYLIGHT
DTSTART:20120325T030000
RDATE:20121028T020000
TZOFFSETFROM:+0100
TZOFFSETTO:+0200
TZNAME:Europe/Rome CEST
END:DAYLIGHT
BEGIN:DAYLIGHT
DTSTART:20130331T030000
RDATE:20131027T020000
TZOFFSETFROM:+0100
TZOFFSETTO:+0200
TZNAME:Europe/Rome CEST
END:DAYLIGHT
BEGIN:DAYLIGHT
DTSTART:20140330T030000
RDATE:20141026T020000
TZOFFSETFROM:+0100
TZOFFSETTO:+0200
TZNAME:Europe/Rome CEST
END:DAYLIGHT
BEGIN:DAYLIGHT
DTSTART:20150329T030000
RDATE:20151025T020000
TZOFFSETFROM:+0100
TZOFFSETTO:+0200
TZNAME:Europe/Rome CEST
END:DAYLIGHT
BEGIN:DAYLIGHT
DTSTART:20160327T030000
RDATE:20161030T020000
TZOFFSETFROM:+0100
TZOFFSETTO:+0200
TZNAME:Europe/Rome CEST
END:DAYLIGHT
BEGIN:DAYLIGHT
DTSTART:20170326T030000
RDATE:20171029T020000
TZOFFSETFROM:+0100
TZOFFSETTO:+0200
TZNAME:Europe/Rome CEST
END:DAYLIGHT
BEGIN:DAYLIGHT
DTSTART:20180325T030000
RDATE:20181028T020000
TZOFFSETFROM:+0100
TZOFFSETTO:+0200
TZNAME:Europe/Rome CEST
END:DAYLIGHT
BEGIN:DAYLIGHT
DTSTART:20190331T030000
RDATE:20191027T020000
TZOFFSETFROM:+0100
TZOFFSETTO:+0200
TZNAME:Europe/Rome CEST
END:DAYLIGHT
BEGIN:DAYLIGHT
DTSTART:20200329T030000
RDATE:20201025T020000
TZOFFSETFROM:+0100
TZOFFSETTO:+0200
TZNAME:Europe/Rome CEST
END:DAYLIGHT
BEGIN:DAYLIGHT
DTSTART:20210328T030000
RDATE:20211031T020000
TZOFFSETFROM:+0100
TZOFFSETTO:+0200
TZNAME:Europe/Rome CEST
END:DAYLIGHT
BEGIN:DAYLIGHT
DTSTART:20220327T030000
RDATE:20221030T020000
TZOFFSETFROM:+0100
TZOFFSETTO:+0200
TZNAME:Europe/Rome CEST
END:DAYLIGHT
BEGIN:DAYLIGHT
DTSTART:20230326T030000
RDATE:20231029T020000
TZOFFSETFROM:+0100
TZOFFSETTO:+0200
TZNAME:Europe/Rome CEST
END:DAYLIGHT
BEGIN:DAYLIGHT
DTSTART:20240331T030000
RDATE:20241027T020000
TZOFFSETFROM:+0100
TZOFFSETTO:+0200
TZNAME:Europe/Rome CEST
END:DAYLIGHT
BEGIN:DAYLIGHT
DTSTART:20250330T030000
RDATE:20251026T020000
TZOFFSETFROM:+0100
TZOFFSETTO:+0200
TZNAME:Europe/Rome CEST
END:DAYLIGHT
BEGIN:DAYLIGHT
DTSTART:20260329T030000
RDATE:20261025T020000
TZOFFSETFROM:+0100
TZOFFSETTO:+0200
TZNAME:Europe/Rome CEST
END:DAYLIGHT
BEGIN:DAYLIGHT
DTSTART:20270328T030000
RDATE:20271031T020000
TZOFFSETFROM:+0100
TZOFFSETTO:+0200
TZNAME:Europe/Rome CEST
END:DAYLIGHT
BEGIN:DAYLIGHT
DTSTART:20280326T030000
RDATE:20281029T020000
TZOFFSETFROM:+0100
TZOFFSETTO:+0200
TZNAME:Europe/Rome CEST
END:DAYLIGHT
BEGIN:DAYLIGHT
DTSTART:20290325T030000
RDATE:20291028T020000
TZOFFSETFROM:+0100
TZOFFSETTO:+0200
TZNAME:Europe/Rome CEST
END:DAYLIGHT
BEGIN:DAYLIGHT
DTSTART:20300331T030000
RDATE:20301027T020000
TZOFFSETFROM:+0100
TZOFFSETTO:+0200
TZNAME:Europe/Rome CEST
END:DAYLIGHT
BEGIN:DAYLIGHT
DTSTART:20310330T030000
RDATE:20311026T020000
TZOFFSETFROM:+0100
TZOFFSETTO:+0200
TZNAME:Europe/Rome CEST
END:DAYLIGHT
BEGIN:DAYLIGHT
DTSTART:20320328T030000
RDATE:20321031T020000
TZOFFSETFROM:+0100
TZOFFSETTO:+0200
TZNAME:Europe/Rome CEST
END:DAYLIGHT
BEGIN:DAYLIGHT
DTSTART:20330327T030000
RDATE:20331030T020000
TZOFFSETFROM:+0100
TZOFFSETTO:+0200
TZNAME:Europe/Rome CEST
END:DAYLIGHT
BEGIN:DAYLIGHT
DTSTART:20340326T030000
RDATE:20341029T020000
TZOFFSETFROM:+0100
TZOFFSETTO:+0200
TZNAME:Europe/Rome CEST
END:DAYLIGHT
BEGIN:DAYLIGHT
DTSTART:20350325T030000
RDATE:20351028T020000
TZOFFSETFROM:+0100
TZOFFSETTO:+0200
TZNAME:Europe/Rome CEST
END:DAYLIGHT
BEGIN:DAYLIGHT
DTSTART:20360330T030000
RDATE:20361026T020000
TZOFFSETFROM:+0100
TZOFFSETTO:+0200
TZNAME:Europe/Rome CEST
END:DAYLIGHT
BEGIN:DAYLIGHT
DTSTART:20370329T030000
RDATE:20371025T020000
TZOFFSETFROM:+0100
TZOFFSETTO:+0200
TZNAME:Europe/Rome CEST
END:DAYLIGHT
END:VTIMEZONE
BEGIN:VEVENT
UID:1429119842evt216
CATEGORIES:.
SUMMARY:24- Chiudi gli occhi (Reading Un ponte per)
DESCRIPTION;ENCODING=QUOTED-PRINTABLE:<p><strong>Un Ponte per.. in collaborazione con Apollo 11</strong><br /><br
  />presenta<br /><br /><br /><br /><br /><u><strong>Chiudi gli occhi</stron
 g></u><br /><br /><strong>di Fuad Aziz</strong><br />illustrazioni di Fuad 
 Aziz<br /><br /><br /><br />MARTEDI&rsquo; 24 FEBBRAIO 2009, <br /><strong>
 ore: </strong>17:30<br /><strong>presso:</strong> PICCOLO APOLLO, <br />c/o
  ITIS G. GALILEI, ROMA<br />VIA CONTE VERDE 51 - TEL. 067003901<br /><br />
 <br /><br />alla presenza <br />dell&rsquo;autore e <br />del&nbsp; &ldquo;
  Piccolo coro di Piazza Vittorio &ldquo;<br /><br />dolcetti e bevande rend
 eranno pi&ugrave; dolce l&rsquo;incontro<br /><br /><br /><strong>L&#39;Aut
 ore</strong><br />Nato ad Arbil (Kurdistan Iracheno) nel 1951, diplomato al
 l&#39;Accademia di Belle Arti di Baghdad nel 1974 e all&#39;Accademia di Be
 lle Arti di Firenze nel 1977, Fuad Aziz vive e lavora a Firenze.<br />Autor
 e di numerose mostre personali e collettive in Italia ed all&#39;estero e d
 i opere permanenti in varie citt&agrave;, si occupa da alcuni anni di illus
 trazioni di libri per i ragazzi.<br />&Egrave; tra i fondatori e membro del
 l&#39;associazione &laquo;Biblioteca di Pace&raquo; di Firenze. Si occupa d
 ella &quot;cultura della fiaba&quot;, facendone oggetto di studio e di appr
 ofondimento, come importante strumento di comunicazione e di scambio cultur
 ale.<br /><br /><br /><strong>sinossi del libro:</strong><br />Un bambino n
 ord-africano accompagna, in un viaggio fantastico, <br />un bambino europeo
  nel proprio paese. Gli mostrer&agrave; cos&igrave; quello che c&rsquo;&egr
 ave;. E quello che non c&rsquo;&egrave;... Un bell&rsquo;albo sulle differe
 nti condizioni di vita nel Nord e nel Sud del mondo. In appendice <br />un 
 approfondimento sul problema dell&rsquo;acqua nel nostro pianeta.<br />Un l
 ibro della SINNOS editrice, collana FIABALANDIA intercultura.<br /><br /><b
 r /><br /><br /><br /><u><br /><strong>Gli altri reading di Un ponte per..<
 /strong><br /><br /><br />&nbsp;&nbsp;&nbsp; <strong>Gli appuntamenti</stro
 ng></u><br /><br />&nbsp;&nbsp;&nbsp; <strong>24/02 </strong><br />Iraq- Fo
 uad Aziz: <br /><strong>&ldquo;Chiudi gli occhi&rdquo;</strong>- Sinnos Edi
 tore<br /><br /><br />&nbsp;&nbsp;&nbsp;<strong> 24/03 </strong><br />Bosni
 a- Elvira Mujcic: <br /><strong>&ldquo;Al di l&agrave; del caos&rdquo;</str
 ong>- Infinito Edizione<br /><br /><br />&nbsp;&nbsp;<strong>&nbsp; 14/04 <
 /strong><br />Algeria &ndash; Karim Metref: <br /><strong>&ldquo; Tagliato 
 per L&rsquo;esilio&rdquo;</strong>- Mangrovie Edizioni<br /><br />&nbsp;&nb
 sp;<strong>&nbsp; 21/04</strong><br />Serbia - Dusan Velickovic:<br /><stro
 ng>&ldquo; Serbia Hardcore&rdquo;</strong> &ndash; Zandonai Edizioni<br /><
 br /><br />&nbsp;&nbsp;&nbsp; MAGGIO SPECIALE FIERA DEL LIBRO DI TORINO<br 
 />&nbsp;&nbsp;&nbsp; 2 appuntamenti con L&rsquo;Egitto:<br /><br />&nbsp;&n
 bsp;&nbsp;<strong> 12/05 </strong><br />Egitto- Nawal As-Sadawi: <br /><str
 ong>&ldquo; L&rsquo;amore ai tempi del petrolio&rdquo; </strong>Il Sirente 
 edizioni<br />&nbsp;<br />&nbsp;&nbsp; <strong>data da definire </strong><b
 r />Egitto- Bahaa Taher: <br /><strong>&ldquo;Amore in esilio&rdquo;</stron
 g> Ilisso Editore<br /><br /><strong>&nbsp;&nbsp;&nbsp; 30/06 </strong><br 
 />Palestina- Mahmoud Darwish: <br /><strong>&ldquo;La mia ferita &egrave; l
 ampada ad olio&rdquo;</strong> a cura di Francesca M. Corrao<br /><br /><br
  /><br /><br />&nbsp;&nbsp;&nbsp;<u><strong> L&rsquo;idea</strong></u><br /
 ><br />&nbsp;&nbsp;&nbsp; Sette date in cui &ldquo;Un Ponte per&hellip;&rdq
 uo; ci presenta sette diversi autori provenienti dal Medio Oriente, dal Nor
 d Africa e dall&rsquo; <br />ex &ndash; Jugoslavia,&nbsp; aree in cui &egra
 ve; attiva l&rsquo;associazione con interventi umanitari. L&rsquo;obiettivo
  di questi incontri &egrave; di stimolare un sempre maggiore interesse del 
 pubblico italiano <br />alla culture dei paesi delle aree proposte. <br /><
 br />Questa idea nasce dalla volont&agrave; di raccontare la cultura <br />
 dell&rsquo;altro attraverso la narrazione di importanti frammenti letterari
 .<br />&nbsp;&nbsp;&nbsp; Nessuna societ&agrave; per quanto in crisi pu&ogr
 ave; fare a meno di narrarsi attraverso libri, film, leggende metropolitane
 , barzellette. La parola scritta o pronunciata &egrave; la ricchezza di un 
 popolo.<br />&nbsp;&nbsp;&nbsp; Oggi pi&ugrave; che mai c&rsquo;&egrave; bi
 sogno di qualcuno che racconti: racconti di Paesi, di un legame messo a dur
 a prova, o racconti di altro. Cambiano le modalit&agrave; e la qualit&agrav
 e; del narrare ma il racconto rimane, &egrave; l&rsquo;attivit&agrave; soci
 ale per eccellenza.<br />&nbsp;&nbsp;&nbsp; I paesi presentati ci sembrano 
 spesso lontani ma il flusso sempre crescente di migranti, porta l&rsquo;alt
 ro a diventare il nostro vicino di casa e allora accogliere diventa la paro
 la chiave per vivere in una societ&agrave; degna di essere chiamata tale. A
 ttraverso <br />i reading si vuole accogliere un sentire diverso, puntare u
 n faro su popoli tenuti spesso al buio, dare voce all&rsquo; &ldquo;altro&r
 dquo; rimasto a lungo in silenzio.<br />&nbsp;&nbsp;&nbsp; Ai reading saran
 no sempre presenti gli autori e sar&agrave; un momento per ascoltare ma anc
 he per domandare: approfittando di questi testimoni speciali e dello strume
 nto letterario proveremo a fare un viaggio alla scoperta di paesi lontani, 
 di sonorit&agrave; spesso dimenticate e di gusti mai esplorati.<br />&nbsp;
 &nbsp;&nbsp; Su di un tappeto sonoro, giovani attori o gli autori stessi le
 ggeranno brani tratti dai libri presentati. <br /><br /><strong>Un piccolo 
 aperitivo sar&agrave; offerto prima dell&rsquo;inizio.</strong><br /><br />
 <br /><br />&nbsp;&nbsp;<strong>&nbsp; L&#39;ingresso:</strong> &egrave; co
 me sempre libero, <br />grazie alla tessera Apollo 11 che consente la parte
 cipazione gratuita a tutta la programmazione annuale</p>
DTSTAMP:20260420T132902Z
DTSTART;TZID=Europe/Rome;VALUE=DATE:20090224
DTEND;TZID=Europe/Rome;VALUE=DATE:20090225
SEQUENCE:0
TRANSP:OPAQUE
END:VEVENT
END:VCALENDAR