BEGIN:VCALENDAR
VERSION:2.0
PRODID:-//jEvents 2.0 for Joomla//EN
CALSCALE:GREGORIAN
METHOD:PUBLISH
BEGIN:VTIMEZONE
TZID:Europe/Rome
BEGIN:STANDARD
DTSTART:20070125T100000
RDATE:20070325T030000
TZOFFSETFROM:+0200
TZOFFSETTO:+0100
TZNAME:Europe/Rome CET
END:STANDARD
BEGIN:STANDARD
DTSTART:20071028T020000
RDATE:20080330T030000
TZOFFSETFROM:+0200
TZOFFSETTO:+0100
TZNAME:Europe/Rome CET
END:STANDARD
BEGIN:STANDARD
DTSTART:20081026T020000
RDATE:20090329T030000
TZOFFSETFROM:+0200
TZOFFSETTO:+0100
TZNAME:Europe/Rome CET
END:STANDARD
BEGIN:STANDARD
DTSTART:20091025T020000
RDATE:20100328T030000
TZOFFSETFROM:+0200
TZOFFSETTO:+0100
TZNAME:Europe/Rome CET
END:STANDARD
BEGIN:STANDARD
DTSTART:20101031T020000
RDATE:20110327T030000
TZOFFSETFROM:+0200
TZOFFSETTO:+0100
TZNAME:Europe/Rome CET
END:STANDARD
BEGIN:STANDARD
DTSTART:20111030T020000
RDATE:20120325T030000
TZOFFSETFROM:+0200
TZOFFSETTO:+0100
TZNAME:Europe/Rome CET
END:STANDARD
BEGIN:STANDARD
DTSTART:20121028T020000
RDATE:20130331T030000
TZOFFSETFROM:+0200
TZOFFSETTO:+0100
TZNAME:Europe/Rome CET
END:STANDARD
BEGIN:STANDARD
DTSTART:20131027T020000
RDATE:20140330T030000
TZOFFSETFROM:+0200
TZOFFSETTO:+0100
TZNAME:Europe/Rome CET
END:STANDARD
BEGIN:STANDARD
DTSTART:20141026T020000
RDATE:20150329T030000
TZOFFSETFROM:+0200
TZOFFSETTO:+0100
TZNAME:Europe/Rome CET
END:STANDARD
BEGIN:STANDARD
DTSTART:20151025T020000
RDATE:20160327T030000
TZOFFSETFROM:+0200
TZOFFSETTO:+0100
TZNAME:Europe/Rome CET
END:STANDARD
BEGIN:STANDARD
DTSTART:20161030T020000
RDATE:20170326T030000
TZOFFSETFROM:+0200
TZOFFSETTO:+0100
TZNAME:Europe/Rome CET
END:STANDARD
BEGIN:STANDARD
DTSTART:20171029T020000
RDATE:20180325T030000
TZOFFSETFROM:+0200
TZOFFSETTO:+0100
TZNAME:Europe/Rome CET
END:STANDARD
BEGIN:STANDARD
DTSTART:20181028T020000
RDATE:20190331T030000
TZOFFSETFROM:+0200
TZOFFSETTO:+0100
TZNAME:Europe/Rome CET
END:STANDARD
BEGIN:STANDARD
DTSTART:20191027T020000
RDATE:20200329T030000
TZOFFSETFROM:+0200
TZOFFSETTO:+0100
TZNAME:Europe/Rome CET
END:STANDARD
BEGIN:STANDARD
DTSTART:20201025T020000
RDATE:20210328T030000
TZOFFSETFROM:+0200
TZOFFSETTO:+0100
TZNAME:Europe/Rome CET
END:STANDARD
BEGIN:STANDARD
DTSTART:20211031T020000
RDATE:20220327T030000
TZOFFSETFROM:+0200
TZOFFSETTO:+0100
TZNAME:Europe/Rome CET
END:STANDARD
BEGIN:STANDARD
DTSTART:20221030T020000
RDATE:20230326T030000
TZOFFSETFROM:+0200
TZOFFSETTO:+0100
TZNAME:Europe/Rome CET
END:STANDARD
BEGIN:STANDARD
DTSTART:20231029T020000
RDATE:20240331T030000
TZOFFSETFROM:+0200
TZOFFSETTO:+0100
TZNAME:Europe/Rome CET
END:STANDARD
BEGIN:STANDARD
DTSTART:20241027T020000
RDATE:20250330T030000
TZOFFSETFROM:+0200
TZOFFSETTO:+0100
TZNAME:Europe/Rome CET
END:STANDARD
BEGIN:STANDARD
DTSTART:20251026T020000
RDATE:20260329T030000
TZOFFSETFROM:+0200
TZOFFSETTO:+0100
TZNAME:Europe/Rome CET
END:STANDARD
BEGIN:STANDARD
DTSTART:20261025T020000
RDATE:20270328T030000
TZOFFSETFROM:+0200
TZOFFSETTO:+0100
TZNAME:Europe/Rome CET
END:STANDARD
BEGIN:STANDARD
DTSTART:20271031T020000
RDATE:20280326T030000
TZOFFSETFROM:+0200
TZOFFSETTO:+0100
TZNAME:Europe/Rome CET
END:STANDARD
BEGIN:STANDARD
DTSTART:20281029T020000
RDATE:20290325T030000
TZOFFSETFROM:+0200
TZOFFSETTO:+0100
TZNAME:Europe/Rome CET
END:STANDARD
BEGIN:STANDARD
DTSTART:20291028T020000
RDATE:20300331T030000
TZOFFSETFROM:+0200
TZOFFSETTO:+0100
TZNAME:Europe/Rome CET
END:STANDARD
BEGIN:STANDARD
DTSTART:20301027T020000
RDATE:20310330T030000
TZOFFSETFROM:+0200
TZOFFSETTO:+0100
TZNAME:Europe/Rome CET
END:STANDARD
BEGIN:STANDARD
DTSTART:20311026T020000
RDATE:20320328T030000
TZOFFSETFROM:+0200
TZOFFSETTO:+0100
TZNAME:Europe/Rome CET
END:STANDARD
BEGIN:STANDARD
DTSTART:20321031T020000
RDATE:20330327T030000
TZOFFSETFROM:+0200
TZOFFSETTO:+0100
TZNAME:Europe/Rome CET
END:STANDARD
BEGIN:STANDARD
DTSTART:20331030T020000
RDATE:20340326T030000
TZOFFSETFROM:+0200
TZOFFSETTO:+0100
TZNAME:Europe/Rome CET
END:STANDARD
BEGIN:STANDARD
DTSTART:20341029T020000
RDATE:20350325T030000
TZOFFSETFROM:+0200
TZOFFSETTO:+0100
TZNAME:Europe/Rome CET
END:STANDARD
BEGIN:STANDARD
DTSTART:20351028T020000
RDATE:20360330T030000
TZOFFSETFROM:+0200
TZOFFSETTO:+0100
TZNAME:Europe/Rome CET
END:STANDARD
BEGIN:STANDARD
DTSTART:20361026T020000
RDATE:20370329T030000
TZOFFSETFROM:+0200
TZOFFSETTO:+0100
TZNAME:Europe/Rome CET
END:STANDARD
BEGIN:STANDARD
DTSTART:20371025T020000
TZOFFSETFROM:+0200
TZOFFSETTO:+0100
TZNAME:Europe/Rome CET
END:STANDARD
BEGIN:DAYLIGHT
DTSTART:20070325T030000
RDATE:20071028T020000
TZOFFSETFROM:+0100
TZOFFSETTO:+0200
TZNAME:Europe/Rome CEST
END:DAYLIGHT
BEGIN:DAYLIGHT
DTSTART:20080330T030000
RDATE:20081026T020000
TZOFFSETFROM:+0100
TZOFFSETTO:+0200
TZNAME:Europe/Rome CEST
END:DAYLIGHT
BEGIN:DAYLIGHT
DTSTART:20090329T030000
RDATE:20091025T020000
TZOFFSETFROM:+0100
TZOFFSETTO:+0200
TZNAME:Europe/Rome CEST
END:DAYLIGHT
BEGIN:DAYLIGHT
DTSTART:20100328T030000
RDATE:20101031T020000
TZOFFSETFROM:+0100
TZOFFSETTO:+0200
TZNAME:Europe/Rome CEST
END:DAYLIGHT
BEGIN:DAYLIGHT
DTSTART:20110327T030000
RDATE:20111030T020000
TZOFFSETFROM:+0100
TZOFFSETTO:+0200
TZNAME:Europe/Rome CEST
END:DAYLIGHT
BEGIN:DAYLIGHT
DTSTART:20120325T030000
RDATE:20121028T020000
TZOFFSETFROM:+0100
TZOFFSETTO:+0200
TZNAME:Europe/Rome CEST
END:DAYLIGHT
BEGIN:DAYLIGHT
DTSTART:20130331T030000
RDATE:20131027T020000
TZOFFSETFROM:+0100
TZOFFSETTO:+0200
TZNAME:Europe/Rome CEST
END:DAYLIGHT
BEGIN:DAYLIGHT
DTSTART:20140330T030000
RDATE:20141026T020000
TZOFFSETFROM:+0100
TZOFFSETTO:+0200
TZNAME:Europe/Rome CEST
END:DAYLIGHT
BEGIN:DAYLIGHT
DTSTART:20150329T030000
RDATE:20151025T020000
TZOFFSETFROM:+0100
TZOFFSETTO:+0200
TZNAME:Europe/Rome CEST
END:DAYLIGHT
BEGIN:DAYLIGHT
DTSTART:20160327T030000
RDATE:20161030T020000
TZOFFSETFROM:+0100
TZOFFSETTO:+0200
TZNAME:Europe/Rome CEST
END:DAYLIGHT
BEGIN:DAYLIGHT
DTSTART:20170326T030000
RDATE:20171029T020000
TZOFFSETFROM:+0100
TZOFFSETTO:+0200
TZNAME:Europe/Rome CEST
END:DAYLIGHT
BEGIN:DAYLIGHT
DTSTART:20180325T030000
RDATE:20181028T020000
TZOFFSETFROM:+0100
TZOFFSETTO:+0200
TZNAME:Europe/Rome CEST
END:DAYLIGHT
BEGIN:DAYLIGHT
DTSTART:20190331T030000
RDATE:20191027T020000
TZOFFSETFROM:+0100
TZOFFSETTO:+0200
TZNAME:Europe/Rome CEST
END:DAYLIGHT
BEGIN:DAYLIGHT
DTSTART:20200329T030000
RDATE:20201025T020000
TZOFFSETFROM:+0100
TZOFFSETTO:+0200
TZNAME:Europe/Rome CEST
END:DAYLIGHT
BEGIN:DAYLIGHT
DTSTART:20210328T030000
RDATE:20211031T020000
TZOFFSETFROM:+0100
TZOFFSETTO:+0200
TZNAME:Europe/Rome CEST
END:DAYLIGHT
BEGIN:DAYLIGHT
DTSTART:20220327T030000
RDATE:20221030T020000
TZOFFSETFROM:+0100
TZOFFSETTO:+0200
TZNAME:Europe/Rome CEST
END:DAYLIGHT
BEGIN:DAYLIGHT
DTSTART:20230326T030000
RDATE:20231029T020000
TZOFFSETFROM:+0100
TZOFFSETTO:+0200
TZNAME:Europe/Rome CEST
END:DAYLIGHT
BEGIN:DAYLIGHT
DTSTART:20240331T030000
RDATE:20241027T020000
TZOFFSETFROM:+0100
TZOFFSETTO:+0200
TZNAME:Europe/Rome CEST
END:DAYLIGHT
BEGIN:DAYLIGHT
DTSTART:20250330T030000
RDATE:20251026T020000
TZOFFSETFROM:+0100
TZOFFSETTO:+0200
TZNAME:Europe/Rome CEST
END:DAYLIGHT
BEGIN:DAYLIGHT
DTSTART:20260329T030000
RDATE:20261025T020000
TZOFFSETFROM:+0100
TZOFFSETTO:+0200
TZNAME:Europe/Rome CEST
END:DAYLIGHT
BEGIN:DAYLIGHT
DTSTART:20270328T030000
RDATE:20271031T020000
TZOFFSETFROM:+0100
TZOFFSETTO:+0200
TZNAME:Europe/Rome CEST
END:DAYLIGHT
BEGIN:DAYLIGHT
DTSTART:20280326T030000
RDATE:20281029T020000
TZOFFSETFROM:+0100
TZOFFSETTO:+0200
TZNAME:Europe/Rome CEST
END:DAYLIGHT
BEGIN:DAYLIGHT
DTSTART:20290325T030000
RDATE:20291028T020000
TZOFFSETFROM:+0100
TZOFFSETTO:+0200
TZNAME:Europe/Rome CEST
END:DAYLIGHT
BEGIN:DAYLIGHT
DTSTART:20300331T030000
RDATE:20301027T020000
TZOFFSETFROM:+0100
TZOFFSETTO:+0200
TZNAME:Europe/Rome CEST
END:DAYLIGHT
BEGIN:DAYLIGHT
DTSTART:20310330T030000
RDATE:20311026T020000
TZOFFSETFROM:+0100
TZOFFSETTO:+0200
TZNAME:Europe/Rome CEST
END:DAYLIGHT
BEGIN:DAYLIGHT
DTSTART:20320328T030000
RDATE:20321031T020000
TZOFFSETFROM:+0100
TZOFFSETTO:+0200
TZNAME:Europe/Rome CEST
END:DAYLIGHT
BEGIN:DAYLIGHT
DTSTART:20330327T030000
RDATE:20331030T020000
TZOFFSETFROM:+0100
TZOFFSETTO:+0200
TZNAME:Europe/Rome CEST
END:DAYLIGHT
BEGIN:DAYLIGHT
DTSTART:20340326T030000
RDATE:20341029T020000
TZOFFSETFROM:+0100
TZOFFSETTO:+0200
TZNAME:Europe/Rome CEST
END:DAYLIGHT
BEGIN:DAYLIGHT
DTSTART:20350325T030000
RDATE:20351028T020000
TZOFFSETFROM:+0100
TZOFFSETTO:+0200
TZNAME:Europe/Rome CEST
END:DAYLIGHT
BEGIN:DAYLIGHT
DTSTART:20360330T030000
RDATE:20361026T020000
TZOFFSETFROM:+0100
TZOFFSETTO:+0200
TZNAME:Europe/Rome CEST
END:DAYLIGHT
BEGIN:DAYLIGHT
DTSTART:20370329T030000
RDATE:20371025T020000
TZOFFSETFROM:+0100
TZOFFSETTO:+0200
TZNAME:Europe/Rome CEST
END:DAYLIGHT
END:VTIMEZONE
BEGIN:VEVENT
UID:1429119830evt23
CATEGORIES:.
SUMMARY:26/01-- Giornata internazionale per la fine dell'assedio di Gaza
DESCRIPTION;ENCODING=QUOTED-PRINTABLE:<div><br /></div> <div id="idOWAReplyText14824" dir="ltr"> <div dir="ltr">&
 nbsp;</div></div>  <div id="idOWAReplyText85409" dir="ltr" align="center"><
 font face="Arial" size="2" color="#000000"><strong><span style="text-transf
 orm: uppercase; color: red; font-family: Arial"><font size="3">Luisa Morgan
 tini</font></span></strong></font></div>  <p style="margin: 0cm 0cm 0pt; te
 xt-align: center" class="MsoNormal" align="center"><font face="Arial" size=
 "2" color="#000000"><strong><em><span style="font-family: Arial"><font size
 ="3">Vice Presidente  del Parlamento Europeo</font></span></em></strong></f
 ont></p> <p style="margin: 0cm 0cm 0pt; text-align: center" class="MsoNorma
 l" align="center"><font face="Arial" size="2" color="#000000"><em></em>&nbs
 p;</font></p> <p style="margin: 0cm 0cm 0pt; text-align: center" class="Mso
 Normal" align="center"><span style="color: black; font-family: Arial"><font
  face="Arial" size="2" color="#000000"><font size="3">Partecipa alla </font
 ></font></span></p> <p style="margin: 0cm 0cm 0pt; text-align: center" clas
 s="MsoNormal" align="center"><font face="Arial" size="2" color="#000000">&n
 bsp;</font></p> <p style="margin: 0cm 0cm 0pt; text-align: center" class="M
 soNormal" align="center"><font face="Arial" size="2" color="#000000"><font 
 size="3"><strong><span style="color: black; font-family: Arial">Giornata in
 ternazionale per la fine  dell&#39;assedio di Gaza:</span></strong><span st
 yle="color: black; font-family: Arial">  </span></font></font></p> <p style
 ="margin: 0cm 0cm 0pt; text-align: center" class="MsoNormal" align="center"
 ><font face="Arial" size="2" color="#000000">&nbsp;</font></p> <p style="ma
 rgin: 0cm 0cm 0pt; text-align: center" class="MsoNormal" align="center"><fo
 nt face="Arial" size="2" color="#000000"><strong><span style="color: black;
  font-family: Arial"><font size="3" color="#ff0000">LA TENACIA DI</font></s
 pan></strong><font size="3"><strong><span style="color: black; font-family:
  Arial"><font color="#ff0000"> RESISTERE,&nbsp;IL  CORAGGIO DI RIFIUTARE <b
 r /></font></span></strong><span style="color: black; font-family: Arial">(
 <a href="http://www.end-gaza-siege.ps/" target="_blank">www.end-gaza-siege.
 ps</a>)</span></font></font></p> <p style="margin: 0cm 0cm 0pt; text-align:
  center" class="MsoNormal" align="center"><font face="Arial" size="2" color
 ="#000000"><strong></strong>&nbsp;</font></p> <p style="margin: 0cm 0cm 0pt
 ; text-align: center" class="MsoNormal" align="center"><font face="Arial" s
 ize="2" color="#000000"><strong><span style="color: black; font-family: Ari
 al"><font size="3">Roma  - 26 gennaio 2008<br />dalle 10.00 alle 14.00<br /
 >sala di &quot;Carta&quot;- via scalo di San  Lorenzo, 67</font></span></st
 rong></font></p> <p style="margin: 0cm 0cm 0pt; text-align: center" class="
 MsoNormal" align="center"><font face="Arial" size="2" color="#000000">&nbsp
 ;</font></p> <p style="margin: 0cm 0cm 0pt; text-align: center" class="MsoN
 ormal" align="center"><font face="Arial" size="2" color="#000000"><font siz
 e="3"><em><span style="color: black; font-family: Arial">Nell&rsquo;ambito 
 della Giornata globale di  azione del Forum Sociale Mondiale</span><span st
 yle="color: black; font-family: Arial"> (<a href="http://www.wsf2008.net/" 
 target="_blank">www.wsf2008.net</a>)</span></em></font></font></p> <p style
 ="margin: 0cm 0cm 12pt; text-align: center" class="MsoNormal" align="center
 "><span style="color: black; font-family: Arial"><font face="Arial" size="2
 " color="#000000"><br /><strong><font size="3">INTRODUCE:</font></strong><f
 ont size="3"> <br /><strong>Alessandra Mecozzi</strong>,  responsabile inte
 rnazionale Fiom-Cgil <br /><br /><strong>INTERVENGONO:</strong> <br /><stro
 ng>Basel  Mansour</strong>, Comitato popolare per la resistenza contro il M
 uro,  Bil&#39;in-Palestina <br /><strong>Noam Livne</strong>, Courage to Re
 fuse, Tel Aviv-Israele  <br /><strong>Lama Hourani</strong>, International 
 women commission, Gaza-Palestina  <br /><strong>Luisa Morgantini</strong>, 
 vicepresidente Parlamento Europeo <br /><strong>Samir  Al-Qaryouti</strong>
 , Comunit&agrave; palestinese Roma e Lazio <br /><br /></font></font></span
 ></p> <p style="margin: 0cm 0cm 0pt; text-align: center" class="MsoNormal" 
 align="center"><font face="Arial" size="2" color="#000000"><font size="3"><
 strong><span style="color: black; font-family: Arial">La  Fondazione Basso<
 /span></strong><strong><span style="color: black; font-family: Arial">  pre
 senter&agrave; la borsa di studio &quot;Daniel Amit&quot; </span></strong><
 /font></font></p><span style="color: black; font-family: Arial"> <p style="
 margin: 0cm 0cm 0pt; text-align: center" class="MsoNormal" align="center"><
 font face="Arial" size="2" color="#000000"><br /><font size="3"><u>Promuovo
 no</u>: <br />Arci, Associazione per la  Pace, Cgil, Donne in Nero, Ebrei C
 ontro l&#39;Occupazione, Fiom-Cgil, Giovani  Comunisti/e, Prc-Se, Rete Nazi
 onale Radi&egrave;  Resh<br /><br /><u>Aderiscono</u>:<br />Comunit&agrave;
  palestinese di Roma e Lazio,  Mezzaluna Rossa palestinese<br /><br /></fon
 t><font size="2"><strong>per  informazioni:</strong></font></font></p> <p s
 tyle="margin: 0cm 0cm 0pt; text-align: center" class="MsoNormal" align="cen
 ter"><font face="Arial" size="2" color="#000000">&nbsp;</font></p> <p style
 ="margin: 0cm 0cm 0pt; text-align: center" class="MsoNormal" align="center"
 ><font face="Arial" size="2" color="#000000"><font size="2"><strong>&nbsp;L
 uisa Morgantini 348 39 21 465; Ufficio RM 06  69950217; </strong></font></f
 ont></p></span> <p style="margin: 0cm 0cm 0pt; text-align: center" class="M
 soNormal" align="center"><font face="Arial" size="2" color="#000000"><stron
 g><span style="color: black; font-family: Arial">oppure 338 57 06  446; 340
  56 49 335; <span>&nbsp;</span></span></strong><strong></strong></font></p>
  <p style="margin: 0cm 0cm 0pt; text-align: center" class="MsoNormal" align
 ="center"><font face="Arial" size="2" color="#000000"><strong><span style="
 font-family: Arial"><span id="cloak14191">Questo indirizzo email è protetto
  dagli spambots. È necessario abilitare JavaScript per vederlo.</span><scri
 pt type='text/javascript'>
 //<!--
 document.getElementById('cloak14191').i
 nnerHTML = '';
 var prefix = '&#109;a' + 'i&#108;' + '&#116;o';
 var path =
  'hr' + 'ef' + '=';
 var addy14191 = 'l&#117;&#105;s&#97;.m&#111;rg&#97;nt&
 #105;n&#105;' + '&#64;';
 addy14191 = addy14191 + '&#101;&#117;r&#111;p&#97
 ;rl' + '&#46;' + '&#101;&#117;r&#111;p&#97;' + '&#46;' + '&#101;&#117;';
 v
 ar addy_text14191 = 'l&#117;&#105;s&#97;.m&#111;rg&#97;nt&#105;n&#105;' + '
 &#64;' + '&#101;&#117;r&#111;p&#97;rl' + '&#46;' + '&#101;&#117;r&#111;p&#9
 7;' + '&#46;' + '&#101;&#117;';
 document.getElementById('cloak14191').inne
 rHTML += '<a ' + path + '\'' + prefix + ':' + addy14191 + '\'>'+addy_text14
 191+'<\/a>';
 //-->
 </script>;  <a href="http://www.luisamorgantini.net/">
 www.luisamorgantini.net</a><font size="3"> </font></span></strong></font></
 p> <p style="margin: 0cm 0cm 0pt; text-align: center" class="MsoNormal" ali
 gn="center"><font face="Arial" size="2" color="#000000"><strong></strong>&n
 bsp;</font></p> <p style="margin: 0cm 0cm 0pt; text-align: center" class="M
 soNormal" align="center"><span style="font-family: Arial"><font face="Arial
 " size="2" color="#000000"><font size="3"><em>=========</em></font></font><
 /span></p> <p style="margin: 0cm 0cm 0pt; text-align: center" class="MsoNor
 mal" align="center"><font face="Arial" size="2" color="#000000">&nbsp;</fon
 t></p> <p style="margin: 0cm 0cm 0pt; text-align: center" class="MsoNormal"
  align="center"><span style="font-family: Arial"><span><font face="Arial" s
 ize="2" color="#000000"><strong><font color="#ff0000">COMUNICATO STAMPA </f
 ont></strong></font></span></span></p> <p style="margin: 0cm 0cm 0pt; text-
 align: center" align="center"><span><font face="Arial" size="2" color="#000
 000"><strong>Di  </strong>&nbsp;</font></span></p> <p style="margin: 0cm 0c
 m 0pt; text-align: center" align="center"><span><font face="Arial" size="2"
  color="#000000"><strong>LUISA MORGANTINI </strong></font></span></p> <p st
 yle="margin: 0cm 0cm 0pt; text-align: center" align="center"><font face="Ar
 ial" size="2" color="#000000"><em><span style="font-size: 10pt; color: blac
 k; font-family: Arial">VICEPRESIDENTE DEL  PARLAMENTO EUROPEO </span></em><
 /font></p> <p style="margin: 0cm 0cm 0pt; text-align: center" align="center
 "><font face="Arial" size="2" color="#000000">&nbsp;</font></p> <p style="m
 argin: 0cm 0cm 0pt; text-align: center" align="center"><span><font face="Ar
 ial" size="2" color="#000000"><strong>23</strong> &nbsp;<strong>PALESTINESI
  UCCISI, 55  FERITI A GAZA</strong> &nbsp;<strong>DALL&#39;ESERCITO  ISRAEL
 IANO:</strong>&nbsp;&nbsp;</font></span></p> <p style="margin: 0cm 0cm 0pt;
  text-align: center" align="center"><font face="Arial" size="2" color="#000
 000"><strong><span style="font-size: 10pt; text-transform: uppercase; color
 : black; font-family: Arial">DOVE  E&#39; LA FORTE CONDANNA EUROPEA DI QUES
 TE UCCISIONI?</span><span>  </span></strong></font></p> <p style="margin: 0
 cm 0cm 0pt; text-align: center" align="center"><font face="Arial" size="2" 
 color="#000000">&nbsp;</font></p> <p style="margin: 0cm 0cm 0pt; text-align
 : justify"><font face="Arial" size="2" color="#000000"><em><span style="fon
 t-size: 10pt; color: black; font-family: Arial">Strasburgo 17 Gennaio  </sp
 an></em></font></p> <p style="margin: 0cm 0cm 0pt; text-align: justify"><fo
 nt face="Arial" size="2" color="#000000">&nbsp;</font></p> <p style="margin
 : 0cm 0cm 0pt; text-align: justify" class="MsoNormal"><span style="font-siz
 e: 10pt; color: black; font-family: Arial"><font face="Arial" size="2" colo
 r="#000000">&quot;23&nbsp;Palestinesi  uccisi e altri 55 feriti, bambini, d
 onne e uomini, in soli due giorni dai raid  israeliani: dove &egrave; la fo
 rte condanna europea di queste uccisioni?&quot; &ndash; chiede  Luisa Morga
 ntini, Vice Presidente del Parlamento Europeo esprimendo la sua  profonda p
 reoccupazione sull&#39;escalation di violenza di questi giorni in  Palestin
 a e Israele. </font></span></p> <p style="margin: 0cm 0cm 0pt; text-align: 
 justify"><font face="Arial" size="2" color="#000000">&nbsp;</font></p> <p s
 tyle="margin: 0cm 0cm 0pt; text-align: justify"><span style="font-size: 10p
 t; color: black; font-family: Arial"><font face="Arial" size="2" color="#00
 0000">&quot;E&#39; veramente  sorprendente- ha aggiunto Luisa Morgantini- c
 he l&#39;Alto Rappresentante  dell&#39;Unione Europea Javier Solana non abb
 ia detto chiaramente che questa  politica sta uccidendo ogni speranza per l
 a pace e mina gli sforzi tenaci del  Presidente Mahmoud Abbas e dal Primo M
 inistro Salam Fayyad di cercare sostegno e  unit&agrave; nel loro popolo es
 austo, occupato e assediato. </font></span></p> <p style="margin: 0cm 0cm 0
 pt; text-align: justify"><font face="Arial" size="2" color="#000000">&nbsp;
 </font></p> <p style="margin: 0cm 0cm 0pt; text-align: justify"><span style
 ="font-size: 10pt; color: black; font-family: Arial"><font face="Arial" siz
 e="2" color="#000000">Solana, insieme  all&#39;intera Comunit&agrave; Inter
 nazionale dovrebbero chiedere con forza al Governo  Israeliano di fermare q
 uesta violenza e la punizione collettiva nei confronti  della popolazione c
 ivile nella Striscia di Gaza e nella West Bank, cos&igrave; come  riafferma
 re fermamente che ogni politica di espansione degli insediamenti sulla  ter
 ra palestinese della Cisgiordania e di Gerusalemme Est deve essere  immedia
 tamente congelata: questi sono i passi urgenti e necessari per una pace  gi
 usta, come del resto ribadito dagli intenti di Annapolis. </font></span></p
 > <p style="margin: 0cm 0cm 0pt; text-align: justify"><font face="Arial" si
 ze="2" color="#000000">&nbsp;</font></p> <p style="margin: 0cm 0cm 0pt; tex
 t-align: justify"><span style="font-size: 10pt; color: black; font-family: 
 Arial"><font face="Arial" size="2" color="#000000">Certamente, allo  stesso
  tempo, i razzi dalla Striscia di Gaza sulla citt&agrave; israeliana di Sde
 rot  devono essere fermati: mirano ad uccidere la popolazione civile e sono
  un segno  di impotenza e non di resistenza attuato da gruppi palestinesi e
 stremisti.  Inoltre</font></span><span style="font-size: 10pt; color: blue;
  font-family: Arial"><font face="Arial" size="2" color="#000000">&nbsp; </f
 ont></span><span style="font-size: 10pt; color: black; font-family: Arial">
 <font face="Arial" size="2" color="#000000">condanno e</font></span><span s
 tyle="font-size: 10pt; color: blue; font-family: Arial"><font face="Arial" 
 size="2" color="#000000">&nbsp;</font></span><span style="font-size: 10pt; 
 color: black; font-family: Arial"><font face="Arial" size="2" color="#00000
 0"> provo dolore per il  giovane volontario ecuadoriano, ucciso dal fuoco d
 i un estremista palestinese,  mentre stava lavorando in un kibbutz a Ein Ha
 shlosha. Ma la tragedia si perpetua  ogni giorno nella Palestina occupata: 
 17 palestinesi di Gaza sono stati uccisi  dall&#39;esercito israeliano in m
 eno di quattro ore, molti altri sono morti nelle  ore seguenti, inclusi civ
 ili e bambini, e non solo a Gaza ma anche nella West  Bank. </font></span><
 /p> <p style="margin: 0cm 0cm 0pt; text-align: justify"><font face="Arial" 
 size="2" color="#000000">&nbsp;</font></p> <p style="margin: 0cm 0cm 0pt; t
 ext-align: justify"><span style="font-size: 10pt; color: black; font-family
 : Arial"><font face="Arial" size="2" color="#000000">Con tutto questo  sang
 ue, con tutte queste morti, nessuno pu&ograve; essere assolto per il propri
 o  silenzio. Anche l&#39;Unione Europea, cos&igrave; come la politica del Q
 uartetto, sono  responsabili e devono rompere questo silenzio, assumendosi 
 le proprie  responsabilit&agrave;: porre fine all&#39;assedio di Gaza, assi
 curare una protezione  internazionale per la protezione della popolazione c
 ivile, sia palestinese che  israeliana, lavorare per l&#39;unit&agrave; del
  popolo palestinese e per la fine  dell&#39;occupazione. Questa &egrave; la
  via per abbattere ogni azione militare intrapresa  da estremisti palestine
 si. Ma soprattutto, &egrave; tempo di fare pressioni sul Governo  Israelian
 o per il rispetto delle parole date per la ricerca di pace e sicurezza:  la
  sua politica attuale sta distruggendo invece ogni possibilit&agrave; di pa
 ce e  sicurezza per entrambi i popoli&quot;.&nbsp; </font></span></p> <p st
 yle="margin: 0cm 0cm 0pt; text-align: justify"><font face="Arial" size="2" 
 color="#000000">&nbsp;</font></p> <span><font face="Arial" size="2" color="
 #000000"></font></span>
DTSTAMP:20260420T133038Z
DTSTART;TZID=Europe/Rome:20080126T100000
DTEND;TZID=Europe/Rome:20080126T140000
SEQUENCE:0
TRANSP:OPAQUE
END:VEVENT
END:VCALENDAR