BEGIN:VCALENDAR
VERSION:2.0
PRODID:-//jEvents 2.0 for Joomla//EN
CALSCALE:GREGORIAN
METHOD:PUBLISH
BEGIN:VTIMEZONE
TZID:Europe/Rome
BEGIN:STANDARD
DTSTART:20071028T020000
RDATE:20080330T030000
TZOFFSETFROM:+0200
TZOFFSETTO:+0100
TZNAME:Europe/Rome CET
END:STANDARD
BEGIN:STANDARD
DTSTART:20081026T020000
RDATE:20090329T030000
TZOFFSETFROM:+0200
TZOFFSETTO:+0100
TZNAME:Europe/Rome CET
END:STANDARD
BEGIN:STANDARD
DTSTART:20091025T020000
RDATE:20100328T030000
TZOFFSETFROM:+0200
TZOFFSETTO:+0100
TZNAME:Europe/Rome CET
END:STANDARD
BEGIN:STANDARD
DTSTART:20101031T020000
RDATE:20110327T030000
TZOFFSETFROM:+0200
TZOFFSETTO:+0100
TZNAME:Europe/Rome CET
END:STANDARD
BEGIN:STANDARD
DTSTART:20111030T020000
RDATE:20120325T030000
TZOFFSETFROM:+0200
TZOFFSETTO:+0100
TZNAME:Europe/Rome CET
END:STANDARD
BEGIN:STANDARD
DTSTART:20121028T020000
RDATE:20130331T030000
TZOFFSETFROM:+0200
TZOFFSETTO:+0100
TZNAME:Europe/Rome CET
END:STANDARD
BEGIN:STANDARD
DTSTART:20131027T020000
RDATE:20140330T030000
TZOFFSETFROM:+0200
TZOFFSETTO:+0100
TZNAME:Europe/Rome CET
END:STANDARD
BEGIN:STANDARD
DTSTART:20141026T020000
RDATE:20150329T030000
TZOFFSETFROM:+0200
TZOFFSETTO:+0100
TZNAME:Europe/Rome CET
END:STANDARD
BEGIN:STANDARD
DTSTART:20151025T020000
RDATE:20160327T030000
TZOFFSETFROM:+0200
TZOFFSETTO:+0100
TZNAME:Europe/Rome CET
END:STANDARD
BEGIN:STANDARD
DTSTART:20161030T020000
RDATE:20170326T030000
TZOFFSETFROM:+0200
TZOFFSETTO:+0100
TZNAME:Europe/Rome CET
END:STANDARD
BEGIN:STANDARD
DTSTART:20171029T020000
RDATE:20180325T030000
TZOFFSETFROM:+0200
TZOFFSETTO:+0100
TZNAME:Europe/Rome CET
END:STANDARD
BEGIN:STANDARD
DTSTART:20181028T020000
RDATE:20190331T030000
TZOFFSETFROM:+0200
TZOFFSETTO:+0100
TZNAME:Europe/Rome CET
END:STANDARD
BEGIN:STANDARD
DTSTART:20191027T020000
RDATE:20200329T030000
TZOFFSETFROM:+0200
TZOFFSETTO:+0100
TZNAME:Europe/Rome CET
END:STANDARD
BEGIN:STANDARD
DTSTART:20201025T020000
RDATE:20210328T030000
TZOFFSETFROM:+0200
TZOFFSETTO:+0100
TZNAME:Europe/Rome CET
END:STANDARD
BEGIN:STANDARD
DTSTART:20211031T020000
RDATE:20220327T030000
TZOFFSETFROM:+0200
TZOFFSETTO:+0100
TZNAME:Europe/Rome CET
END:STANDARD
BEGIN:STANDARD
DTSTART:20221030T020000
RDATE:20230326T030000
TZOFFSETFROM:+0200
TZOFFSETTO:+0100
TZNAME:Europe/Rome CET
END:STANDARD
BEGIN:STANDARD
DTSTART:20231029T020000
RDATE:20240331T030000
TZOFFSETFROM:+0200
TZOFFSETTO:+0100
TZNAME:Europe/Rome CET
END:STANDARD
BEGIN:STANDARD
DTSTART:20241027T020000
RDATE:20250330T030000
TZOFFSETFROM:+0200
TZOFFSETTO:+0100
TZNAME:Europe/Rome CET
END:STANDARD
BEGIN:STANDARD
DTSTART:20251026T020000
RDATE:20260329T030000
TZOFFSETFROM:+0200
TZOFFSETTO:+0100
TZNAME:Europe/Rome CET
END:STANDARD
BEGIN:STANDARD
DTSTART:20261025T020000
RDATE:20270328T030000
TZOFFSETFROM:+0200
TZOFFSETTO:+0100
TZNAME:Europe/Rome CET
END:STANDARD
BEGIN:STANDARD
DTSTART:20271031T020000
RDATE:20280326T030000
TZOFFSETFROM:+0200
TZOFFSETTO:+0100
TZNAME:Europe/Rome CET
END:STANDARD
BEGIN:STANDARD
DTSTART:20281029T020000
RDATE:20290325T030000
TZOFFSETFROM:+0200
TZOFFSETTO:+0100
TZNAME:Europe/Rome CET
END:STANDARD
BEGIN:STANDARD
DTSTART:20291028T020000
RDATE:20300331T030000
TZOFFSETFROM:+0200
TZOFFSETTO:+0100
TZNAME:Europe/Rome CET
END:STANDARD
BEGIN:STANDARD
DTSTART:20301027T020000
RDATE:20310330T030000
TZOFFSETFROM:+0200
TZOFFSETTO:+0100
TZNAME:Europe/Rome CET
END:STANDARD
BEGIN:STANDARD
DTSTART:20311026T020000
RDATE:20320328T030000
TZOFFSETFROM:+0200
TZOFFSETTO:+0100
TZNAME:Europe/Rome CET
END:STANDARD
BEGIN:STANDARD
DTSTART:20321031T020000
RDATE:20330327T030000
TZOFFSETFROM:+0200
TZOFFSETTO:+0100
TZNAME:Europe/Rome CET
END:STANDARD
BEGIN:STANDARD
DTSTART:20331030T020000
RDATE:20340326T030000
TZOFFSETFROM:+0200
TZOFFSETTO:+0100
TZNAME:Europe/Rome CET
END:STANDARD
BEGIN:STANDARD
DTSTART:20341029T020000
RDATE:20350325T030000
TZOFFSETFROM:+0200
TZOFFSETTO:+0100
TZNAME:Europe/Rome CET
END:STANDARD
BEGIN:STANDARD
DTSTART:20351028T020000
RDATE:20360330T030000
TZOFFSETFROM:+0200
TZOFFSETTO:+0100
TZNAME:Europe/Rome CET
END:STANDARD
BEGIN:STANDARD
DTSTART:20361026T020000
RDATE:20370329T030000
TZOFFSETFROM:+0200
TZOFFSETTO:+0100
TZNAME:Europe/Rome CET
END:STANDARD
BEGIN:STANDARD
DTSTART:20371025T020000
TZOFFSETFROM:+0200
TZOFFSETTO:+0100
TZNAME:Europe/Rome CET
END:STANDARD
BEGIN:DAYLIGHT
DTSTART:20070415T000000
RDATE:20071028T020000
TZOFFSETFROM:+0100
TZOFFSETTO:+0200
TZNAME:Europe/Rome CEST
END:DAYLIGHT
BEGIN:DAYLIGHT
DTSTART:20080330T030000
RDATE:20081026T020000
TZOFFSETFROM:+0100
TZOFFSETTO:+0200
TZNAME:Europe/Rome CEST
END:DAYLIGHT
BEGIN:DAYLIGHT
DTSTART:20090329T030000
RDATE:20091025T020000
TZOFFSETFROM:+0100
TZOFFSETTO:+0200
TZNAME:Europe/Rome CEST
END:DAYLIGHT
BEGIN:DAYLIGHT
DTSTART:20100328T030000
RDATE:20101031T020000
TZOFFSETFROM:+0100
TZOFFSETTO:+0200
TZNAME:Europe/Rome CEST
END:DAYLIGHT
BEGIN:DAYLIGHT
DTSTART:20110327T030000
RDATE:20111030T020000
TZOFFSETFROM:+0100
TZOFFSETTO:+0200
TZNAME:Europe/Rome CEST
END:DAYLIGHT
BEGIN:DAYLIGHT
DTSTART:20120325T030000
RDATE:20121028T020000
TZOFFSETFROM:+0100
TZOFFSETTO:+0200
TZNAME:Europe/Rome CEST
END:DAYLIGHT
BEGIN:DAYLIGHT
DTSTART:20130331T030000
RDATE:20131027T020000
TZOFFSETFROM:+0100
TZOFFSETTO:+0200
TZNAME:Europe/Rome CEST
END:DAYLIGHT
BEGIN:DAYLIGHT
DTSTART:20140330T030000
RDATE:20141026T020000
TZOFFSETFROM:+0100
TZOFFSETTO:+0200
TZNAME:Europe/Rome CEST
END:DAYLIGHT
BEGIN:DAYLIGHT
DTSTART:20150329T030000
RDATE:20151025T020000
TZOFFSETFROM:+0100
TZOFFSETTO:+0200
TZNAME:Europe/Rome CEST
END:DAYLIGHT
BEGIN:DAYLIGHT
DTSTART:20160327T030000
RDATE:20161030T020000
TZOFFSETFROM:+0100
TZOFFSETTO:+0200
TZNAME:Europe/Rome CEST
END:DAYLIGHT
BEGIN:DAYLIGHT
DTSTART:20170326T030000
RDATE:20171029T020000
TZOFFSETFROM:+0100
TZOFFSETTO:+0200
TZNAME:Europe/Rome CEST
END:DAYLIGHT
BEGIN:DAYLIGHT
DTSTART:20180325T030000
RDATE:20181028T020000
TZOFFSETFROM:+0100
TZOFFSETTO:+0200
TZNAME:Europe/Rome CEST
END:DAYLIGHT
BEGIN:DAYLIGHT
DTSTART:20190331T030000
RDATE:20191027T020000
TZOFFSETFROM:+0100
TZOFFSETTO:+0200
TZNAME:Europe/Rome CEST
END:DAYLIGHT
BEGIN:DAYLIGHT
DTSTART:20200329T030000
RDATE:20201025T020000
TZOFFSETFROM:+0100
TZOFFSETTO:+0200
TZNAME:Europe/Rome CEST
END:DAYLIGHT
BEGIN:DAYLIGHT
DTSTART:20210328T030000
RDATE:20211031T020000
TZOFFSETFROM:+0100
TZOFFSETTO:+0200
TZNAME:Europe/Rome CEST
END:DAYLIGHT
BEGIN:DAYLIGHT
DTSTART:20220327T030000
RDATE:20221030T020000
TZOFFSETFROM:+0100
TZOFFSETTO:+0200
TZNAME:Europe/Rome CEST
END:DAYLIGHT
BEGIN:DAYLIGHT
DTSTART:20230326T030000
RDATE:20231029T020000
TZOFFSETFROM:+0100
TZOFFSETTO:+0200
TZNAME:Europe/Rome CEST
END:DAYLIGHT
BEGIN:DAYLIGHT
DTSTART:20240331T030000
RDATE:20241027T020000
TZOFFSETFROM:+0100
TZOFFSETTO:+0200
TZNAME:Europe/Rome CEST
END:DAYLIGHT
BEGIN:DAYLIGHT
DTSTART:20250330T030000
RDATE:20251026T020000
TZOFFSETFROM:+0100
TZOFFSETTO:+0200
TZNAME:Europe/Rome CEST
END:DAYLIGHT
BEGIN:DAYLIGHT
DTSTART:20260329T030000
RDATE:20261025T020000
TZOFFSETFROM:+0100
TZOFFSETTO:+0200
TZNAME:Europe/Rome CEST
END:DAYLIGHT
BEGIN:DAYLIGHT
DTSTART:20270328T030000
RDATE:20271031T020000
TZOFFSETFROM:+0100
TZOFFSETTO:+0200
TZNAME:Europe/Rome CEST
END:DAYLIGHT
BEGIN:DAYLIGHT
DTSTART:20280326T030000
RDATE:20281029T020000
TZOFFSETFROM:+0100
TZOFFSETTO:+0200
TZNAME:Europe/Rome CEST
END:DAYLIGHT
BEGIN:DAYLIGHT
DTSTART:20290325T030000
RDATE:20291028T020000
TZOFFSETFROM:+0100
TZOFFSETTO:+0200
TZNAME:Europe/Rome CEST
END:DAYLIGHT
BEGIN:DAYLIGHT
DTSTART:20300331T030000
RDATE:20301027T020000
TZOFFSETFROM:+0100
TZOFFSETTO:+0200
TZNAME:Europe/Rome CEST
END:DAYLIGHT
BEGIN:DAYLIGHT
DTSTART:20310330T030000
RDATE:20311026T020000
TZOFFSETFROM:+0100
TZOFFSETTO:+0200
TZNAME:Europe/Rome CEST
END:DAYLIGHT
BEGIN:DAYLIGHT
DTSTART:20320328T030000
RDATE:20321031T020000
TZOFFSETFROM:+0100
TZOFFSETTO:+0200
TZNAME:Europe/Rome CEST
END:DAYLIGHT
BEGIN:DAYLIGHT
DTSTART:20330327T030000
RDATE:20331030T020000
TZOFFSETFROM:+0100
TZOFFSETTO:+0200
TZNAME:Europe/Rome CEST
END:DAYLIGHT
BEGIN:DAYLIGHT
DTSTART:20340326T030000
RDATE:20341029T020000
TZOFFSETFROM:+0100
TZOFFSETTO:+0200
TZNAME:Europe/Rome CEST
END:DAYLIGHT
BEGIN:DAYLIGHT
DTSTART:20350325T030000
RDATE:20351028T020000
TZOFFSETFROM:+0100
TZOFFSETTO:+0200
TZNAME:Europe/Rome CEST
END:DAYLIGHT
BEGIN:DAYLIGHT
DTSTART:20360330T030000
RDATE:20361026T020000
TZOFFSETFROM:+0100
TZOFFSETTO:+0200
TZNAME:Europe/Rome CEST
END:DAYLIGHT
BEGIN:DAYLIGHT
DTSTART:20370329T030000
RDATE:20371025T020000
TZOFFSETFROM:+0100
TZOFFSETTO:+0200
TZNAME:Europe/Rome CEST
END:DAYLIGHT
END:VTIMEZONE
BEGIN:VEVENT
UID:1429119848evt286
CATEGORIES:.
SUMMARY:15-24- Divinamente Roma (concerti sacro interreligione)
DESCRIPTION;ENCODING=QUOTED-PRINTABLE:<p>&nbsp;<strong>DIVINAMENTE ROMA 15 - 24 marzo 2009<br />festival internaz
 ionale della spiritualit&agrave;</strong><br />&nbsp;<br /><strong>diretto 
 da:</strong> Pamela Villoresi, <br /><strong>promosso:</strong> dal Ministe
 ro per i Beni e le Attivit&agrave; Culturali, dall&rsquo;Assessorato alle P
 olitiche Culturali del Comune di Roma, <strong>realizzato:</strong> dall&rs
 quo;Ente Teatrale Italiano, in collaborazione con Arcus.<br /><br /><strong
 >tema del festival: </strong>le diverse articolazioni del sacro<br /><br />
 <br /><br /><br /><strong>ingresso:</strong> libero fino ad esaurimento pos
 ti disponibili<br /><br />Per Sacrarmonia e Le Voyage al Teatro Valle:<br /
 >posto unico numerato - &euro; 15,00 intero &euro; 10,00 ridotto<br />bigli
 etteria 06.68803794<br /><br />Spettacoli con numero limitato di posti:<br 
 />Canti nel deserto&nbsp; max 150 posti<br />Il curato e il pagliaccio max 
 150 posti<br />Il ritorno alla fede del cantante di jazz max 150&nbsp; post
 i<br />La passione max 100 posti<br />Tibetan Praye max 200 posti<br /><br 
 /><strong>info:</strong> www.enteteatrale.it &ndash; 06/44013260<br /><br /
 ><br /><u><strong>PROGRAMMA</strong></u><br /><br /><br /><br /><br /><stro
 ng>* concerto</strong><br /><br />SANTA MARIA IN ARA COELI<br />sabato<stro
 ng> 15 marzo</strong> - ore 20.45<br /><br />Associzione Roma Sinfonietta<b
 r /><strong>SALMI DEL RE DAVID</strong><br />di Luis Bacalov<br />dai Salmi
  XXII - XXIII per soprano, mezzosoprano, baritoni, coro e orchestra da came
 ra<br />REQUIEM op.48<br />di Gabriel Faur&eacute;<br />per soli, coro e or
 chestra da camera versione del 1893<br />Orchestra Roma Sinfonietta<br />di
 rettore Luis Bacalov<br />con il Nuovo Coro Sinfonico Romano<br />Maestro d
 el Coro Stefano Cucci<br />soprano Anna Carbonera<br />baritono Roberto Abb
 ondanza<br /><br />Musicista, premio Oscar, Luis Bacalov dirige i Salmi del
  Re David, gi&agrave; composti per un film sulla vita di Papa Giovanni Paol
 o II. Una partitura, profonda espressione di spiritualit&agrave;, capace di
  contenere una koin&egrave; ampia &ndash; <u>dall&rsquo;ebraico al latino, 
 all&rsquo;italiano, lo spagnolo, il francese e l&rsquo;inglese</u> -&nbsp; 
 composta ed orchestrata in funzione della specifica musicalit&agrave; dei t
 esti. La presenza dominante dell&rsquo;arpa, nonch&eacute; dei flauti e di 
 alcuni strumenti a percussione, assicurano echi biblici di grande fascino e
 d emozione. L&rsquo;atmosfera di antica suggestione di tutto il concerto - 
 eseguito dall&rsquo;Orchestra Roma Sinfonietta - si completa con l&rsquo;es
 ecuzione del celebre Requiem op.48 di Faur&eacute;. Questa serena meditazio
 ne sul grande mistero della morte, si caratterizza per la presenza delle vo
 ci bianche del Nuovo Coro Sinfonico Romano, guidate dal maestro Stefano Cuc
 ci.<br /><br /><br /><br /><strong>* concerto</strong><br />&nbsp;<br />HOR
 TI SALLUSTIANI<br />domenica<strong> 16 marzo</strong> - ore 16.00<br /><br
  />Gruppo musicale ONS<br /><strong>CANTI DEL DESERTO</strong><br />a cura 
 di Tawil Saleh<br />liuto e canto Tawil Saleh<br />violino Carlo Cossu<br /
 >percussioni Georg Alf, Simone Pulvano<br />canto Sonia Magoili<br /><br />
 Privilegiando la particolare costruzione melodica della musica araba, che s
 i riserva una libert&agrave; d&rsquo;improvvisazione ben legata all&rsquo;a
 bilit&agrave; degli interpreti, il gruppo ONS propone un suo ampio repertor
 io. Attraverso il canto e i suoni, il maestro Saleh, supportato dalla periz
 ia di uno degli ensemble pi&ugrave; accreditati e riconosciuti per l&rsquo;
 esperienza e la raffinatezza dell&rsquo;esecuzione, interpreta pensieri e p
 reghiere del grande<u> culto islamico. Le sonorit&agrave; egiziane, nonch&e
 acute; le suggestioni arabo-andaluse</u>, si fondono a creare una musica or
 ientale che diventa il compendio felice tra la tradizione e la contemporane
 it&agrave;. Insieme sul palco artisti - arabi ed italiani &ndash; che, attr
 averso l&rsquo;utilizzo di strumenti antichi e moderni rarissimi, trasmetto
 no al pubblico la ricchezza e la complessit&agrave; di una musica che abbin
 a la cultura occidentale a quella orientale.<br /><br /><br /><br /><strong
 >* concerto</strong><br /><br />TEATRO VALLE<br />luned&igrave; <strong>17 
 marzo </strong>ore 20.45<br /><br />Liberamusic<br /><strong>SACRARMONIA</s
 trong><br />concerto di Antonella Ruggiero<br />pianoforte e armonium Mark 
 Harris<br />violino e dilruba Carlo Cantini<br /><br />Sacrarmonia &egrave;
  il progetto con il quale Antonella Ruggiero, raffinata interprete di sonor
 it&agrave; lontane e percorsi evocativi, intende il suo viaggio tra le <u>c
 ontaminazioni della musica sacra di tutto il mondo</u>. Un cammino nello sp
 azio e nel tempo che, intrecciandosi alla sua naturale curiosit&agrave; di 
 artista ed incontrando l&rsquo;istintivo desiderio di attraversare i confin
 i di filosofie e tradizioni diverse e distanti tra loro, riserva una partic
 olare attenzione alla musica cristiana, disegnando un&rsquo;ideale colonna 
 sonora dello spirito. Un mosaico ricco ed intricato di segnali ed archetipi
  suggeriti ed esplorati alla luce di stimoli culturali e linguaggi tradizio
 nali. Una perlustrazione di territori e saperi carichi di storia e memoria,
  condivisi con i suoi musicisti in un concerto di superiore qualit&agrave; 
 e di sicura espressivit&agrave;.<br /><br /><br /><br /><strong>* recital</
 strong><br /><br />MACRO Museo d&rsquo;Arte Contemporanea<br />marted&igrav
 e; <strong>18 marzo</strong> ore 20.45<br /><br />Officine della Cultura<br
  /><strong>IL RITORNO ALLA FEDE DEL CANTANTE DI JAZZ</strong><br />di Enric
 o Fink<br />voce, flauto traverso Enrico Fink<br />sassofoni Stefano Bartol
 ini<br />sax, clarinetto Francesco Bigoni<br />pianoforte Alfonso Santimone
 <br />contrabbasso Giulio Corini<br />batteria Zeno de Rossi<br /><br />Un 
 concerto di suoni e parole, frutto della <u>rielaborazione in chiave contem
 poranea e jazzistica di musica ebraica italiana</u>: Enrico Fink &egrave; l
 &rsquo;autorevole e curioso cantore, capace di creare un singolare incontro
  tra la poesia yiddish, i canti religiosi dell&rsquo;est europeo, le improv
 visazioni elettroniche moderne. Insieme a cinque musicisti, le liturgie ebr
 aiche di un tempo ritrovano le sonorit&agrave; italiane di luoghi specifici
  come Ferrara e Firenze, per diventare una cultura altra, personale, da can
 tare in uno spazio privato della mente. Protagonista quindi, una riflession
 e in musica sul ricordo e le emozioni della memoria, a partire dalla vicend
 a del primo film sonoro della storia del cinema Il cantante di jazz: il mus
 icista ebreo Al Jolson abbandona i fasti di Broadway per riscoprire le prop
 rie radici culturali e dimostrare che l&rsquo;attenzione al passato, alla s
 toria, alle radici &egrave; il presupposto per ogni innovazione e progresso
 .<br /><br /><br /><strong><br />*presentazione libro</strong><br /><br />T
 EATRO VALLE<br />mercoled&igrave; <strong>19 marzo</strong> ore 18.30<br />
 <strong><br />MICHA VAN HOECKE</strong><br />di Carmela Piccione<br />edizi
 oni Ila Palma<br />interviene Caterina d&rsquo;Amico<br /><br />Una vera e 
 propria <u>autobiografia dell&rsquo;anima</u> e delle emozioni prende forma
  nel libro appena uscito di Carmela Piccione intitolato al ballerino - edit
 o da IIa Palma -. Un viaggio nel quale fissare per immagini inedite e ricor
 di segreti, il percorso privato e pubblico di Micha van Hoecke. Attraverso 
 una lunga intervista-omaggio la giornalista - che ha immaginato questo inco
 ntro come una necessit&agrave;, un dovere morale nei confronti di uno strao
 rdinario interprete del nostro tempo - si &egrave; messa in ascolto di una 
 cronaca della vita vera nella quale recuperare, come tasselli di un mosaico
  prezioso, presenze &ndash; Cristina e Riccardo Muti, luoghi &ndash; Ravenn
 a e l&rsquo;Italia, e confessioni insospettabili nell&rsquo;esistenza di un
  uomo alla ricerca di una sua verit&agrave;.<br /><br /><br /><br /><strong
 >* balletto</strong><br /><br />TEATRO VALLE<br />mercoled&igrave; <strong>
 19 marzo </strong>ore 20.45<br /><br />Ensemble di Micha van Hoecke<br />Fo
 ndazione Ravenna Manifestazioni<br /><strong>LE VOYAGE</strong><br />di Mic
 ha van Hoecke<br />con Miki Matsuse, Marzia Falcon, Catherine Pantigny, Mic
 hela Caccavale, Yoko Wakabayashi, Sonia Bertin, Tiziana Minio, Viola Cecchi
 ni, Erica Tamagnini, Mauro Ferilli, Raffaele Sicignano, Antonio Aguilla, Bu
 rin Cerloj, Alessandro Pucci, Michele Simone<br /><br />Un passaggio autobi
 ografico nella cultura russa per Micha van Hoecke: il danzatore-coreografo 
 e regista, &egrave; impegnato in Le Voyage come in un intenso ritorno alle 
 proprie origini. Il ballerino, celebre nel mondo, crea questa partitura aff
 idandosi ad un <u>mosaico culturale di musiche e canzoni tzigane</u>, appar
 tenute alle nenie della sua infanzia, alla sua tradizione familiare, e in q
 uesto spettacolo ritrova la necessit&agrave; di riaffermare le radici come 
 simbolo di una nuova partenza. Pi&ugrave; che un racconto, sono sentimenti 
 e stati d&rsquo;animo: non c&rsquo;&egrave; la ricerca di effetti di scena 
 ma l&rsquo;intento di lasciare spazio all&rsquo;emozione pura, al gioco tea
 trale, alla danza dell&rsquo;anima. Con il suo ensemble storico, al quale l
 &rsquo;artista dedica questa creazione, van Hoecke rende ancora una volta l
 &rsquo;idea di un teatro totale nel quale fondere il movimento della danza,
  la sonorit&agrave; del canto, la passione della recitazione, la magia dell
 a musica.<br /><br /><br /><br /><strong>* concerto</strong><br /><br />CON
 SERVATORIO DI SANTA CECILIA<br />gioved&igrave; <strong>20 marzo</strong> o
 re 20.45<br /><br />Hesperion XXI<br /><strong>PEREGRINAJE DE LAS ALMAS</st
 rong><br />un progetto di Jordi Savall<br />canto Montserrat Figueras<br />
 canto e liuto Ferran Savall<br />flauti Pierre Hamon<br />oud Driss el Mamo
 umi<br />salterio Bego&ntilde;a Olavide<br />santuri, morisca e percussioni
  Dimitri Psonis<br />danza Shantala Shivalingappa<br />rebec, lira, rebab, 
 direzione Jordi Savall<br /><br />Un <u>canto dedicato al dialogo tra l&rsq
 uo;Oriente e l&rsquo;Occidente</u>, oltre l&rsquo;incontro tra culture e cr
 edenze, per recuperare la speranza e la vicinanza di civilt&agrave; che sem
 bravano lontane, addirittura nemiche, e che invece sono straordinariamente 
 complici e vicine. Dunque ascoltare queste musiche, ingegnosamente raccolte
  dal progetto di Jordi Savall, supera l&rsquo;emozione estetica per tradurs
 i nel riconoscimento di un&rsquo;umanit&agrave; riconciliata, capace di rit
 rovare l&rsquo;armonia che solo l&rsquo;arte sembra rendere possibile. Sull
 a scena sonorit&agrave; <u>arabe, ebraiche, indiane, arabo-andaluse</u> per
  musicisti, cantanti e danzatori - le soliste Montserrat Figueras e Ferran 
 Savall e la ballerina indiana Shantala Shivalingappa - che fanno rivivere l
 a comunanza delle origini dei popoli del Mediterraneo, abbattendo per una s
 era i confini e l&rsquo;incomunicabilit&agrave; tra le culture e i linguagg
 i, in uno straordinario dialogo delle anime. <br /><br /><br /><br /><stron
 g>* festa tradizionale</strong><br /><br />TEATRO VALLE<br />venerd&igrave;
  <strong>21 marzo</strong> ore 10.30<br /><br /><strong>LA FESTA DI PURIM</
 strong><br />con gli alunni della Scuola primaria ebraica Vittorio Polacco<
 br /><br />Legata ad antichi riti, alla <u>liturgia nata intorno alla lettu
 ra del Rotolo di Ester, La Festa di Purim &egrave; il giorno pi&ugrave; gio
 ioso del calendario ebraico</u>, festeggiato ed amato dai bambini: durante 
 questa ricorrenza infatti, si dava sfogo all&rsquo;aggressivit&agrave;, in 
 una sorta di rito collettivo liberatorio. In seguito le tendenze quasi buff
 onesche si sono trasformate in vere e proprie rappresentazioni teatrali che
  risalgono al &lsquo;500. Una specie di commedia dell&rsquo;Arte ebraica co
 n maschere e costumi d&rsquo;epoca affidata all&rsquo;improvvisazione: oggi
 , quell&rsquo;antico divertimento recupera le storie dei personaggi dell&rs
 quo;Antico Testamento proposte in scena dagli alunni della Scuola Ebraica V
 ittorio Polacco. Le atmosfere e i colori della festa si mescolano alle rapp
 resentazioni comiche recitate durante il marted&igrave; grasso per un entus
 iasmante incontro tra culture.<br /><br /><br /><br /><strong>* recital</st
 rong><br /><br />TEATRO GOLDONI DI PALAZZO ALTEMPS<br />venerd&igrave; <str
 ong>21 marzo</strong> ore 20.45<br /><br />La Gazzaladra srl<br /><strong>L
 A PASSIONE</strong><br />di Mario Luzi<br />diretto e interpretato da Pamel
 a Villoresi<br />con Andrea Bacci<br />musiche originali Luciano Vavolo<br 
 />viola e chitarra Paolo Clementi<br />clarinetto Nicola Innocenti<br />vio
 lino Angela Savi<br />violoncello Elisabetta Sciotti<br />flauto e chitarra
  Luciano Vavolo<br /><br />Quasi una manifestazione dei sentimenti del poet
 a, questa particolare interpretazione dei versi di Mario Luzi, eseguita e d
 iretta da Pamela Villoresi. Questo recital diventa per l&rsquo;attrice tosc
 ana un modo per rendere un omaggio sentito all&rsquo;artista scomparso tre 
 anni fa, recuperando un cantico scritto - per espressa volont&agrave; di Gi
 ovanni Paolo II &ndash; in occasione di una tra le pi&ugrave; dolorose e de
 vote vie Crucis di Sua Santit&agrave;, nel 1999. <u>Un intenso monologo di 
 Ges&ugrave; rivolto al proprio Padre</u>, quasi un confronto tra l&rsquo;um
 ano e il divino presenti proprio nella sofferenza di Dio. Una poesia intris
 a di profonda religiosit&agrave;, recitata con attenzione e sensibilit&agra
 ve; di donna, madre e artista completa, tanto da essere molto apprezzata da
 l poeta stesso, aspetto che la rende, oggi, forse la pi&ugrave; intensa ed 
 appassionata interprete dell&rsquo;opera luziana.<br /><br /><br /><br /><s
 trong>* recital</strong><br /><br />HORTI SALLUSTIANI<br />sabato <strong>2
 2 marzo</strong> ore 20.45<br /><br />Associazione Culturale Psicoanalisi C
 ontro<br />Compagnia Teatrale Sandro Gindro<br /><strong>IL CURATO E IL PAG
 LIACCIO</strong><br />di Sandro Gindro<br />adattamento e regia Daniela Mor
 elli<br />con Alessandro Haber<br />l&rsquo;angelo Cecilia Allamprese<br />
 musiche Maurizio Camardi<br />sassofoni, duduk Maurizio Camardi<br />sassof
 oni, flauto Stefano Fariselli<br />tastiere, elettronica Alfonso Santimone<
 br /><br />Lettura e musica dal vivo per un recital ispirato all&rsquo;oper
 a di Sandro Gindro, psicanalista e drammaturgo scomparso nel 2002. Il fonda
 tore della rivista &ldquo;Psicanalisi contro&rdquo; ha scritto, tra l&rsquo
 ;altro, due atti unici nei quali il protagonista &ndash; il curato, persona
 ggio dibattuto tra le due anime di prete e di pagliaccio&nbsp; &ndash; si p
 one la<u> questione del credere o meno all&rsquo;esistenza di Dio</u>. In s
 cena Alessandro Haber, artista singolare nel rendere l&rsquo;io ed il suo d
 oppio, in un personaggio mistico ma concreto in grado di porsi domande e am
 mettere infine l&rsquo;esistenza del Creatore, nonostante il mistero della 
 morte, nonch&eacute; quello della creazione e della fede. Guidato dalle par
 ole dubbiose di Sandro Gindro dunque, a sua volta impegnato nella ricerca d
 i risposte ed interrogativi, l&rsquo;attore costruisce la sua performance s
 contrandosi con i suoi personali interrogativi.<br /><br /><br /><br /><str
 ong>* concerto</strong><br /><br />BASILICA DI SAN MARCO<br />domenica <str
 ong>23 marzo </strong>ore 16.00<br /><br />Jazz Studio Orchestra<br /><stro
 ng>SECOND SACRED CONCERT</strong><br />di Duke Ellington<br />per soli, cor
 o e orchestra<br />con la Jazz Studio Orchestra<br />solisti Paolo Arnesano
 , Piero Dotti<br />coro Black &amp; Blues<br />direttore Paolo Lepore<br />
 <br />Un&rsquo;occasione rara per ascoltare il capolavoro di Duke Ellington
 , uno dei pi&ugrave; grandi compositori e musicisti jazz del &lsquo;900 che
  in Second Sacred Concert aveva trovato la celebrazione della sua profonda 
 religiosit&agrave;. L&rsquo;opera rappresenta l&rsquo;espressione pi&ugrave
 ; alta della musica &ldquo;ellingtoniana&rdquo; di ispirazione sacra, segna
 ta da un clima di festosa preghiera, favorito anche dall&rsquo;<u>intensit&
 agrave; dei gospel e dalla solennit&agrave; degli spirituals</u>. In un cre
 scendo di coro, solisti e musica, il maestro Paolo Lepore e la Jazz Studio 
 Orchestra restituiscono quel clima travolgente, gioioso e solenne, aperto a
 l puro e semplice divertimento della riflessione intensa: un senso di ottim
 ismo e di speranza definisce quindi tutta la composizione fin da quando fu 
 scritta, nel 1968, subito prima di essere rappresentata nella cattedrale di
  St. John a New York.<br /><br /><br /><br /><strong>* concerto</strong><br
  /><br />CASA DEL CINEMA<br />luned&igrave; <strong>24 marzo</strong> ore 1
 1.00<br /><br /><strong>TIBETAN PRAYER</strong><br />concerto di Yungchen L
 hamo<br />fiati, percussioni, tastiere B&uuml;di Siebert<br /><br />Musa di
  Peter Gabriel, Yungchen Lhamo &egrave; l&rsquo;ambasciatrice nel mondo del
  grido di libert&agrave; del popolo tibetano. La dea della canzone &ndash; 
 questo il significato del suo nome &ndash; mette l&rsquo;inconfondibile voc
 e al servizio di<u> canti devozionali basati sui mantra della sacra tradizi
 one buddista</u>; sola sul palco questa donna minuta e dal fascino stimolan
 te, cattura il pubblico intonando melodie che trasmettono un messaggio di s
 peranza, fede, spiritualit&agrave;. La patria lontana, quel Tibet che le di
 ede i natali e dal quale fuggi dopo l&rsquo;invasione cinese alla volta del
 l&rsquo;India, diventa il sottotesto per ogni sorta di benedizione e promes
 sa di prosperit&agrave;. Ne sono portatori i canti tradizionali che l&rsquo
 ;artista ha raccolto nel tempo, che raramente l&rsquo;occidente ha avuto mo
 do di ascoltare nella loro purezza, e ne &egrave; testimonianza la sincera 
 interpretazione vocale di un artista che non teme eguali.</p><p>&nbsp;</p>
DTSTAMP:20260420T133104Z
DTSTART;TZID=Europe/Rome;VALUE=DATE:20080415
DTEND;TZID=Europe/Rome;VALUE=DATE:20080416
SEQUENCE:0
TRANSP:OPAQUE
END:VEVENT
END:VCALENDAR