BEGIN:VCALENDAR
VERSION:2.0
PRODID:-//jEvents 2.0 for Joomla//EN
CALSCALE:GREGORIAN
METHOD:PUBLISH
BEGIN:VTIMEZONE
TZID:Europe/Rome
BEGIN:STANDARD
DTSTART:20081026T020000
RDATE:20090329T030000
TZOFFSETFROM:+0200
TZOFFSETTO:+0100
TZNAME:Europe/Rome CET
END:STANDARD
BEGIN:STANDARD
DTSTART:20091025T020000
RDATE:20100328T030000
TZOFFSETFROM:+0200
TZOFFSETTO:+0100
TZNAME:Europe/Rome CET
END:STANDARD
BEGIN:STANDARD
DTSTART:20101031T020000
RDATE:20110327T030000
TZOFFSETFROM:+0200
TZOFFSETTO:+0100
TZNAME:Europe/Rome CET
END:STANDARD
BEGIN:STANDARD
DTSTART:20111030T020000
RDATE:20120325T030000
TZOFFSETFROM:+0200
TZOFFSETTO:+0100
TZNAME:Europe/Rome CET
END:STANDARD
BEGIN:STANDARD
DTSTART:20121028T020000
RDATE:20130331T030000
TZOFFSETFROM:+0200
TZOFFSETTO:+0100
TZNAME:Europe/Rome CET
END:STANDARD
BEGIN:STANDARD
DTSTART:20131027T020000
RDATE:20140330T030000
TZOFFSETFROM:+0200
TZOFFSETTO:+0100
TZNAME:Europe/Rome CET
END:STANDARD
BEGIN:STANDARD
DTSTART:20141026T020000
RDATE:20150329T030000
TZOFFSETFROM:+0200
TZOFFSETTO:+0100
TZNAME:Europe/Rome CET
END:STANDARD
BEGIN:STANDARD
DTSTART:20151025T020000
RDATE:20160327T030000
TZOFFSETFROM:+0200
TZOFFSETTO:+0100
TZNAME:Europe/Rome CET
END:STANDARD
BEGIN:STANDARD
DTSTART:20161030T020000
RDATE:20170326T030000
TZOFFSETFROM:+0200
TZOFFSETTO:+0100
TZNAME:Europe/Rome CET
END:STANDARD
BEGIN:STANDARD
DTSTART:20171029T020000
RDATE:20180325T030000
TZOFFSETFROM:+0200
TZOFFSETTO:+0100
TZNAME:Europe/Rome CET
END:STANDARD
BEGIN:STANDARD
DTSTART:20181028T020000
RDATE:20190331T030000
TZOFFSETFROM:+0200
TZOFFSETTO:+0100
TZNAME:Europe/Rome CET
END:STANDARD
BEGIN:STANDARD
DTSTART:20191027T020000
RDATE:20200329T030000
TZOFFSETFROM:+0200
TZOFFSETTO:+0100
TZNAME:Europe/Rome CET
END:STANDARD
BEGIN:STANDARD
DTSTART:20201025T020000
RDATE:20210328T030000
TZOFFSETFROM:+0200
TZOFFSETTO:+0100
TZNAME:Europe/Rome CET
END:STANDARD
BEGIN:STANDARD
DTSTART:20211031T020000
RDATE:20220327T030000
TZOFFSETFROM:+0200
TZOFFSETTO:+0100
TZNAME:Europe/Rome CET
END:STANDARD
BEGIN:STANDARD
DTSTART:20221030T020000
RDATE:20230326T030000
TZOFFSETFROM:+0200
TZOFFSETTO:+0100
TZNAME:Europe/Rome CET
END:STANDARD
BEGIN:STANDARD
DTSTART:20231029T020000
RDATE:20240331T030000
TZOFFSETFROM:+0200
TZOFFSETTO:+0100
TZNAME:Europe/Rome CET
END:STANDARD
BEGIN:STANDARD
DTSTART:20241027T020000
RDATE:20250330T030000
TZOFFSETFROM:+0200
TZOFFSETTO:+0100
TZNAME:Europe/Rome CET
END:STANDARD
BEGIN:STANDARD
DTSTART:20251026T020000
RDATE:20260329T030000
TZOFFSETFROM:+0200
TZOFFSETTO:+0100
TZNAME:Europe/Rome CET
END:STANDARD
BEGIN:STANDARD
DTSTART:20261025T020000
RDATE:20270328T030000
TZOFFSETFROM:+0200
TZOFFSETTO:+0100
TZNAME:Europe/Rome CET
END:STANDARD
BEGIN:STANDARD
DTSTART:20271031T020000
RDATE:20280326T030000
TZOFFSETFROM:+0200
TZOFFSETTO:+0100
TZNAME:Europe/Rome CET
END:STANDARD
BEGIN:STANDARD
DTSTART:20281029T020000
RDATE:20290325T030000
TZOFFSETFROM:+0200
TZOFFSETTO:+0100
TZNAME:Europe/Rome CET
END:STANDARD
BEGIN:STANDARD
DTSTART:20291028T020000
RDATE:20300331T030000
TZOFFSETFROM:+0200
TZOFFSETTO:+0100
TZNAME:Europe/Rome CET
END:STANDARD
BEGIN:STANDARD
DTSTART:20301027T020000
RDATE:20310330T030000
TZOFFSETFROM:+0200
TZOFFSETTO:+0100
TZNAME:Europe/Rome CET
END:STANDARD
BEGIN:STANDARD
DTSTART:20311026T020000
RDATE:20320328T030000
TZOFFSETFROM:+0200
TZOFFSETTO:+0100
TZNAME:Europe/Rome CET
END:STANDARD
BEGIN:STANDARD
DTSTART:20321031T020000
RDATE:20330327T030000
TZOFFSETFROM:+0200
TZOFFSETTO:+0100
TZNAME:Europe/Rome CET
END:STANDARD
BEGIN:STANDARD
DTSTART:20331030T020000
RDATE:20340326T030000
TZOFFSETFROM:+0200
TZOFFSETTO:+0100
TZNAME:Europe/Rome CET
END:STANDARD
BEGIN:STANDARD
DTSTART:20341029T020000
RDATE:20350325T030000
TZOFFSETFROM:+0200
TZOFFSETTO:+0100
TZNAME:Europe/Rome CET
END:STANDARD
BEGIN:STANDARD
DTSTART:20351028T020000
RDATE:20360330T030000
TZOFFSETFROM:+0200
TZOFFSETTO:+0100
TZNAME:Europe/Rome CET
END:STANDARD
BEGIN:STANDARD
DTSTART:20361026T020000
RDATE:20370329T030000
TZOFFSETFROM:+0200
TZOFFSETTO:+0100
TZNAME:Europe/Rome CET
END:STANDARD
BEGIN:STANDARD
DTSTART:20371025T020000
TZOFFSETFROM:+0200
TZOFFSETTO:+0100
TZNAME:Europe/Rome CET
END:STANDARD
BEGIN:DAYLIGHT
DTSTART:20080515T000000
RDATE:20081026T020000
TZOFFSETFROM:+0100
TZOFFSETTO:+0200
TZNAME:Europe/Rome CEST
END:DAYLIGHT
BEGIN:DAYLIGHT
DTSTART:20090329T030000
RDATE:20091025T020000
TZOFFSETFROM:+0100
TZOFFSETTO:+0200
TZNAME:Europe/Rome CEST
END:DAYLIGHT
BEGIN:DAYLIGHT
DTSTART:20100328T030000
RDATE:20101031T020000
TZOFFSETFROM:+0100
TZOFFSETTO:+0200
TZNAME:Europe/Rome CEST
END:DAYLIGHT
BEGIN:DAYLIGHT
DTSTART:20110327T030000
RDATE:20111030T020000
TZOFFSETFROM:+0100
TZOFFSETTO:+0200
TZNAME:Europe/Rome CEST
END:DAYLIGHT
BEGIN:DAYLIGHT
DTSTART:20120325T030000
RDATE:20121028T020000
TZOFFSETFROM:+0100
TZOFFSETTO:+0200
TZNAME:Europe/Rome CEST
END:DAYLIGHT
BEGIN:DAYLIGHT
DTSTART:20130331T030000
RDATE:20131027T020000
TZOFFSETFROM:+0100
TZOFFSETTO:+0200
TZNAME:Europe/Rome CEST
END:DAYLIGHT
BEGIN:DAYLIGHT
DTSTART:20140330T030000
RDATE:20141026T020000
TZOFFSETFROM:+0100
TZOFFSETTO:+0200
TZNAME:Europe/Rome CEST
END:DAYLIGHT
BEGIN:DAYLIGHT
DTSTART:20150329T030000
RDATE:20151025T020000
TZOFFSETFROM:+0100
TZOFFSETTO:+0200
TZNAME:Europe/Rome CEST
END:DAYLIGHT
BEGIN:DAYLIGHT
DTSTART:20160327T030000
RDATE:20161030T020000
TZOFFSETFROM:+0100
TZOFFSETTO:+0200
TZNAME:Europe/Rome CEST
END:DAYLIGHT
BEGIN:DAYLIGHT
DTSTART:20170326T030000
RDATE:20171029T020000
TZOFFSETFROM:+0100
TZOFFSETTO:+0200
TZNAME:Europe/Rome CEST
END:DAYLIGHT
BEGIN:DAYLIGHT
DTSTART:20180325T030000
RDATE:20181028T020000
TZOFFSETFROM:+0100
TZOFFSETTO:+0200
TZNAME:Europe/Rome CEST
END:DAYLIGHT
BEGIN:DAYLIGHT
DTSTART:20190331T030000
RDATE:20191027T020000
TZOFFSETFROM:+0100
TZOFFSETTO:+0200
TZNAME:Europe/Rome CEST
END:DAYLIGHT
BEGIN:DAYLIGHT
DTSTART:20200329T030000
RDATE:20201025T020000
TZOFFSETFROM:+0100
TZOFFSETTO:+0200
TZNAME:Europe/Rome CEST
END:DAYLIGHT
BEGIN:DAYLIGHT
DTSTART:20210328T030000
RDATE:20211031T020000
TZOFFSETFROM:+0100
TZOFFSETTO:+0200
TZNAME:Europe/Rome CEST
END:DAYLIGHT
BEGIN:DAYLIGHT
DTSTART:20220327T030000
RDATE:20221030T020000
TZOFFSETFROM:+0100
TZOFFSETTO:+0200
TZNAME:Europe/Rome CEST
END:DAYLIGHT
BEGIN:DAYLIGHT
DTSTART:20230326T030000
RDATE:20231029T020000
TZOFFSETFROM:+0100
TZOFFSETTO:+0200
TZNAME:Europe/Rome CEST
END:DAYLIGHT
BEGIN:DAYLIGHT
DTSTART:20240331T030000
RDATE:20241027T020000
TZOFFSETFROM:+0100
TZOFFSETTO:+0200
TZNAME:Europe/Rome CEST
END:DAYLIGHT
BEGIN:DAYLIGHT
DTSTART:20250330T030000
RDATE:20251026T020000
TZOFFSETFROM:+0100
TZOFFSETTO:+0200
TZNAME:Europe/Rome CEST
END:DAYLIGHT
BEGIN:DAYLIGHT
DTSTART:20260329T030000
RDATE:20261025T020000
TZOFFSETFROM:+0100
TZOFFSETTO:+0200
TZNAME:Europe/Rome CEST
END:DAYLIGHT
BEGIN:DAYLIGHT
DTSTART:20270328T030000
RDATE:20271031T020000
TZOFFSETFROM:+0100
TZOFFSETTO:+0200
TZNAME:Europe/Rome CEST
END:DAYLIGHT
BEGIN:DAYLIGHT
DTSTART:20280326T030000
RDATE:20281029T020000
TZOFFSETFROM:+0100
TZOFFSETTO:+0200
TZNAME:Europe/Rome CEST
END:DAYLIGHT
BEGIN:DAYLIGHT
DTSTART:20290325T030000
RDATE:20291028T020000
TZOFFSETFROM:+0100
TZOFFSETTO:+0200
TZNAME:Europe/Rome CEST
END:DAYLIGHT
BEGIN:DAYLIGHT
DTSTART:20300331T030000
RDATE:20301027T020000
TZOFFSETFROM:+0100
TZOFFSETTO:+0200
TZNAME:Europe/Rome CEST
END:DAYLIGHT
BEGIN:DAYLIGHT
DTSTART:20310330T030000
RDATE:20311026T020000
TZOFFSETFROM:+0100
TZOFFSETTO:+0200
TZNAME:Europe/Rome CEST
END:DAYLIGHT
BEGIN:DAYLIGHT
DTSTART:20320328T030000
RDATE:20321031T020000
TZOFFSETFROM:+0100
TZOFFSETTO:+0200
TZNAME:Europe/Rome CEST
END:DAYLIGHT
BEGIN:DAYLIGHT
DTSTART:20330327T030000
RDATE:20331030T020000
TZOFFSETFROM:+0100
TZOFFSETTO:+0200
TZNAME:Europe/Rome CEST
END:DAYLIGHT
BEGIN:DAYLIGHT
DTSTART:20340326T030000
RDATE:20341029T020000
TZOFFSETFROM:+0100
TZOFFSETTO:+0200
TZNAME:Europe/Rome CEST
END:DAYLIGHT
BEGIN:DAYLIGHT
DTSTART:20350325T030000
RDATE:20351028T020000
TZOFFSETFROM:+0100
TZOFFSETTO:+0200
TZNAME:Europe/Rome CEST
END:DAYLIGHT
BEGIN:DAYLIGHT
DTSTART:20360330T030000
RDATE:20361026T020000
TZOFFSETFROM:+0100
TZOFFSETTO:+0200
TZNAME:Europe/Rome CEST
END:DAYLIGHT
BEGIN:DAYLIGHT
DTSTART:20370329T030000
RDATE:20371025T020000
TZOFFSETFROM:+0100
TZOFFSETTO:+0200
TZNAME:Europe/Rome CEST
END:DAYLIGHT
END:VTIMEZONE
BEGIN:VEVENT
UID:1429119848evt301
CATEGORIES:.
SUMMARY:16-17- RAQS ROMA- DANZA ORIENTALE PER GAZA (spettacolo)
DESCRIPTION;ENCODING=QUOTED-PRINTABLE:&nbsp;<p style="text-align: center" class="MsoNormal" align="center"><!--[i
 f gte mso 9]><xml>  <w:WordDocument>   <w:View>Normal</w:View>   <w:Zoom>0<
 /w:Zoom>   <w:HyphenationZone>14</w:HyphenationZone>   <w:PunctuationKernin
 g/>   <w:ValidateAgainstSchemas/>   <w:SaveIfXMLInvalid>false</w:SaveIfXMLI
 nvalid>   <w:IgnoreMixedContent>false</w:IgnoreMixedContent>   <w:AlwaysSho
 wPlaceholderText>false</w:AlwaysShowPlaceholderText>   <w:Compatibility>   
  <w:BreakWrappedTables/>    <w:SnapToGridInCell/>    <w:WrapTextWithPunct/>
     <w:UseAsianBreakRules/>    <w:DontGrowAutofit/>   </w:Compatibility>   
 <w:BrowserLevel>MicrosoftInternetExplorer4</w:BrowserLevel>  </w:WordDocume
 nt> </xml><![endif]--><!--[if gte mso 9]><xml>  <w:LatentStyles DefLockedSt
 ate="false" LatentStyleCount="156">  </w:LatentStyles> </xml><![endif]--> <
 !--  /* Font Definitions */  @font-face 	{font-family:Calibri; 	panose-1:2 
 15 5 2 2 2 4 3 2 4; 	mso-font-charset:0; 	mso-generic-font-family:swiss; 	m
 so-font-pitch:variable; 	mso-font-signature:-1610611985 1073750139 0 0 159 
 0;}  /* Style Definitions */  p.MsoNormal, li.MsoNormal, div.MsoNormal 	{ms
 o-style-parent:""; 	margin-top:0cm; 	margin-right:0cm; 	margin-bottom:10.0p
 t; 	margin-left:0cm; 	line-height:115%; 	mso-pagination:widow-orphan; 	font
 -size:11.0pt; 	font-family:Calibri; 	mso-fareast-font-family:Calibri; 	mso-
 bidi-font-family:"Times New Roman"; 	mso-fareast-language:EN-US;} a:link, s
 pan.MsoHyperlink 	{color:blue; 	text-decoration:underline; 	text-underline:
 single;} a:visited, span.MsoHyperlinkFollowed 	{color:purple; 	text-decorat
 ion:underline; 	text-underline:single;} @page Section1 	{size:595.3pt 841.9
 pt; 	margin:70.85pt 2.0cm 2.0cm 2.0cm; 	mso-header-margin:35.4pt; 	mso-foot
 er-margin:35.4pt; 	mso-paper-source:0;} div.Section1 	{page:Section1;} --> 
 <!--[if gte mso 10]> <style>  /* Style Definitions */  table.MsoNormalTable
  	{mso-style-name:"Tabella normale"; 	mso-tstyle-rowband-size:0; 	mso-tstyl
 e-colband-size:0; 	mso-style-noshow:yes; 	mso-style-parent:""; 	mso-padding
 -alt:0cm 5.4pt 0cm 5.4pt; 	mso-para-margin:0cm; 	mso-para-margin-bottom:.00
 01pt; 	mso-pagination:widow-orphan; 	font-size:10.0pt; 	font-family:"Times 
 New Roman"; 	mso-ansi-language:#0400; 	mso-fareast-language:#0400; 	mso-bid
 i-language:#0400;} </style> <![endif]-->  </p><p style="margin-bottom: 0.00
 01pt; text-align: center" class="MsoNormal" align="center"><span style="fon
 t-size: 14pt; line-height: 115%">Un Ponte Per &ndash; Assopace Roma - Sguar
 do sul Medio Oriente </span></p>  <p style="margin-bottom: 0.0001pt; text-a
 lign: center" class="MsoNormal" align="center"><span style="font-size: 14pt
 ; line-height: 115%">In collaborazione con Al Kenz Ballet &ndash; Culto del
  Ritmo &ndash; Badu Bros</span></p>  <p style="margin-bottom: 0.0001pt; tex
 t-align: center" class="MsoNormal" align="center"><span style="font-size: 1
 4pt; line-height: 115%">&nbsp;</span></p>  <p style="margin-bottom: 0.0001p
 t; text-align: center" class="MsoNormal" align="center"><em><span style="fo
 nt-size: 12pt; line-height: 115%">Presentano</span></em></p>  <p style="mar
 gin-bottom: 0.0001pt" class="MsoNormal"><span style="font-size: 12pt; line-
 height: 115%">&nbsp;</span></p>  <p style="margin-bottom: 0.0001pt; text-al
 ign: center" class="MsoNormal" align="center"><strong><span style="font-siz
 e: 36pt; line-height: 115%">16 e 17 maggio 2009</span></strong></p>  <p sty
 le="margin-bottom: 0.0001pt; text-align: center" class="MsoNormal" align="c
 enter"><strong><span style="font-size: 14pt; line-height: 115%">Ore 20.30</
 span></strong></p><br /><p style="margin-bottom: 0.0001pt" class="MsoNormal
 "><span style="font-size: 12pt; line-height: 115%">&nbsp;</span></p><p styl
 e="text-align: center" class="MsoNormal" align="center"><strong><span style
 ="font-size: 40pt">رقص روما</span></strong></p>  <p style="text-align: cent
 er" class="MsoNormal" align="center"><strong><span style="font-size: 35pt">
 RAQS ROMA</span></strong></p>  <p style="text-align: center" class="MsoNorm
 al" align="center"><strong><em><span style="font-size: 35pt">Danza oriental
 e per Gaza</span></em></strong></p>  <p style="margin-bottom: 0.0001pt; tex
 t-align: center" class="MsoNormal" align="center"><em><span style="font-siz
 e: 12pt; line-height: 115%">&hellip;un viaggio da Casablanca a Beirut tra d
 anza, musica, ritmi e tradizioni</span></em></p>  <p style="margin-bottom: 
 0.0001pt; text-align: center" class="MsoNormal" align="center"><em><span st
 yle="font-size: 12pt; line-height: 115%">in due serate di <strong>beneficen
 za per il FREE GAZA MOVEMENT<span>&nbsp; </span></strong>per la popolazione
  palestinese</span></em></p>  <p style="margin-bottom: 0.0001pt" class="Mso
 Normal"><span style="font-size: 12pt; line-height: 115%">&nbsp;</span></p> 
  <p style="margin-bottom: 0.0001pt" class="MsoNormal"><span style="font-siz
 e: 12pt; line-height: 115%">&nbsp;</span></p>  <p style="margin-bottom: 0.0
 001pt" class="MsoNormal"><span style="font-size: 12pt; line-height: 115%">-
  Introduzione di <strong>W. Dahmash</strong> (Gazzella onlus)</span></p>  <
 p style="margin-bottom: 0.0001pt" class="MsoNormal"><span style="font-size:
  12pt; line-height: 115%">- Con la compagnia di <strong>danza orientale &ld
 quo;al-Kenz Ballet&rdquo;</strong> e allieve</span></p>  <p style="margin-b
 ottom: 0.0001pt" class="MsoNormal"><span style="font-size: 12pt; line-heigh
 t: 115%">- <strong>Special di</strong> <strong>break dance</strong> &ldquo;
 BREAK THE SIEGE&rdquo; a cura di &ldquo;Badu Bros&rdquo; e &ldquo;Culto del
  Ritmo&rdquo; (coreografie di A.Pangrazi)</span></p>  <p style="margin-bott
 om: 0.0001pt" class="MsoNormal"><span style="font-size: 12pt; line-height: 
 115%">- Regia di P. Elias Nemer</span></p>  <p style="margin-bottom: 0.0001
 pt" class="MsoNormal"><span style="font-size: 12pt; line-height: 115%">&nbs
 p;</span></p>  <p style="margin-bottom: 0.0001pt" class="MsoNormal"><span s
 tyle="font-size: 12pt; line-height: 115%">Angolo tradizionale con the e dol
 cetti offerti dai ristoranti: </span></p>  <p style="margin-bottom: 0.0001p
 t" class="MsoNormal"><span style="font-size: 12pt; line-height: 115%">Beiru
 t (via dei condottieri 6) &amp; Shawarma Oriental (via merulana 271)</span>
 </p>  <p style="margin-bottom: 0.0001pt" class="MsoNormal"><span style="fon
 t-size: 12pt; line-height: 115%">&nbsp;</span></p>  <p style="margin-bottom
 : 0.0001pt" class="MsoNormal"><span style="font-size: 14pt; line-height: 11
 5%">Ingresso 10e</span></p>  <p style="margin-bottom: 0.0001pt" class="MsoN
 ormal"><span style="font-size: 14pt; line-height: 115%">&nbsp;</span></p>  
 <p style="margin-bottom: 0.0001pt" class="MsoNormal"><strong><span style="f
 ont-size: 14pt; line-height: 115%">Teatro del sogno</span></strong><span st
 yle="font-size: 14pt; line-height: 115%">, via Lucrino 51, Roma (quartiere 
 africano</span><span style="font-size: 12pt; line-height: 115%">)</span></p
 >  <p style="margin-bottom: 0.0001pt" class="MsoNormal"><span style="font-s
 ize: 12pt; line-height: 115%">&nbsp;</span></p>  <p style="margin-bottom: 0
 .0001pt" class="MsoNormal"><strong><span style="font-size: 12pt; line-heigh
 t: 115%">Info prevendita</span></strong><span style="font-size: 12pt; line-
 height: 115%">: 3494588172 -<span>&nbsp; </span>3338312194</span></p>  <p s
 tyle="margin-bottom: 0.0001pt" class="MsoNormal"><span style="font-size: 12
 pt; line-height: 115%">&nbsp;</span></p>  <p style="margin-bottom: 0.0001pt
 " class="MsoNormal"><strong><span style="font-size: 12pt; line-height: 115%
 ">Punti prevendita</span></strong><span style="font-size: 12pt; line-height
 : 115%">: </span></p>  <p style="margin-bottom: 0.0001pt" class="MsoNormal"
 ><span style="font-size: 12pt; line-height: 115%">libreria Orientalia (via 
 Cairoli 63 &ndash; p.zza Vittorio)</span></p>  <p style="margin-bottom: 0.0
 001pt" class="MsoNormal"><span style="font-size: 12pt; line-height: 115%">v
 ineria 08 (via g. da mogliano 21 - pigneto)</span></p>  <p style="margin-bo
 ttom: 0.0001pt" class="MsoNormal"><span style="font-size: 12pt; line-height
 : 115%">papyrus cafe (via dei lucchesi &ndash; fontana di trevi)</span></p>
   <p style="margin-bottom: 0.0001pt" class="MsoNormal"><span style="font-si
 ze: 12pt; line-height: 115%">&nbsp;</span></p>  <p style="margin-bottom: 0.
 0001pt; text-align: center" class="MsoNormal" align="center"><strong><a hre
 f="http://www.unponteper.it/"><span style="color: windowtext; text-decorati
 on: none">www.unponteper.it</span></a> - <a href="http://www.sguardosulmedi
 oriente.com/"><span style="color: windowtext; text-decoration: none">www.sg
 uardosulmedioriente.com</span></a> - <a href="http://www.assopace.org/"><sp
 an style="color: windowtext; text-decoration: none">www.assopace.org</span>
 </a> - www.alkenzballet.com</strong></p>  <p class="MsoNormal">&nbsp;</p><h
 1 align="right"><strong>&nbsp;  ingle</strong><strong>se:</strong></h1><p a
 lign="right">Dance: A number of organizations (Sguardo sul Medio Oriente, U
 n Ponte Per and Assopace Roma) together with the dancers from Al Kenz Balle
 t, Culto del Ritmo and Badu Bros are organising a Dance show on 16 and 17 M
 ay 2009 at 20:30. &quot;RAQS ROMA: Danza orientale per Gaza &hellip;un viag
 gio da Casablanca a Beirut tra danza, musica, ritmi e tradizioni in due ser
 ate di beneficenza per il FREE GAZA MOVEMENT&nbsp; per la popolazione pales
 tinese&quot;. Interesting to note that there will be a special break dance 
 &ldquo;BREAK THE SIEGE&rdquo;. Food will be available thanks to the sponsor
 ship of Beirut (via dei condottieri 6) &amp; Shawarma Oriental (via merulan
 a 271). Entrance 10EUR. Teatro del sogno, via Lucrino 51, Roma (quartiere a
 fricano). Info prevendita: 3494588172 -&nbsp; 3333918912 or <span id="cloak
 32681">Questo indirizzo email è protetto dagli spambots. È necessario abili
 tare JavaScript per vederlo.</span><script type='text/javascript'>
 //<!--

  document.getElementById('cloak32681').innerHTML = '';
 var prefix = '&#109
 ;a' + 'i&#108;' + '&#116;o';
 var path = 'hr' + 'ef' + '=';
 var addy32681 
 = 'sg&#117;&#97;rd&#111;s&#117;lm&#101;d&#105;&#111;r&#105;&#101;nt&#101;' 
 + '&#64;';
 addy32681 = addy32681 + 'gm&#97;&#105;l' + '&#46;' + 'c&#111;m'
 ;
 document.getElementById('cloak32681').innerHTML += '<a ' + path + '\'' +
  prefix + ':' + addy32681 + '\'>' +addy32681+'<\/a>';
 //-->
 </script>&nbs
 p; </p><p align="right">&nbsp;</p>  <p>&nbsp;</p>
DTSTAMP:20260420T133106Z
DTSTART;TZID=Europe/Rome;VALUE=DATE:20090516
DTEND;TZID=Europe/Rome;VALUE=DATE:20090517
SEQUENCE:0
TRANSP:OPAQUE
END:VEVENT
END:VCALENDAR