BEGIN:VCALENDAR
VERSION:2.0
PRODID:-//jEvents 2.0 for Joomla//EN
CALSCALE:GREGORIAN
METHOD:PUBLISH
BEGIN:VTIMEZONE
TZID:Europe/Rome
BEGIN:STANDARD
DTSTART:20081026T020000
RDATE:20090329T030000
TZOFFSETFROM:+0200
TZOFFSETTO:+0100
TZNAME:Europe/Rome CET
END:STANDARD
BEGIN:STANDARD
DTSTART:20091025T020000
RDATE:20100328T030000
TZOFFSETFROM:+0200
TZOFFSETTO:+0100
TZNAME:Europe/Rome CET
END:STANDARD
BEGIN:STANDARD
DTSTART:20101031T020000
RDATE:20110327T030000
TZOFFSETFROM:+0200
TZOFFSETTO:+0100
TZNAME:Europe/Rome CET
END:STANDARD
BEGIN:STANDARD
DTSTART:20111030T020000
RDATE:20120325T030000
TZOFFSETFROM:+0200
TZOFFSETTO:+0100
TZNAME:Europe/Rome CET
END:STANDARD
BEGIN:STANDARD
DTSTART:20121028T020000
RDATE:20130331T030000
TZOFFSETFROM:+0200
TZOFFSETTO:+0100
TZNAME:Europe/Rome CET
END:STANDARD
BEGIN:STANDARD
DTSTART:20131027T020000
RDATE:20140330T030000
TZOFFSETFROM:+0200
TZOFFSETTO:+0100
TZNAME:Europe/Rome CET
END:STANDARD
BEGIN:STANDARD
DTSTART:20141026T020000
RDATE:20150329T030000
TZOFFSETFROM:+0200
TZOFFSETTO:+0100
TZNAME:Europe/Rome CET
END:STANDARD
BEGIN:STANDARD
DTSTART:20151025T020000
RDATE:20160327T030000
TZOFFSETFROM:+0200
TZOFFSETTO:+0100
TZNAME:Europe/Rome CET
END:STANDARD
BEGIN:STANDARD
DTSTART:20161030T020000
RDATE:20170326T030000
TZOFFSETFROM:+0200
TZOFFSETTO:+0100
TZNAME:Europe/Rome CET
END:STANDARD
BEGIN:STANDARD
DTSTART:20171029T020000
RDATE:20180325T030000
TZOFFSETFROM:+0200
TZOFFSETTO:+0100
TZNAME:Europe/Rome CET
END:STANDARD
BEGIN:STANDARD
DTSTART:20181028T020000
RDATE:20190331T030000
TZOFFSETFROM:+0200
TZOFFSETTO:+0100
TZNAME:Europe/Rome CET
END:STANDARD
BEGIN:STANDARD
DTSTART:20191027T020000
RDATE:20200329T030000
TZOFFSETFROM:+0200
TZOFFSETTO:+0100
TZNAME:Europe/Rome CET
END:STANDARD
BEGIN:STANDARD
DTSTART:20201025T020000
RDATE:20210328T030000
TZOFFSETFROM:+0200
TZOFFSETTO:+0100
TZNAME:Europe/Rome CET
END:STANDARD
BEGIN:STANDARD
DTSTART:20211031T020000
RDATE:20220327T030000
TZOFFSETFROM:+0200
TZOFFSETTO:+0100
TZNAME:Europe/Rome CET
END:STANDARD
BEGIN:STANDARD
DTSTART:20221030T020000
RDATE:20230326T030000
TZOFFSETFROM:+0200
TZOFFSETTO:+0100
TZNAME:Europe/Rome CET
END:STANDARD
BEGIN:STANDARD
DTSTART:20231029T020000
RDATE:20240331T030000
TZOFFSETFROM:+0200
TZOFFSETTO:+0100
TZNAME:Europe/Rome CET
END:STANDARD
BEGIN:STANDARD
DTSTART:20241027T020000
RDATE:20250330T030000
TZOFFSETFROM:+0200
TZOFFSETTO:+0100
TZNAME:Europe/Rome CET
END:STANDARD
BEGIN:STANDARD
DTSTART:20251026T020000
RDATE:20260329T030000
TZOFFSETFROM:+0200
TZOFFSETTO:+0100
TZNAME:Europe/Rome CET
END:STANDARD
BEGIN:STANDARD
DTSTART:20261025T020000
RDATE:20270328T030000
TZOFFSETFROM:+0200
TZOFFSETTO:+0100
TZNAME:Europe/Rome CET
END:STANDARD
BEGIN:STANDARD
DTSTART:20271031T020000
RDATE:20280326T030000
TZOFFSETFROM:+0200
TZOFFSETTO:+0100
TZNAME:Europe/Rome CET
END:STANDARD
BEGIN:STANDARD
DTSTART:20281029T020000
RDATE:20290325T030000
TZOFFSETFROM:+0200
TZOFFSETTO:+0100
TZNAME:Europe/Rome CET
END:STANDARD
BEGIN:STANDARD
DTSTART:20291028T020000
RDATE:20300331T030000
TZOFFSETFROM:+0200
TZOFFSETTO:+0100
TZNAME:Europe/Rome CET
END:STANDARD
BEGIN:STANDARD
DTSTART:20301027T020000
RDATE:20310330T030000
TZOFFSETFROM:+0200
TZOFFSETTO:+0100
TZNAME:Europe/Rome CET
END:STANDARD
BEGIN:STANDARD
DTSTART:20311026T020000
RDATE:20320328T030000
TZOFFSETFROM:+0200
TZOFFSETTO:+0100
TZNAME:Europe/Rome CET
END:STANDARD
BEGIN:STANDARD
DTSTART:20321031T020000
RDATE:20330327T030000
TZOFFSETFROM:+0200
TZOFFSETTO:+0100
TZNAME:Europe/Rome CET
END:STANDARD
BEGIN:STANDARD
DTSTART:20331030T020000
RDATE:20340326T030000
TZOFFSETFROM:+0200
TZOFFSETTO:+0100
TZNAME:Europe/Rome CET
END:STANDARD
BEGIN:STANDARD
DTSTART:20341029T020000
RDATE:20350325T030000
TZOFFSETFROM:+0200
TZOFFSETTO:+0100
TZNAME:Europe/Rome CET
END:STANDARD
BEGIN:STANDARD
DTSTART:20351028T020000
RDATE:20360330T030000
TZOFFSETFROM:+0200
TZOFFSETTO:+0100
TZNAME:Europe/Rome CET
END:STANDARD
BEGIN:STANDARD
DTSTART:20361026T020000
RDATE:20370329T030000
TZOFFSETFROM:+0200
TZOFFSETTO:+0100
TZNAME:Europe/Rome CET
END:STANDARD
BEGIN:STANDARD
DTSTART:20371025T020000
TZOFFSETFROM:+0200
TZOFFSETTO:+0100
TZNAME:Europe/Rome CET
END:STANDARD
BEGIN:DAYLIGHT
DTSTART:20080522T000000
RDATE:20081026T020000
TZOFFSETFROM:+0100
TZOFFSETTO:+0200
TZNAME:Europe/Rome CEST
END:DAYLIGHT
BEGIN:DAYLIGHT
DTSTART:20090329T030000
RDATE:20091025T020000
TZOFFSETFROM:+0100
TZOFFSETTO:+0200
TZNAME:Europe/Rome CEST
END:DAYLIGHT
BEGIN:DAYLIGHT
DTSTART:20100328T030000
RDATE:20101031T020000
TZOFFSETFROM:+0100
TZOFFSETTO:+0200
TZNAME:Europe/Rome CEST
END:DAYLIGHT
BEGIN:DAYLIGHT
DTSTART:20110327T030000
RDATE:20111030T020000
TZOFFSETFROM:+0100
TZOFFSETTO:+0200
TZNAME:Europe/Rome CEST
END:DAYLIGHT
BEGIN:DAYLIGHT
DTSTART:20120325T030000
RDATE:20121028T020000
TZOFFSETFROM:+0100
TZOFFSETTO:+0200
TZNAME:Europe/Rome CEST
END:DAYLIGHT
BEGIN:DAYLIGHT
DTSTART:20130331T030000
RDATE:20131027T020000
TZOFFSETFROM:+0100
TZOFFSETTO:+0200
TZNAME:Europe/Rome CEST
END:DAYLIGHT
BEGIN:DAYLIGHT
DTSTART:20140330T030000
RDATE:20141026T020000
TZOFFSETFROM:+0100
TZOFFSETTO:+0200
TZNAME:Europe/Rome CEST
END:DAYLIGHT
BEGIN:DAYLIGHT
DTSTART:20150329T030000
RDATE:20151025T020000
TZOFFSETFROM:+0100
TZOFFSETTO:+0200
TZNAME:Europe/Rome CEST
END:DAYLIGHT
BEGIN:DAYLIGHT
DTSTART:20160327T030000
RDATE:20161030T020000
TZOFFSETFROM:+0100
TZOFFSETTO:+0200
TZNAME:Europe/Rome CEST
END:DAYLIGHT
BEGIN:DAYLIGHT
DTSTART:20170326T030000
RDATE:20171029T020000
TZOFFSETFROM:+0100
TZOFFSETTO:+0200
TZNAME:Europe/Rome CEST
END:DAYLIGHT
BEGIN:DAYLIGHT
DTSTART:20180325T030000
RDATE:20181028T020000
TZOFFSETFROM:+0100
TZOFFSETTO:+0200
TZNAME:Europe/Rome CEST
END:DAYLIGHT
BEGIN:DAYLIGHT
DTSTART:20190331T030000
RDATE:20191027T020000
TZOFFSETFROM:+0100
TZOFFSETTO:+0200
TZNAME:Europe/Rome CEST
END:DAYLIGHT
BEGIN:DAYLIGHT
DTSTART:20200329T030000
RDATE:20201025T020000
TZOFFSETFROM:+0100
TZOFFSETTO:+0200
TZNAME:Europe/Rome CEST
END:DAYLIGHT
BEGIN:DAYLIGHT
DTSTART:20210328T030000
RDATE:20211031T020000
TZOFFSETFROM:+0100
TZOFFSETTO:+0200
TZNAME:Europe/Rome CEST
END:DAYLIGHT
BEGIN:DAYLIGHT
DTSTART:20220327T030000
RDATE:20221030T020000
TZOFFSETFROM:+0100
TZOFFSETTO:+0200
TZNAME:Europe/Rome CEST
END:DAYLIGHT
BEGIN:DAYLIGHT
DTSTART:20230326T030000
RDATE:20231029T020000
TZOFFSETFROM:+0100
TZOFFSETTO:+0200
TZNAME:Europe/Rome CEST
END:DAYLIGHT
BEGIN:DAYLIGHT
DTSTART:20240331T030000
RDATE:20241027T020000
TZOFFSETFROM:+0100
TZOFFSETTO:+0200
TZNAME:Europe/Rome CEST
END:DAYLIGHT
BEGIN:DAYLIGHT
DTSTART:20250330T030000
RDATE:20251026T020000
TZOFFSETFROM:+0100
TZOFFSETTO:+0200
TZNAME:Europe/Rome CEST
END:DAYLIGHT
BEGIN:DAYLIGHT
DTSTART:20260329T030000
RDATE:20261025T020000
TZOFFSETFROM:+0100
TZOFFSETTO:+0200
TZNAME:Europe/Rome CEST
END:DAYLIGHT
BEGIN:DAYLIGHT
DTSTART:20270328T030000
RDATE:20271031T020000
TZOFFSETFROM:+0100
TZOFFSETTO:+0200
TZNAME:Europe/Rome CEST
END:DAYLIGHT
BEGIN:DAYLIGHT
DTSTART:20280326T030000
RDATE:20281029T020000
TZOFFSETFROM:+0100
TZOFFSETTO:+0200
TZNAME:Europe/Rome CEST
END:DAYLIGHT
BEGIN:DAYLIGHT
DTSTART:20290325T030000
RDATE:20291028T020000
TZOFFSETFROM:+0100
TZOFFSETTO:+0200
TZNAME:Europe/Rome CEST
END:DAYLIGHT
BEGIN:DAYLIGHT
DTSTART:20300331T030000
RDATE:20301027T020000
TZOFFSETFROM:+0100
TZOFFSETTO:+0200
TZNAME:Europe/Rome CEST
END:DAYLIGHT
BEGIN:DAYLIGHT
DTSTART:20310330T030000
RDATE:20311026T020000
TZOFFSETFROM:+0100
TZOFFSETTO:+0200
TZNAME:Europe/Rome CEST
END:DAYLIGHT
BEGIN:DAYLIGHT
DTSTART:20320328T030000
RDATE:20321031T020000
TZOFFSETFROM:+0100
TZOFFSETTO:+0200
TZNAME:Europe/Rome CEST
END:DAYLIGHT
BEGIN:DAYLIGHT
DTSTART:20330327T030000
RDATE:20331030T020000
TZOFFSETFROM:+0100
TZOFFSETTO:+0200
TZNAME:Europe/Rome CEST
END:DAYLIGHT
BEGIN:DAYLIGHT
DTSTART:20340326T030000
RDATE:20341029T020000
TZOFFSETFROM:+0100
TZOFFSETTO:+0200
TZNAME:Europe/Rome CEST
END:DAYLIGHT
BEGIN:DAYLIGHT
DTSTART:20350325T030000
RDATE:20351028T020000
TZOFFSETFROM:+0100
TZOFFSETTO:+0200
TZNAME:Europe/Rome CEST
END:DAYLIGHT
BEGIN:DAYLIGHT
DTSTART:20360330T030000
RDATE:20361026T020000
TZOFFSETFROM:+0100
TZOFFSETTO:+0200
TZNAME:Europe/Rome CEST
END:DAYLIGHT
BEGIN:DAYLIGHT
DTSTART:20370329T030000
RDATE:20371025T020000
TZOFFSETFROM:+0100
TZOFFSETTO:+0200
TZNAME:Europe/Rome CEST
END:DAYLIGHT
END:VTIMEZONE
BEGIN:VEVENT
UID:1429119849evt307
CATEGORIES:.
SUMMARY:23-31- Sport Against Violence
DESCRIPTION;ENCODING=QUOTED-PRINTABLE:\n\n23-31 maggio 2009 \n\n\nSport Against Violence - 2&deg;edizione \n\n\ni
 n vista della promozione della Baghdad Marathon 2011, \nci saranno presso l
 o stadio Caracalla una serie di eventi culturali legati all&#39;Iraq e al m
 ondo arabo nell&#39;insieme (donna, immigrazione, libert&agrave; d&#39;info
 rmazione, etc. ) nonch&egrave; eventi sportivi.\n\n\npresso: Roma, Stadio N
 ando Martellini - Terme di Caracalla\n\n\n&nbsp;\n\n\n&nbsp;\n2^ EDIZIONE\n
 \nStadio Nando Martellini - Terme di Caracalla \nRoma 23 - 31 Maggio 2009\n
 \n\n\nPROGRAMMA\n\nSabato 23 Maggio &nbsp;\n\nOre 16:00 - Saggi e dimostraz
 ioni di ginnastica artistica. \nOre 17:00 - Saggi e dimostrazioni di lotta 
 greco romana. \nOre 18:00 - Lezione aperta percussione araba a cura della S
 cuola Timba.\nOre 19:00 - Inizio Staffetta della pace 24X1ORA.\nOre 19.30: 
 Inaugurazione mostra [IM]POSSIBILE, a cura di Officine Fotografiche\nOre 21
 :00 - Concerto di Suzanne che interpreta la musica del cantante iracheno Ka
 dem Al Saher. \nA seguire, spettacolo di percussioni araba del trio Cubi.\n
 \nDurante le 24 ore si alterneranno: musica dal vivo di artisti emergenti, 
 tiro alla fune, corsa dei sacchi e danza del ventre. Saranno a disposizione
  tavoli da ping pong e biliardino. Uno stand dover poter fare tatuaggi all&
 rsquo;Henn&eacute;. Inoltre, chi vorr&agrave; potr&agrave; partecipare alle
  lezioni di percussioni organizzate dalla scuola Timba.\n\n\n\n\nDomenica 2
 4 Maggio\n\nDurante la staffetta nell&rsquo;area verde interna alla pista s
 i susseguiranno le esibizioni e le prove libere delle federazioni riconosci
 ute dal Coni con assistenza degli istruttori federali.\n\nOre 17:30 - Lezio
 ne aperta danza del ventre a cura del centro Masir.\nOre 19:00 - Premiazion
 e Staffetta 24X1ora. A seguire Pasta Party.\nOre 20:30 - Spettacolo danza d
 el ventre a cura di Perla.\n\n\n\n\nLuned&igrave; 25 Maggio \n\nGiornata de
 dicata all&rsquo;immigrazione\n\nIncontro con il regista Martino Lo Cascio.
  Seguire proiezione del documentario &ldquo;Vulpitta Residence&rdquo;. Una 
 denuncia sulla condizione del Cpt di Agrigento tra il 1998 e il 2001.\n\nIn
 contro con i rappresentanti del Cir- Consiglio Italiano per i Rifugiati. Pr
 oiezioni di documentari \n\nDalle 17:00 - Incontro sul tema dell&rsquo;immi
 grazione e salute. Intervengono Aldo Morrone, primario di medicina preventi
 va delle migrazioni dell&rsquo;ospedale San Gallicano di Roma e Souad Audi,
  presidente dell&rsquo;Amsi. \n\n\n\n\nMarted&igrave; 26 Maggio\n\nGiornata
  dedicata alla donna\n\nInizio ore 17:30 &ndash; Il Teatro Stabile di Ostia
  Antica diretto da Corrado Croce presenta DONNA OLTRE \nIntervengono:\nGiul
 iana Salce - autrice del libro &ldquo;Dalla vita in gi&ugrave;&rdquo;. Edit
 ore Bradipolibri. \nPaola Cardelli &ndash; autrice del libro &ldquo;Sguardi
  di Pietra&rdquo;. Editore Serarcangeli. \nModera la Prof.ssa Livia Compagn
 oni. \nLetture di passi teatrali sul tema della donna a cura delle attrici 
 teatrali: Valentina Croce, Manuela Meneghello e Annalisa Picconi.\nProiezio
 ne documentario &ldquo;Neanche un fiore&rdquo; a cura di Donnatv.\n\nTavola
  rotonda con la delegata nazionale dell&#39; Unione Donne Italiane, la Dr.s
 sa Pina Nuzzo.\n\nChiusura con l&rsquo;intervento dell&rsquo;associazione D
 onne in Nero.\n\n\n\n\nMercoled&igrave; 27 Maggio \n\nGiornata dedicata all
 o Sport\n\nOre 17.30 - Presentazione libri:\n\n&ldquo;La Pace va per Corsa&
 rdquo; di Pino Papaluca.\n&ldquo;Blacks italians&rdquo; di Mauro Valeri.\n&
 ldquo;Insostenibile leggerezza di Effenberg&rdquo; di Gabriella Greison. Ed
 itore Bradipolibri\n\nModera il giornalista della Gazzetta dello Sport Vale
 rio Piccioni.\n\nProiezione del documentario &ldquo;La Grande Olimpiade&rdq
 uo; di Romolo Marcellini, documentario dell&#39;Istituto Luce sull&#39;even
 to 1960 (DVD). \n\n\n\n\nGioved&igrave; 28 Maggio \n\nOre 8:00 - Staffetta 
 100x1000 Miguel per scuole medie. Organizzata dal Club Atletico Centrale. \
 nOre 17.30 - Convegno: &quot;Informazione e Formazione nell&#39; Iraq del 2
 009: la nuova Babilonia&quot;. \nOre 20.00 - Micro Gare Sportive quasi Goli
 ardiche e quasi Studentesche. \nOre 22.00 &ndash; Proiezione del documentar
 io: &ldquo;E il Tigri placido scorre, istantanee della Baghdad occupata&rdq
 uo; . \n\n\n\n\nVenerd&igrave; 29 Maggio \n\nGiornata della Donna Araba\n\n
 Ore 8:00 - Staffetta 100x1000 Miguel per scuole superiori. Organizzata dal 
 Club Atletico Centrale.\n\nOre 17:30 &ndash; Presentazione del libro &ldquo
 ;Porto il velo. Adoro i Queen&rdquo; di Sumaya Abdel Qader &ndash; Presenta
 zione del libro &ldquo;Il prezzo del velo&rdquo; di Giuliana Sgrena (Presen
 ta la giornalista di ECORADIO Sabrina Pisu)\n19:00 -&nbsp; Break\n19:30 -&n
 bsp; Proiezione Film &ldquo;Caramel&rdquo; di Nadine Labaki\n20:45 &ndash; 
 Tavola Rotonda su &ldquo;Donne arabe oggi&rdquo;\nModera la giornalista di 
 Ecoradio Sabrina Pisu. \n\n\n\n\nSabato 30 Maggio 2009 \n\nOre 9:00 - Staff
 etta 100x1000 Mappamondo. Organizzata dal Club Atletico Centrale.\nOre 10:0
 0 - Torneo Calcio A5 Scuole di Roma e Provincia. 1&deg; Edizione. \n\nIl To
 rneo organizzato in collaborazione con il Ministero dell&rsquo;Istruzione, 
 della Ricerca e dell&rsquo;Universit&agrave;, vedr&agrave; in campo le squa
 dre finaliste delle scuole di Roma e Provincia che hanno disputato le final
 i del Torneo di CALCIO A5 GIOCHI SPORTIVI STUDENTESCHI. Saranno 8 le squadr
 e (maschili e femminili) delle scuole di 1&deg; Grado (Medie) che saranno a
 rbitrate dagli alunni delle scuole di 2&deg; Grado (Superiori) all&rsquo;in
 segna del FairPlay. Per l&rsquo;occasione sar&agrave; invitato un rappresen
 tante del Comitato Nazionale Italiano FairPlay.\n\n\nOre 12:00 - Esibizione
  della Squadra Italiana di Ginnastica Aerobica a cura della Federazione Ita
 liana Aerobica e Fitness.\nOre 15:00 - Racconto di favole arabe e concorso 
 di disegni per bambini.\nOre 16:00 - Meeting internazionale Fidal &ldquo;An
 na Catalano&rdquo;.\nOre 21:00 - Sfilata di moda marocchina - Esibizione di
  danza del ventre a cura del Centro Masir.\n\n\n\n\nDomenica 31 Maggio \n\n
 Giornata della Disabilit&agrave;\n\nOre 10:00 Staffetta 100X1000 Femminile 
 - Partenza prima frazionista. \n\nDurante il corso della giornata sar&agrav
 e; possibile effettuare prove libere di una o pi&ugrave; discipline sportiv
 e presenti in campo con l&rsquo;assistenza di Istruttori Federali. Saranno 
 inoltre organizzate esibizioni e gare. Lezioni di percussioni a cura della 
 scuola Timba\n\nInterverranno \n\nDisable People International-Italia con l
 &rsquo;atleta Generoso Di Benedetto. \nCentro per l&rsquo;Autonomia Stefano
  Rossi 2007. \nPrimavera Albano 2009.\n\nDimostrazione di tiro con l&#39;ar
 co di atleti con Disabilit&agrave;. &nbsp;\n\nOre 12:00 - Lezione aperta da
 nza del ventre a cura del Centro Masir.\nOre 16:30 - Lezione aperta percusi
 one araba a cura della Scuola Timba.\nOre 18:00 - Premiazione concorso di p
 ittura &ldquo;SPORT AGAINST VIOLENCE&rdquo;.\nOre 19:30 - Incontro con Faus
 to Podavini, fotografo della mostra: [IM]POSSIBILE collettiva \nfotografica
  realizzata da PODAVINI, PALOMBO, MARTONE, CRISTIANO, CHERUBINI , MASTANTUO
 NO membri di OF\n\n\n\n\nTutta la settimana:\n\nMostre fotografiche sui tem
 i:\n\nVIOLENZA DONNE\nDONNE ARABE\nGUERRA\nDIRITTI UMANI\nIRAQ\nSPORT E DIS
 ABILITA&rsquo;\n\nMostra d&rsquo;arte di artisti iracheni\nMostra dei dipin
 ti presentati a concorso &ldquo;Sport Against Violence&rdquo;\nRistorante a
 rabo\nRapid Futbol &ndash; si potr&agrave; giocare gratuitamente a calcio 2
 x2 o 3x3 sul mini campo in erba sintetica antishock con le sponde. Ogni par
 tita durer&agrave; tre tempi da 5 minuti ciascuno. \n\n
DTSTAMP:20260420T130424Z
DTSTART;TZID=Europe/Rome;VALUE=DATE:20090523
DTEND;TZID=Europe/Rome;VALUE=DATE:20090524
SEQUENCE:0
TRANSP:OPAQUE
END:VEVENT
END:VCALENDAR