BEGIN:VCALENDAR
VERSION:2.0
PRODID:-//jEvents 2.0 for Joomla//EN
CALSCALE:GREGORIAN
METHOD:PUBLISH
BEGIN:VTIMEZONE
TZID:Europe/Rome
BEGIN:STANDARD
DTSTART:20081026T020000
RDATE:20090329T030000
TZOFFSETFROM:+0200
TZOFFSETTO:+0100
TZNAME:Europe/Rome CET
END:STANDARD
BEGIN:STANDARD
DTSTART:20091025T020000
RDATE:20100328T030000
TZOFFSETFROM:+0200
TZOFFSETTO:+0100
TZNAME:Europe/Rome CET
END:STANDARD
BEGIN:STANDARD
DTSTART:20101031T020000
RDATE:20110327T030000
TZOFFSETFROM:+0200
TZOFFSETTO:+0100
TZNAME:Europe/Rome CET
END:STANDARD
BEGIN:STANDARD
DTSTART:20111030T020000
RDATE:20120325T030000
TZOFFSETFROM:+0200
TZOFFSETTO:+0100
TZNAME:Europe/Rome CET
END:STANDARD
BEGIN:STANDARD
DTSTART:20121028T020000
RDATE:20130331T030000
TZOFFSETFROM:+0200
TZOFFSETTO:+0100
TZNAME:Europe/Rome CET
END:STANDARD
BEGIN:STANDARD
DTSTART:20131027T020000
RDATE:20140330T030000
TZOFFSETFROM:+0200
TZOFFSETTO:+0100
TZNAME:Europe/Rome CET
END:STANDARD
BEGIN:STANDARD
DTSTART:20141026T020000
RDATE:20150329T030000
TZOFFSETFROM:+0200
TZOFFSETTO:+0100
TZNAME:Europe/Rome CET
END:STANDARD
BEGIN:STANDARD
DTSTART:20151025T020000
RDATE:20160327T030000
TZOFFSETFROM:+0200
TZOFFSETTO:+0100
TZNAME:Europe/Rome CET
END:STANDARD
BEGIN:STANDARD
DTSTART:20161030T020000
RDATE:20170326T030000
TZOFFSETFROM:+0200
TZOFFSETTO:+0100
TZNAME:Europe/Rome CET
END:STANDARD
BEGIN:STANDARD
DTSTART:20171029T020000
RDATE:20180325T030000
TZOFFSETFROM:+0200
TZOFFSETTO:+0100
TZNAME:Europe/Rome CET
END:STANDARD
BEGIN:STANDARD
DTSTART:20181028T020000
RDATE:20190331T030000
TZOFFSETFROM:+0200
TZOFFSETTO:+0100
TZNAME:Europe/Rome CET
END:STANDARD
BEGIN:STANDARD
DTSTART:20191027T020000
RDATE:20200329T030000
TZOFFSETFROM:+0200
TZOFFSETTO:+0100
TZNAME:Europe/Rome CET
END:STANDARD
BEGIN:STANDARD
DTSTART:20201025T020000
RDATE:20210328T030000
TZOFFSETFROM:+0200
TZOFFSETTO:+0100
TZNAME:Europe/Rome CET
END:STANDARD
BEGIN:STANDARD
DTSTART:20211031T020000
RDATE:20220327T030000
TZOFFSETFROM:+0200
TZOFFSETTO:+0100
TZNAME:Europe/Rome CET
END:STANDARD
BEGIN:STANDARD
DTSTART:20221030T020000
RDATE:20230326T030000
TZOFFSETFROM:+0200
TZOFFSETTO:+0100
TZNAME:Europe/Rome CET
END:STANDARD
BEGIN:STANDARD
DTSTART:20231029T020000
RDATE:20240331T030000
TZOFFSETFROM:+0200
TZOFFSETTO:+0100
TZNAME:Europe/Rome CET
END:STANDARD
BEGIN:STANDARD
DTSTART:20241027T020000
RDATE:20250330T030000
TZOFFSETFROM:+0200
TZOFFSETTO:+0100
TZNAME:Europe/Rome CET
END:STANDARD
BEGIN:STANDARD
DTSTART:20251026T020000
RDATE:20260329T030000
TZOFFSETFROM:+0200
TZOFFSETTO:+0100
TZNAME:Europe/Rome CET
END:STANDARD
BEGIN:STANDARD
DTSTART:20261025T020000
RDATE:20270328T030000
TZOFFSETFROM:+0200
TZOFFSETTO:+0100
TZNAME:Europe/Rome CET
END:STANDARD
BEGIN:STANDARD
DTSTART:20271031T020000
RDATE:20280326T030000
TZOFFSETFROM:+0200
TZOFFSETTO:+0100
TZNAME:Europe/Rome CET
END:STANDARD
BEGIN:STANDARD
DTSTART:20281029T020000
RDATE:20290325T030000
TZOFFSETFROM:+0200
TZOFFSETTO:+0100
TZNAME:Europe/Rome CET
END:STANDARD
BEGIN:STANDARD
DTSTART:20291028T020000
RDATE:20300331T030000
TZOFFSETFROM:+0200
TZOFFSETTO:+0100
TZNAME:Europe/Rome CET
END:STANDARD
BEGIN:STANDARD
DTSTART:20301027T020000
RDATE:20310330T030000
TZOFFSETFROM:+0200
TZOFFSETTO:+0100
TZNAME:Europe/Rome CET
END:STANDARD
BEGIN:STANDARD
DTSTART:20311026T020000
RDATE:20320328T030000
TZOFFSETFROM:+0200
TZOFFSETTO:+0100
TZNAME:Europe/Rome CET
END:STANDARD
BEGIN:STANDARD
DTSTART:20321031T020000
RDATE:20330327T030000
TZOFFSETFROM:+0200
TZOFFSETTO:+0100
TZNAME:Europe/Rome CET
END:STANDARD
BEGIN:STANDARD
DTSTART:20331030T020000
RDATE:20340326T030000
TZOFFSETFROM:+0200
TZOFFSETTO:+0100
TZNAME:Europe/Rome CET
END:STANDARD
BEGIN:STANDARD
DTSTART:20341029T020000
RDATE:20350325T030000
TZOFFSETFROM:+0200
TZOFFSETTO:+0100
TZNAME:Europe/Rome CET
END:STANDARD
BEGIN:STANDARD
DTSTART:20351028T020000
RDATE:20360330T030000
TZOFFSETFROM:+0200
TZOFFSETTO:+0100
TZNAME:Europe/Rome CET
END:STANDARD
BEGIN:STANDARD
DTSTART:20361026T020000
RDATE:20370329T030000
TZOFFSETFROM:+0200
TZOFFSETTO:+0100
TZNAME:Europe/Rome CET
END:STANDARD
BEGIN:STANDARD
DTSTART:20371025T020000
TZOFFSETFROM:+0200
TZOFFSETTO:+0100
TZNAME:Europe/Rome CET
END:STANDARD
BEGIN:DAYLIGHT
DTSTART:20080530T000000
RDATE:20081026T020000
TZOFFSETFROM:+0100
TZOFFSETTO:+0200
TZNAME:Europe/Rome CEST
END:DAYLIGHT
BEGIN:DAYLIGHT
DTSTART:20090329T030000
RDATE:20091025T020000
TZOFFSETFROM:+0100
TZOFFSETTO:+0200
TZNAME:Europe/Rome CEST
END:DAYLIGHT
BEGIN:DAYLIGHT
DTSTART:20100328T030000
RDATE:20101031T020000
TZOFFSETFROM:+0100
TZOFFSETTO:+0200
TZNAME:Europe/Rome CEST
END:DAYLIGHT
BEGIN:DAYLIGHT
DTSTART:20110327T030000
RDATE:20111030T020000
TZOFFSETFROM:+0100
TZOFFSETTO:+0200
TZNAME:Europe/Rome CEST
END:DAYLIGHT
BEGIN:DAYLIGHT
DTSTART:20120325T030000
RDATE:20121028T020000
TZOFFSETFROM:+0100
TZOFFSETTO:+0200
TZNAME:Europe/Rome CEST
END:DAYLIGHT
BEGIN:DAYLIGHT
DTSTART:20130331T030000
RDATE:20131027T020000
TZOFFSETFROM:+0100
TZOFFSETTO:+0200
TZNAME:Europe/Rome CEST
END:DAYLIGHT
BEGIN:DAYLIGHT
DTSTART:20140330T030000
RDATE:20141026T020000
TZOFFSETFROM:+0100
TZOFFSETTO:+0200
TZNAME:Europe/Rome CEST
END:DAYLIGHT
BEGIN:DAYLIGHT
DTSTART:20150329T030000
RDATE:20151025T020000
TZOFFSETFROM:+0100
TZOFFSETTO:+0200
TZNAME:Europe/Rome CEST
END:DAYLIGHT
BEGIN:DAYLIGHT
DTSTART:20160327T030000
RDATE:20161030T020000
TZOFFSETFROM:+0100
TZOFFSETTO:+0200
TZNAME:Europe/Rome CEST
END:DAYLIGHT
BEGIN:DAYLIGHT
DTSTART:20170326T030000
RDATE:20171029T020000
TZOFFSETFROM:+0100
TZOFFSETTO:+0200
TZNAME:Europe/Rome CEST
END:DAYLIGHT
BEGIN:DAYLIGHT
DTSTART:20180325T030000
RDATE:20181028T020000
TZOFFSETFROM:+0100
TZOFFSETTO:+0200
TZNAME:Europe/Rome CEST
END:DAYLIGHT
BEGIN:DAYLIGHT
DTSTART:20190331T030000
RDATE:20191027T020000
TZOFFSETFROM:+0100
TZOFFSETTO:+0200
TZNAME:Europe/Rome CEST
END:DAYLIGHT
BEGIN:DAYLIGHT
DTSTART:20200329T030000
RDATE:20201025T020000
TZOFFSETFROM:+0100
TZOFFSETTO:+0200
TZNAME:Europe/Rome CEST
END:DAYLIGHT
BEGIN:DAYLIGHT
DTSTART:20210328T030000
RDATE:20211031T020000
TZOFFSETFROM:+0100
TZOFFSETTO:+0200
TZNAME:Europe/Rome CEST
END:DAYLIGHT
BEGIN:DAYLIGHT
DTSTART:20220327T030000
RDATE:20221030T020000
TZOFFSETFROM:+0100
TZOFFSETTO:+0200
TZNAME:Europe/Rome CEST
END:DAYLIGHT
BEGIN:DAYLIGHT
DTSTART:20230326T030000
RDATE:20231029T020000
TZOFFSETFROM:+0100
TZOFFSETTO:+0200
TZNAME:Europe/Rome CEST
END:DAYLIGHT
BEGIN:DAYLIGHT
DTSTART:20240331T030000
RDATE:20241027T020000
TZOFFSETFROM:+0100
TZOFFSETTO:+0200
TZNAME:Europe/Rome CEST
END:DAYLIGHT
BEGIN:DAYLIGHT
DTSTART:20250330T030000
RDATE:20251026T020000
TZOFFSETFROM:+0100
TZOFFSETTO:+0200
TZNAME:Europe/Rome CEST
END:DAYLIGHT
BEGIN:DAYLIGHT
DTSTART:20260329T030000
RDATE:20261025T020000
TZOFFSETFROM:+0100
TZOFFSETTO:+0200
TZNAME:Europe/Rome CEST
END:DAYLIGHT
BEGIN:DAYLIGHT
DTSTART:20270328T030000
RDATE:20271031T020000
TZOFFSETFROM:+0100
TZOFFSETTO:+0200
TZNAME:Europe/Rome CEST
END:DAYLIGHT
BEGIN:DAYLIGHT
DTSTART:20280326T030000
RDATE:20281029T020000
TZOFFSETFROM:+0100
TZOFFSETTO:+0200
TZNAME:Europe/Rome CEST
END:DAYLIGHT
BEGIN:DAYLIGHT
DTSTART:20290325T030000
RDATE:20291028T020000
TZOFFSETFROM:+0100
TZOFFSETTO:+0200
TZNAME:Europe/Rome CEST
END:DAYLIGHT
BEGIN:DAYLIGHT
DTSTART:20300331T030000
RDATE:20301027T020000
TZOFFSETFROM:+0100
TZOFFSETTO:+0200
TZNAME:Europe/Rome CEST
END:DAYLIGHT
BEGIN:DAYLIGHT
DTSTART:20310330T030000
RDATE:20311026T020000
TZOFFSETFROM:+0100
TZOFFSETTO:+0200
TZNAME:Europe/Rome CEST
END:DAYLIGHT
BEGIN:DAYLIGHT
DTSTART:20320328T030000
RDATE:20321031T020000
TZOFFSETFROM:+0100
TZOFFSETTO:+0200
TZNAME:Europe/Rome CEST
END:DAYLIGHT
BEGIN:DAYLIGHT
DTSTART:20330327T030000
RDATE:20331030T020000
TZOFFSETFROM:+0100
TZOFFSETTO:+0200
TZNAME:Europe/Rome CEST
END:DAYLIGHT
BEGIN:DAYLIGHT
DTSTART:20340326T030000
RDATE:20341029T020000
TZOFFSETFROM:+0100
TZOFFSETTO:+0200
TZNAME:Europe/Rome CEST
END:DAYLIGHT
BEGIN:DAYLIGHT
DTSTART:20350325T030000
RDATE:20351028T020000
TZOFFSETFROM:+0100
TZOFFSETTO:+0200
TZNAME:Europe/Rome CEST
END:DAYLIGHT
BEGIN:DAYLIGHT
DTSTART:20360330T030000
RDATE:20361026T020000
TZOFFSETFROM:+0100
TZOFFSETTO:+0200
TZNAME:Europe/Rome CEST
END:DAYLIGHT
BEGIN:DAYLIGHT
DTSTART:20370329T030000
RDATE:20371025T020000
TZOFFSETFROM:+0100
TZOFFSETTO:+0200
TZNAME:Europe/Rome CEST
END:DAYLIGHT
END:VTIMEZONE
BEGIN:VEVENT
UID:1429119852evt348
CATEGORIES:.
SUMMARY:31- Finding Palestine (evento)
DESCRIPTION;ENCODING=QUOTED-PRINTABLE:<p>Associazione Giovani Palestinesi Wael Zuaiter<br />Associazione Cultural
 e Aktivamente<br />presentano<br /><br /><span style="font-weight: bold; te
 xt-decoration: underline">FINDING PALESTINE </span><br /><span style="font-
 weight: bold; text-decoration: underline">STORIE E SENTIERI DI UNA TERRA</s
 pan><br /><span style="font-weight: bold; text-decoration: underline">3&deg
 ; edizione</span><br /><br /><br /><br /><br /><br />31 MAGGIO 2009<br />&n
 bsp;<br />INGRESSO LIBERO<br /><strong>ore: </strong>18<br /><strong>presso
 : </strong>Circolo degli Artisti Via Casilina Vecchia 42<br /><br /><br /><
 br /><br /><br /><u><strong>PROGRAMMA:</strong></u><br /><br /><br /><stron
 g>H. 18.00 APERTURA E INIZIO WORKSHOP</strong><br /><br />- WORKSHOP DI DAB
 KA <br />danza tradizionale palestinese <br /><br />- WORKSHOP DI CUCINA PA
 LESTINESE <br />di Shady Hasbun finalista del programma RAI &quot;La prova 
 del cuoco&quot; <br /><br />- SPETTACOLO DI GIOCOLERIA <br />&ldquo;Letcirk
  di Anna Moben&rdquo; - il circo dell&rsquo;eccetera <br /><br />- PALESTIN
 A IERI E OGGI <br />mostra storica <br /><br />- A WALK NEAR THE SEA OF GAZ
 A <br />mostra fotografica di Luca Tommasini <br />&nbsp;<br />-CRESCERE IN
  PACE <br />mostra fotografica di Vento di terra<br /><br />- LA PALESTINA 
 STORICA <br />mostra fotografica &nbsp;<br /><br />- ISIS RIZK <br />mostra
  di pittura <br /><br />- SAMIR HARB <br />mostra di fumetti<br /><br /><br
  /><br /><br /><strong>H. 19.00 DIBATTITO</strong><br /><br />GERUSALEMME: 
 IDENTIT&Agrave;, DISCRIMINAZIONE E OCCUPAZIONE<br />con <br />- OSAMA HAMDA
 N Docente di Restauro Architettonico (Gerusalemme), LUISA - MORGANTINI Vice
  Presidente del Parlamento Europeo, <br />- ABE HAYEEM Presidente dell&#39;
 associazione Architects and Planners<br />for Justice in Palestine, CARLA B
 ENELLI Storica dell&rsquo;Arte, modera <br />- PAOLO MONDANI giornalista di
  Report<br /><br /><br /><strong>H. 20.30 PERFORMANCE DI SAMIR HARB fumetti
 sta palestinese</strong><br /><br /><br /><strong>H. 21.00 LETTURA MUSICATA
  DELLE POESIE DI MAHMOUD DARWISH</strong><br />con <br />- JASMINE TRINCA (
 Romanzo criminale, La meglio giovent&ugrave;, La stanza del figlio...)<br /
 >- e WASEEM DAHMASH, <br />- musiche dal vivo di MOHSEN SUBHI (Palestina)<b
 r /><br /><br /><strong>H. 21.30 PRESENTAZIONE DEL MODELLO DELLO STILISTA J
 AMAL TASLAQ E VENDITA ALL&rsquo;ASTA</strong><br /><br /><br /><strong>H. 2
 2.00 SPETTACOLO DI DABKA</strong><br />PROIEZIONE DEL FILM &ldquo;JERUSALEM
 : THE EAST SIDE STORY&rdquo; DI MOHAMMED ALATAR<br /><br /><br /><strong>H.
  22.30 CONCERTO DEI CHECKPOINT 303 (Francia - Palestina)</strong><br /><br 
 /><br /><strong>dalle 19.00 CENA PALESTINESE </strong>8&euro; il ricavato s
 ar&agrave; devoluto<br />al &ldquo;PROGETTO CARTELLE SCOLASTICHE PER I BAMB
 INI DI GAZA&rdquo;</p><p>&nbsp;</p><p><u><strong>COMUNICATO</strong></u><br
  /><br />Domenica 31 maggio a partire dalle 18 l&#39;associazione culturale
  Aktivamente e l&#39;associazione giovani palestinesi Wael Zuaiter invitano
  a partecipare all&#39;evento Finding, Palestine Storie e sentieri di una T
 erra, III edizione al Circolo degli Artisti, via Casilina Vecchia 42, propo
 ne di ripercorrere la cultura palestinese classica e contemporanea, attrave
 rso una serata in cui le varie forme di espressione culturale troveranno sp
 azio attraverso la pittura, fotografia, teatro, scultura, danza, musica, cu
 cina, poesia, moda e artigianato, raccontando una Palestina spesso invisibi
 le.<br />Aktivamente e Wael Zwaiter hanno deciso di dedicare questa terza e
 dizione al poeta palestinese Mahmoud Darwish, scomparso nel 2008. Per l&rsq
 uo;occasione l&rsquo;attrice italiana Jasmine Trinca (La stanza del figlio,
  Romanzo criminale, La meglio giovent&ugrave;) e altri interpreteranno le s
 ue poesie al suono dell&rsquo;oud.<br />L&rsquo;evento &egrave; organizzato
  con il patrocinio della Provincia di Roma, del IX Municipio del Comune di 
 Roma, l&rsquo;Accademia delle Belle Arti di Roma e in collaborazione con il
  Circolo degli Artisti e Radio Popolare.<br /><br />L&#39;ingresso &egrave;
  libero<br />*I fondi raccolti saranno destinati al Progetto Cartelle Scola
 stiche per i Bambini di Gaza. </p>
DTSTAMP:20260420T131923Z
DTSTART;TZID=Europe/Rome;VALUE=DATE:20090531
DTEND;TZID=Europe/Rome;VALUE=DATE:20090601
SEQUENCE:0
TRANSP:OPAQUE
END:VEVENT
END:VCALENDAR