BEGIN:VCALENDAR
VERSION:2.0
PRODID:-//jEvents 2.0 for Joomla//EN
CALSCALE:GREGORIAN
METHOD:PUBLISH
BEGIN:VTIMEZONE
TZID:Europe/Rome
BEGIN:STANDARD
DTSTART:20081026T020000
RDATE:20090329T030000
TZOFFSETFROM:+0200
TZOFFSETTO:+0100
TZNAME:Europe/Rome CET
END:STANDARD
BEGIN:STANDARD
DTSTART:20091025T020000
RDATE:20100328T030000
TZOFFSETFROM:+0200
TZOFFSETTO:+0100
TZNAME:Europe/Rome CET
END:STANDARD
BEGIN:STANDARD
DTSTART:20101031T020000
RDATE:20110327T030000
TZOFFSETFROM:+0200
TZOFFSETTO:+0100
TZNAME:Europe/Rome CET
END:STANDARD
BEGIN:STANDARD
DTSTART:20111030T020000
RDATE:20120325T030000
TZOFFSETFROM:+0200
TZOFFSETTO:+0100
TZNAME:Europe/Rome CET
END:STANDARD
BEGIN:STANDARD
DTSTART:20121028T020000
RDATE:20130331T030000
TZOFFSETFROM:+0200
TZOFFSETTO:+0100
TZNAME:Europe/Rome CET
END:STANDARD
BEGIN:STANDARD
DTSTART:20131027T020000
RDATE:20140330T030000
TZOFFSETFROM:+0200
TZOFFSETTO:+0100
TZNAME:Europe/Rome CET
END:STANDARD
BEGIN:STANDARD
DTSTART:20141026T020000
RDATE:20150329T030000
TZOFFSETFROM:+0200
TZOFFSETTO:+0100
TZNAME:Europe/Rome CET
END:STANDARD
BEGIN:STANDARD
DTSTART:20151025T020000
RDATE:20160327T030000
TZOFFSETFROM:+0200
TZOFFSETTO:+0100
TZNAME:Europe/Rome CET
END:STANDARD
BEGIN:STANDARD
DTSTART:20161030T020000
RDATE:20170326T030000
TZOFFSETFROM:+0200
TZOFFSETTO:+0100
TZNAME:Europe/Rome CET
END:STANDARD
BEGIN:STANDARD
DTSTART:20171029T020000
RDATE:20180325T030000
TZOFFSETFROM:+0200
TZOFFSETTO:+0100
TZNAME:Europe/Rome CET
END:STANDARD
BEGIN:STANDARD
DTSTART:20181028T020000
RDATE:20190331T030000
TZOFFSETFROM:+0200
TZOFFSETTO:+0100
TZNAME:Europe/Rome CET
END:STANDARD
BEGIN:STANDARD
DTSTART:20191027T020000
RDATE:20200329T030000
TZOFFSETFROM:+0200
TZOFFSETTO:+0100
TZNAME:Europe/Rome CET
END:STANDARD
BEGIN:STANDARD
DTSTART:20201025T020000
RDATE:20210328T030000
TZOFFSETFROM:+0200
TZOFFSETTO:+0100
TZNAME:Europe/Rome CET
END:STANDARD
BEGIN:STANDARD
DTSTART:20211031T020000
RDATE:20220327T030000
TZOFFSETFROM:+0200
TZOFFSETTO:+0100
TZNAME:Europe/Rome CET
END:STANDARD
BEGIN:STANDARD
DTSTART:20221030T020000
RDATE:20230326T030000
TZOFFSETFROM:+0200
TZOFFSETTO:+0100
TZNAME:Europe/Rome CET
END:STANDARD
BEGIN:STANDARD
DTSTART:20231029T020000
RDATE:20240331T030000
TZOFFSETFROM:+0200
TZOFFSETTO:+0100
TZNAME:Europe/Rome CET
END:STANDARD
BEGIN:STANDARD
DTSTART:20241027T020000
RDATE:20250330T030000
TZOFFSETFROM:+0200
TZOFFSETTO:+0100
TZNAME:Europe/Rome CET
END:STANDARD
BEGIN:STANDARD
DTSTART:20251026T020000
RDATE:20260329T030000
TZOFFSETFROM:+0200
TZOFFSETTO:+0100
TZNAME:Europe/Rome CET
END:STANDARD
BEGIN:STANDARD
DTSTART:20261025T020000
RDATE:20270328T030000
TZOFFSETFROM:+0200
TZOFFSETTO:+0100
TZNAME:Europe/Rome CET
END:STANDARD
BEGIN:STANDARD
DTSTART:20271031T020000
RDATE:20280326T030000
TZOFFSETFROM:+0200
TZOFFSETTO:+0100
TZNAME:Europe/Rome CET
END:STANDARD
BEGIN:STANDARD
DTSTART:20281029T020000
RDATE:20290325T030000
TZOFFSETFROM:+0200
TZOFFSETTO:+0100
TZNAME:Europe/Rome CET
END:STANDARD
BEGIN:STANDARD
DTSTART:20291028T020000
RDATE:20300331T030000
TZOFFSETFROM:+0200
TZOFFSETTO:+0100
TZNAME:Europe/Rome CET
END:STANDARD
BEGIN:STANDARD
DTSTART:20301027T020000
RDATE:20310330T030000
TZOFFSETFROM:+0200
TZOFFSETTO:+0100
TZNAME:Europe/Rome CET
END:STANDARD
BEGIN:STANDARD
DTSTART:20311026T020000
RDATE:20320328T030000
TZOFFSETFROM:+0200
TZOFFSETTO:+0100
TZNAME:Europe/Rome CET
END:STANDARD
BEGIN:STANDARD
DTSTART:20321031T020000
RDATE:20330327T030000
TZOFFSETFROM:+0200
TZOFFSETTO:+0100
TZNAME:Europe/Rome CET
END:STANDARD
BEGIN:STANDARD
DTSTART:20331030T020000
RDATE:20340326T030000
TZOFFSETFROM:+0200
TZOFFSETTO:+0100
TZNAME:Europe/Rome CET
END:STANDARD
BEGIN:STANDARD
DTSTART:20341029T020000
RDATE:20350325T030000
TZOFFSETFROM:+0200
TZOFFSETTO:+0100
TZNAME:Europe/Rome CET
END:STANDARD
BEGIN:STANDARD
DTSTART:20351028T020000
RDATE:20360330T030000
TZOFFSETFROM:+0200
TZOFFSETTO:+0100
TZNAME:Europe/Rome CET
END:STANDARD
BEGIN:STANDARD
DTSTART:20361026T020000
RDATE:20370329T030000
TZOFFSETFROM:+0200
TZOFFSETTO:+0100
TZNAME:Europe/Rome CET
END:STANDARD
BEGIN:STANDARD
DTSTART:20371025T020000
TZOFFSETFROM:+0200
TZOFFSETTO:+0100
TZNAME:Europe/Rome CET
END:STANDARD
BEGIN:DAYLIGHT
DTSTART:20081001T000000
RDATE:20081026T020000
TZOFFSETFROM:+0100
TZOFFSETTO:+0200
TZNAME:Europe/Rome CEST
END:DAYLIGHT
BEGIN:DAYLIGHT
DTSTART:20090329T030000
RDATE:20091025T020000
TZOFFSETFROM:+0100
TZOFFSETTO:+0200
TZNAME:Europe/Rome CEST
END:DAYLIGHT
BEGIN:DAYLIGHT
DTSTART:20100328T030000
RDATE:20101031T020000
TZOFFSETFROM:+0100
TZOFFSETTO:+0200
TZNAME:Europe/Rome CEST
END:DAYLIGHT
BEGIN:DAYLIGHT
DTSTART:20110327T030000
RDATE:20111030T020000
TZOFFSETFROM:+0100
TZOFFSETTO:+0200
TZNAME:Europe/Rome CEST
END:DAYLIGHT
BEGIN:DAYLIGHT
DTSTART:20120325T030000
RDATE:20121028T020000
TZOFFSETFROM:+0100
TZOFFSETTO:+0200
TZNAME:Europe/Rome CEST
END:DAYLIGHT
BEGIN:DAYLIGHT
DTSTART:20130331T030000
RDATE:20131027T020000
TZOFFSETFROM:+0100
TZOFFSETTO:+0200
TZNAME:Europe/Rome CEST
END:DAYLIGHT
BEGIN:DAYLIGHT
DTSTART:20140330T030000
RDATE:20141026T020000
TZOFFSETFROM:+0100
TZOFFSETTO:+0200
TZNAME:Europe/Rome CEST
END:DAYLIGHT
BEGIN:DAYLIGHT
DTSTART:20150329T030000
RDATE:20151025T020000
TZOFFSETFROM:+0100
TZOFFSETTO:+0200
TZNAME:Europe/Rome CEST
END:DAYLIGHT
BEGIN:DAYLIGHT
DTSTART:20160327T030000
RDATE:20161030T020000
TZOFFSETFROM:+0100
TZOFFSETTO:+0200
TZNAME:Europe/Rome CEST
END:DAYLIGHT
BEGIN:DAYLIGHT
DTSTART:20170326T030000
RDATE:20171029T020000
TZOFFSETFROM:+0100
TZOFFSETTO:+0200
TZNAME:Europe/Rome CEST
END:DAYLIGHT
BEGIN:DAYLIGHT
DTSTART:20180325T030000
RDATE:20181028T020000
TZOFFSETFROM:+0100
TZOFFSETTO:+0200
TZNAME:Europe/Rome CEST
END:DAYLIGHT
BEGIN:DAYLIGHT
DTSTART:20190331T030000
RDATE:20191027T020000
TZOFFSETFROM:+0100
TZOFFSETTO:+0200
TZNAME:Europe/Rome CEST
END:DAYLIGHT
BEGIN:DAYLIGHT
DTSTART:20200329T030000
RDATE:20201025T020000
TZOFFSETFROM:+0100
TZOFFSETTO:+0200
TZNAME:Europe/Rome CEST
END:DAYLIGHT
BEGIN:DAYLIGHT
DTSTART:20210328T030000
RDATE:20211031T020000
TZOFFSETFROM:+0100
TZOFFSETTO:+0200
TZNAME:Europe/Rome CEST
END:DAYLIGHT
BEGIN:DAYLIGHT
DTSTART:20220327T030000
RDATE:20221030T020000
TZOFFSETFROM:+0100
TZOFFSETTO:+0200
TZNAME:Europe/Rome CEST
END:DAYLIGHT
BEGIN:DAYLIGHT
DTSTART:20230326T030000
RDATE:20231029T020000
TZOFFSETFROM:+0100
TZOFFSETTO:+0200
TZNAME:Europe/Rome CEST
END:DAYLIGHT
BEGIN:DAYLIGHT
DTSTART:20240331T030000
RDATE:20241027T020000
TZOFFSETFROM:+0100
TZOFFSETTO:+0200
TZNAME:Europe/Rome CEST
END:DAYLIGHT
BEGIN:DAYLIGHT
DTSTART:20250330T030000
RDATE:20251026T020000
TZOFFSETFROM:+0100
TZOFFSETTO:+0200
TZNAME:Europe/Rome CEST
END:DAYLIGHT
BEGIN:DAYLIGHT
DTSTART:20260329T030000
RDATE:20261025T020000
TZOFFSETFROM:+0100
TZOFFSETTO:+0200
TZNAME:Europe/Rome CEST
END:DAYLIGHT
BEGIN:DAYLIGHT
DTSTART:20270328T030000
RDATE:20271031T020000
TZOFFSETFROM:+0100
TZOFFSETTO:+0200
TZNAME:Europe/Rome CEST
END:DAYLIGHT
BEGIN:DAYLIGHT
DTSTART:20280326T030000
RDATE:20281029T020000
TZOFFSETFROM:+0100
TZOFFSETTO:+0200
TZNAME:Europe/Rome CEST
END:DAYLIGHT
BEGIN:DAYLIGHT
DTSTART:20290325T030000
RDATE:20291028T020000
TZOFFSETFROM:+0100
TZOFFSETTO:+0200
TZNAME:Europe/Rome CEST
END:DAYLIGHT
BEGIN:DAYLIGHT
DTSTART:20300331T030000
RDATE:20301027T020000
TZOFFSETFROM:+0100
TZOFFSETTO:+0200
TZNAME:Europe/Rome CEST
END:DAYLIGHT
BEGIN:DAYLIGHT
DTSTART:20310330T030000
RDATE:20311026T020000
TZOFFSETFROM:+0100
TZOFFSETTO:+0200
TZNAME:Europe/Rome CEST
END:DAYLIGHT
BEGIN:DAYLIGHT
DTSTART:20320328T030000
RDATE:20321031T020000
TZOFFSETFROM:+0100
TZOFFSETTO:+0200
TZNAME:Europe/Rome CEST
END:DAYLIGHT
BEGIN:DAYLIGHT
DTSTART:20330327T030000
RDATE:20331030T020000
TZOFFSETFROM:+0100
TZOFFSETTO:+0200
TZNAME:Europe/Rome CEST
END:DAYLIGHT
BEGIN:DAYLIGHT
DTSTART:20340326T030000
RDATE:20341029T020000
TZOFFSETFROM:+0100
TZOFFSETTO:+0200
TZNAME:Europe/Rome CEST
END:DAYLIGHT
BEGIN:DAYLIGHT
DTSTART:20350325T030000
RDATE:20351028T020000
TZOFFSETFROM:+0100
TZOFFSETTO:+0200
TZNAME:Europe/Rome CEST
END:DAYLIGHT
BEGIN:DAYLIGHT
DTSTART:20360330T030000
RDATE:20361026T020000
TZOFFSETFROM:+0100
TZOFFSETTO:+0200
TZNAME:Europe/Rome CEST
END:DAYLIGHT
BEGIN:DAYLIGHT
DTSTART:20370329T030000
RDATE:20371025T020000
TZOFFSETFROM:+0100
TZOFFSETTO:+0200
TZNAME:Europe/Rome CEST
END:DAYLIGHT
END:VTIMEZONE
BEGIN:VEVENT
UID:1429119856evt398
CATEGORIES:.
SUMMARY:2 ott 09- 2 genn 2010- Marcia Mondiale per la pace e la non violenza
DESCRIPTION;ENCODING=QUOTED-PRINTABLE:\n\nMarcia Mondiale per la pace e la non violenza \n\n\nhttp://www.marciamo
 ndiale.org/\n\n\n&nbsp;\n\n\n----------------------------------------------
 ----\n\n\n&nbsp;\n*INIZIA LA MARCIA MONDIALE *\n\n*PER LA PACE E LA NONVIOL
 ENZA*\n\n*VENERDI 2 OTTOBRE GIORNATA DELLA NONVIOLENZA*\n\n\n/a Roma /\n\n&
 quot;/Walk the future&quot; - La Nonviolenza in Marcia./\n\n*VENERDI 2 OTTO
 BRE *\n\n/*dalle ore 10.00 fino a notte*/\n\n*CITTA&#39; DELL&#39;ALTRA ECO
 NOMIA -- L.GO DINO FRISULLO*\n\n*Ex Mattatoio di Testaccio -- Campo Boario*
 \n\n\nIl 2 ottobre, il giorno della *nascita di Ghandi*, &egrave; stato pro
 clamato dalla\nNazioni Unite &quot;Giornata Internazionale della nonviolenz
 a&quot;. In questo stesso\ngiorno *partir&agrave; da Wellington* (Nuova Zel
 anda) *la prima Marcia Mondiale per\nla Pace e la Nonviolenza* lanciata dal
 l&#39;organizzazione internazionale Mondo\nsenza Guerre, dal Movimento Uman
 ista e da moltissime altre organizzazioni,\nistituzioni e personaggi autore
 voli in tutto il pianeta.\n\nNell&#39;arco di tre mesi la Marcia percorrer&
 agrave; sei continenti attraversando 100\npaesi ed arriver&agrave; a Punta 
 de Vacas, in Argentina, il 2 gennaio 2010.\n\n\nPer questa duplice ricorren
 za (Giornata Internazionale e inizio della\nMarcia) sar&agrave; organizzata
  *a Roma presso la Citt&agrave; dell&#39;Altra Economia* una\ngiornata di i
 niziative, dibattito, confronto e spettacolo sul tema della\nNonviolenza, a
 perta a tutti e articolata come segue:\n\nOre 10:00 Laboratori sulla nonvio
 lenza rivolti alle scuole elementari ,\nmedie e superiori\n\nOre 16.00 Tavo
 li di lavoro\n\nOre 17:00 Laboratori sulla nonviolenza\n\n\nOre 18.30 Confe
 renza: *&quot;La Nonviolenza nell&#39;era della violenza gobale &quot;* con
 \nla partecipazione di Luisa Morgantini, Federica Fratini, il dott. \nPietr
 o Chistolini, il dott. Riccardo Troisi, la Prof. Annamaria Ludovico, la\nPr
 of.ssa Donatella Caramia.\n\n\nOre 20.00 Proiezione del film documentario *
 &quot;Come un uomo sulla terra&quot;* di\nRiccardo Biadene, Andrea Segre e 
 Dagmawi Yimer, seguito da dibattito. \nIntervengono Andrea Segre e Stefano 
 Galieni.\n\n\nOre 21:30 *Concerto finale*: Train de Vie, Pura Utopia Joe Co
 ntromano e \nlo *spettacolo di giocoleria* della &quot;Compagnia dei Fuocol
 ieri\n\n\nDurante la giornata saranno allestiti *stand informativi* di dive
 rse \nassociazioni: Mondo senza Guerre e senza Violenza, Partito Umanista, 
 La \nComunit&agrave; (per lo sviluppo umano), Centro delle Culture,\n\nCent
 ro Mondiale di Studi Umanisti, Consorzio citt&agrave; dell&#39;altraeconomi
 a, \nANPI, Forum Terzo settore Lazio, Greenpeace, FOCSI, Emergency, Mezza \
 nLuna Rossa palestinese -- Italia, Corpi Civili di Pace, Per il bene \ncomu
 ne, People4Peace, Cooperaction, Facebook per la Pace, Comunit&agrave; \neti
 opica in Italia, I Corvi, Reciprocit&agrave;, Help to Change, Nessuno Tocch
 i \nPierino, Energia per i Diritti Umani, Beba do Samba, Drum Circle, \nAss
 ociazione Sottosopra, Associazione Exodus, Eudonna, LIDU 1948\n\n\n*La marc
 ia arriver&agrave; a Roma il 12 novembre* salutata da migliaia di \npersone
  che accoglieranno i marciatori con eventi in diversi luoghi \ndella citt&a
 grave;, sostenendo e facendo proprie le richieste della marcia.\n\n\nInform
 azioni:\n\nAlessandra Rinaldi 329 854 0009\n\nIsabel Torres 338 248 9746\n\
 n\n\n*RICHIESTE DELLA MARCIA:*\n\n. il disarmo nucleare a livello mondiale,
 \n\n. il ritiro immediato delle truppe di invasione dai territori occupati,
 \n\n. la riduzione progressiva e proporzionale delle armi convenzionali,\n\
 n. la firma di trattati di non aggressione tra paesi, e\n\n. la rinuncia de
 i governi a utilizzare le guerre come metodo di \nrisoluzione dei conflitti
 .\n\n\n*ITINERARIO:*\n\nLa mappa dettagliata del percorso &egrave; consulta
 bile sul sito \ninternazionale: _http://map.theworldmarch.org/_\n\noppure s
 ul sito italiano: _http://www.marciamondiale.org/mappa/_\n\nIn Italia la Ma
 rcia Mondiale per la Pace e la Nonviolenza tocca Trieste \n(7 novembre), Vi
 cenza (8 novembre), Milano, Torino e Genova (10 \nnovembre), Bologna, Firen
 ze, Attigliano, Napoli (11 novembre), Roma (12 \nnovembre).\n\n\n*ADESIONI 
 E PARTECIPAZIONI IN ITALIA*\n\nClaudio Baglioni, cantante . Ascanio Celesti
 ni, attore e autore teatrale \n. Iv&aacute;n Ramiro C&oacute;rdoba, colombi
 ano &egrave; difensore centrale dell&#39;F.C. \nInternazionale . Lella Cost
 a, attrice . Barbara Cupisti, attrice e \nregista italiana . Dario Fo, regi
 sta, drammaturgo, attore e scenografo \nitaliano, Premio Nobel per la lette
 ratura . Claudia Gerini, attrice . \nVladimir Luxuria, esponente di spicco 
 della comunit&agrave; glbt italiana . \nGianluca Pessotto, dirigente sporti
 vo Juventus F.C. . Ottavia Piccolo, \nattrice . Emma Re, cantante . David R
 iondino, attore, cantautore e \nregista . Francesco Sarcina, chitarrista e 
 cantante de &#39;Le Vibrazioni&#39; . \nAntonio Scurati, docente universita
 rio, saggista, scrittore e cineasta . \nTullio Solenghi, attore . Paola Tur
 ci, cantautrice . Trio Medusa, comici \n...\n\nAccanto ai loro nomi figuran
 o, fra gli altri, quelli di Claudio Bisio, \nCorrado Guzzanti, Luciana Litt
 izzetto, Frankie Hi-Nrg, padre Alex \nZanotelli, Susanna Tamaro, Dacia Mara
 ini, Gianni Vattimo, Laura Pausini, \nErmanno Olmi, Umberto Veronesi ...\n\
 n\n*RINGRAZIAMENTI*\n\nRegione Lazio - Consorzio Citt&agrave; dell&#39;Altr
 a Economia -- CAE EcoRadio - \nMedia partner per il Lazio L&#39;iniziativa 
 si svolger&agrave; con il contributo \ndell&#39;Assessorato Ambiente e Coop
 erazione tra i popoli della Regione Lazio\n\n&nbsp;\n
DTSTAMP:20260422T105415Z
DTSTART;TZID=Europe/Rome;VALUE=DATE:20091002
DTEND;TZID=Europe/Rome;VALUE=DATE:20091003
SEQUENCE:0
TRANSP:OPAQUE
END:VEVENT
END:VCALENDAR