BEGIN:VCALENDAR
VERSION:2.0
PRODID:-//jEvents 2.0 for Joomla//EN
CALSCALE:GREGORIAN
METHOD:PUBLISH
BEGIN:VTIMEZONE
TZID:Europe/Rome
BEGIN:STANDARD
DTSTART:20081026T020000
RDATE:20090329T030000
TZOFFSETFROM:+0200
TZOFFSETTO:+0100
TZNAME:Europe/Rome CET
END:STANDARD
BEGIN:STANDARD
DTSTART:20091025T020000
RDATE:20100328T030000
TZOFFSETFROM:+0200
TZOFFSETTO:+0100
TZNAME:Europe/Rome CET
END:STANDARD
BEGIN:STANDARD
DTSTART:20101031T020000
RDATE:20110327T030000
TZOFFSETFROM:+0200
TZOFFSETTO:+0100
TZNAME:Europe/Rome CET
END:STANDARD
BEGIN:STANDARD
DTSTART:20111030T020000
RDATE:20120325T030000
TZOFFSETFROM:+0200
TZOFFSETTO:+0100
TZNAME:Europe/Rome CET
END:STANDARD
BEGIN:STANDARD
DTSTART:20121028T020000
RDATE:20130331T030000
TZOFFSETFROM:+0200
TZOFFSETTO:+0100
TZNAME:Europe/Rome CET
END:STANDARD
BEGIN:STANDARD
DTSTART:20131027T020000
RDATE:20140330T030000
TZOFFSETFROM:+0200
TZOFFSETTO:+0100
TZNAME:Europe/Rome CET
END:STANDARD
BEGIN:STANDARD
DTSTART:20141026T020000
RDATE:20150329T030000
TZOFFSETFROM:+0200
TZOFFSETTO:+0100
TZNAME:Europe/Rome CET
END:STANDARD
BEGIN:STANDARD
DTSTART:20151025T020000
RDATE:20160327T030000
TZOFFSETFROM:+0200
TZOFFSETTO:+0100
TZNAME:Europe/Rome CET
END:STANDARD
BEGIN:STANDARD
DTSTART:20161030T020000
RDATE:20170326T030000
TZOFFSETFROM:+0200
TZOFFSETTO:+0100
TZNAME:Europe/Rome CET
END:STANDARD
BEGIN:STANDARD
DTSTART:20171029T020000
RDATE:20180325T030000
TZOFFSETFROM:+0200
TZOFFSETTO:+0100
TZNAME:Europe/Rome CET
END:STANDARD
BEGIN:STANDARD
DTSTART:20181028T020000
RDATE:20190331T030000
TZOFFSETFROM:+0200
TZOFFSETTO:+0100
TZNAME:Europe/Rome CET
END:STANDARD
BEGIN:STANDARD
DTSTART:20191027T020000
RDATE:20200329T030000
TZOFFSETFROM:+0200
TZOFFSETTO:+0100
TZNAME:Europe/Rome CET
END:STANDARD
BEGIN:STANDARD
DTSTART:20201025T020000
RDATE:20210328T030000
TZOFFSETFROM:+0200
TZOFFSETTO:+0100
TZNAME:Europe/Rome CET
END:STANDARD
BEGIN:STANDARD
DTSTART:20211031T020000
RDATE:20220327T030000
TZOFFSETFROM:+0200
TZOFFSETTO:+0100
TZNAME:Europe/Rome CET
END:STANDARD
BEGIN:STANDARD
DTSTART:20221030T020000
RDATE:20230326T030000
TZOFFSETFROM:+0200
TZOFFSETTO:+0100
TZNAME:Europe/Rome CET
END:STANDARD
BEGIN:STANDARD
DTSTART:20231029T020000
RDATE:20240331T030000
TZOFFSETFROM:+0200
TZOFFSETTO:+0100
TZNAME:Europe/Rome CET
END:STANDARD
BEGIN:STANDARD
DTSTART:20241027T020000
RDATE:20250330T030000
TZOFFSETFROM:+0200
TZOFFSETTO:+0100
TZNAME:Europe/Rome CET
END:STANDARD
BEGIN:STANDARD
DTSTART:20251026T020000
RDATE:20260329T030000
TZOFFSETFROM:+0200
TZOFFSETTO:+0100
TZNAME:Europe/Rome CET
END:STANDARD
BEGIN:STANDARD
DTSTART:20261025T020000
RDATE:20270328T030000
TZOFFSETFROM:+0200
TZOFFSETTO:+0100
TZNAME:Europe/Rome CET
END:STANDARD
BEGIN:STANDARD
DTSTART:20271031T020000
RDATE:20280326T030000
TZOFFSETFROM:+0200
TZOFFSETTO:+0100
TZNAME:Europe/Rome CET
END:STANDARD
BEGIN:STANDARD
DTSTART:20281029T020000
RDATE:20290325T030000
TZOFFSETFROM:+0200
TZOFFSETTO:+0100
TZNAME:Europe/Rome CET
END:STANDARD
BEGIN:STANDARD
DTSTART:20291028T020000
RDATE:20300331T030000
TZOFFSETFROM:+0200
TZOFFSETTO:+0100
TZNAME:Europe/Rome CET
END:STANDARD
BEGIN:STANDARD
DTSTART:20301027T020000
RDATE:20310330T030000
TZOFFSETFROM:+0200
TZOFFSETTO:+0100
TZNAME:Europe/Rome CET
END:STANDARD
BEGIN:STANDARD
DTSTART:20311026T020000
RDATE:20320328T030000
TZOFFSETFROM:+0200
TZOFFSETTO:+0100
TZNAME:Europe/Rome CET
END:STANDARD
BEGIN:STANDARD
DTSTART:20321031T020000
RDATE:20330327T030000
TZOFFSETFROM:+0200
TZOFFSETTO:+0100
TZNAME:Europe/Rome CET
END:STANDARD
BEGIN:STANDARD
DTSTART:20331030T020000
RDATE:20340326T030000
TZOFFSETFROM:+0200
TZOFFSETTO:+0100
TZNAME:Europe/Rome CET
END:STANDARD
BEGIN:STANDARD
DTSTART:20341029T020000
RDATE:20350325T030000
TZOFFSETFROM:+0200
TZOFFSETTO:+0100
TZNAME:Europe/Rome CET
END:STANDARD
BEGIN:STANDARD
DTSTART:20351028T020000
RDATE:20360330T030000
TZOFFSETFROM:+0200
TZOFFSETTO:+0100
TZNAME:Europe/Rome CET
END:STANDARD
BEGIN:STANDARD
DTSTART:20361026T020000
RDATE:20370329T030000
TZOFFSETFROM:+0200
TZOFFSETTO:+0100
TZNAME:Europe/Rome CET
END:STANDARD
BEGIN:STANDARD
DTSTART:20371025T020000
TZOFFSETFROM:+0200
TZOFFSETTO:+0100
TZNAME:Europe/Rome CET
END:STANDARD
BEGIN:DAYLIGHT
DTSTART:20081013T000000
RDATE:20081026T020000
TZOFFSETFROM:+0100
TZOFFSETTO:+0200
TZNAME:Europe/Rome CEST
END:DAYLIGHT
BEGIN:DAYLIGHT
DTSTART:20090329T030000
RDATE:20091025T020000
TZOFFSETFROM:+0100
TZOFFSETTO:+0200
TZNAME:Europe/Rome CEST
END:DAYLIGHT
BEGIN:DAYLIGHT
DTSTART:20100328T030000
RDATE:20101031T020000
TZOFFSETFROM:+0100
TZOFFSETTO:+0200
TZNAME:Europe/Rome CEST
END:DAYLIGHT
BEGIN:DAYLIGHT
DTSTART:20110327T030000
RDATE:20111030T020000
TZOFFSETFROM:+0100
TZOFFSETTO:+0200
TZNAME:Europe/Rome CEST
END:DAYLIGHT
BEGIN:DAYLIGHT
DTSTART:20120325T030000
RDATE:20121028T020000
TZOFFSETFROM:+0100
TZOFFSETTO:+0200
TZNAME:Europe/Rome CEST
END:DAYLIGHT
BEGIN:DAYLIGHT
DTSTART:20130331T030000
RDATE:20131027T020000
TZOFFSETFROM:+0100
TZOFFSETTO:+0200
TZNAME:Europe/Rome CEST
END:DAYLIGHT
BEGIN:DAYLIGHT
DTSTART:20140330T030000
RDATE:20141026T020000
TZOFFSETFROM:+0100
TZOFFSETTO:+0200
TZNAME:Europe/Rome CEST
END:DAYLIGHT
BEGIN:DAYLIGHT
DTSTART:20150329T030000
RDATE:20151025T020000
TZOFFSETFROM:+0100
TZOFFSETTO:+0200
TZNAME:Europe/Rome CEST
END:DAYLIGHT
BEGIN:DAYLIGHT
DTSTART:20160327T030000
RDATE:20161030T020000
TZOFFSETFROM:+0100
TZOFFSETTO:+0200
TZNAME:Europe/Rome CEST
END:DAYLIGHT
BEGIN:DAYLIGHT
DTSTART:20170326T030000
RDATE:20171029T020000
TZOFFSETFROM:+0100
TZOFFSETTO:+0200
TZNAME:Europe/Rome CEST
END:DAYLIGHT
BEGIN:DAYLIGHT
DTSTART:20180325T030000
RDATE:20181028T020000
TZOFFSETFROM:+0100
TZOFFSETTO:+0200
TZNAME:Europe/Rome CEST
END:DAYLIGHT
BEGIN:DAYLIGHT
DTSTART:20190331T030000
RDATE:20191027T020000
TZOFFSETFROM:+0100
TZOFFSETTO:+0200
TZNAME:Europe/Rome CEST
END:DAYLIGHT
BEGIN:DAYLIGHT
DTSTART:20200329T030000
RDATE:20201025T020000
TZOFFSETFROM:+0100
TZOFFSETTO:+0200
TZNAME:Europe/Rome CEST
END:DAYLIGHT
BEGIN:DAYLIGHT
DTSTART:20210328T030000
RDATE:20211031T020000
TZOFFSETFROM:+0100
TZOFFSETTO:+0200
TZNAME:Europe/Rome CEST
END:DAYLIGHT
BEGIN:DAYLIGHT
DTSTART:20220327T030000
RDATE:20221030T020000
TZOFFSETFROM:+0100
TZOFFSETTO:+0200
TZNAME:Europe/Rome CEST
END:DAYLIGHT
BEGIN:DAYLIGHT
DTSTART:20230326T030000
RDATE:20231029T020000
TZOFFSETFROM:+0100
TZOFFSETTO:+0200
TZNAME:Europe/Rome CEST
END:DAYLIGHT
BEGIN:DAYLIGHT
DTSTART:20240331T030000
RDATE:20241027T020000
TZOFFSETFROM:+0100
TZOFFSETTO:+0200
TZNAME:Europe/Rome CEST
END:DAYLIGHT
BEGIN:DAYLIGHT
DTSTART:20250330T030000
RDATE:20251026T020000
TZOFFSETFROM:+0100
TZOFFSETTO:+0200
TZNAME:Europe/Rome CEST
END:DAYLIGHT
BEGIN:DAYLIGHT
DTSTART:20260329T030000
RDATE:20261025T020000
TZOFFSETFROM:+0100
TZOFFSETTO:+0200
TZNAME:Europe/Rome CEST
END:DAYLIGHT
BEGIN:DAYLIGHT
DTSTART:20270328T030000
RDATE:20271031T020000
TZOFFSETFROM:+0100
TZOFFSETTO:+0200
TZNAME:Europe/Rome CEST
END:DAYLIGHT
BEGIN:DAYLIGHT
DTSTART:20280326T030000
RDATE:20281029T020000
TZOFFSETFROM:+0100
TZOFFSETTO:+0200
TZNAME:Europe/Rome CEST
END:DAYLIGHT
BEGIN:DAYLIGHT
DTSTART:20290325T030000
RDATE:20291028T020000
TZOFFSETFROM:+0100
TZOFFSETTO:+0200
TZNAME:Europe/Rome CEST
END:DAYLIGHT
BEGIN:DAYLIGHT
DTSTART:20300331T030000
RDATE:20301027T020000
TZOFFSETFROM:+0100
TZOFFSETTO:+0200
TZNAME:Europe/Rome CEST
END:DAYLIGHT
BEGIN:DAYLIGHT
DTSTART:20310330T030000
RDATE:20311026T020000
TZOFFSETFROM:+0100
TZOFFSETTO:+0200
TZNAME:Europe/Rome CEST
END:DAYLIGHT
BEGIN:DAYLIGHT
DTSTART:20320328T030000
RDATE:20321031T020000
TZOFFSETFROM:+0100
TZOFFSETTO:+0200
TZNAME:Europe/Rome CEST
END:DAYLIGHT
BEGIN:DAYLIGHT
DTSTART:20330327T030000
RDATE:20331030T020000
TZOFFSETFROM:+0100
TZOFFSETTO:+0200
TZNAME:Europe/Rome CEST
END:DAYLIGHT
BEGIN:DAYLIGHT
DTSTART:20340326T030000
RDATE:20341029T020000
TZOFFSETFROM:+0100
TZOFFSETTO:+0200
TZNAME:Europe/Rome CEST
END:DAYLIGHT
BEGIN:DAYLIGHT
DTSTART:20350325T030000
RDATE:20351028T020000
TZOFFSETFROM:+0100
TZOFFSETTO:+0200
TZNAME:Europe/Rome CEST
END:DAYLIGHT
BEGIN:DAYLIGHT
DTSTART:20360330T030000
RDATE:20361026T020000
TZOFFSETFROM:+0100
TZOFFSETTO:+0200
TZNAME:Europe/Rome CEST
END:DAYLIGHT
BEGIN:DAYLIGHT
DTSTART:20370329T030000
RDATE:20371025T020000
TZOFFSETFROM:+0100
TZOFFSETTO:+0200
TZNAME:Europe/Rome CEST
END:DAYLIGHT
END:VTIMEZONE
BEGIN:VEVENT
UID:1429119857evt405
CATEGORIES:.
SUMMARY:14- Shalom Klezmer e il libro di Fasser
DESCRIPTION;ENCODING=QUOTED-PRINTABLE:<!--[if gte mso 9]><xml>  <w:WordDocument>   <w:View>Normal</w:View>   <w:Z
 oom>0</w:Zoom>   <w:HyphenationZone>14</w:HyphenationZone>   <w:Punctuation
 Kerning/>   <w:ValidateAgainstSchemas/>   <w:SaveIfXMLInvalid>false</w:Save
 IfXMLInvalid>   <w:IgnoreMixedContent>false</w:IgnoreMixedContent>   <w:Alw
 aysShowPlaceholderText>false</w:AlwaysShowPlaceholderText>   <w:Compatibili
 ty>    <w:BreakWrappedTables/>    <w:SnapToGridInCell/>    <w:WrapTextWithP
 unct/>    <w:UseAsianBreakRules/>    <w:DontGrowAutofit/>   </w:Compatibili
 ty>   <w:BrowserLevel>MicrosoftInternetExplorer4</w:BrowserLevel>  </w:Word
 Document> </xml><![endif]--><!--[if gte mso 9]><xml>  <w:LatentStyles DefLo
 ckedState="false" LatentStyleCount="156">  </w:LatentStyles> </xml><![endif
 ]--><!--[if !mso]><object  classid="clsid:38481807-CA0E-42D2-BF39-B33AF135C
 C4D" id=ieooui></object> <style> st1\:*{behavior:url(#ieooui) } </style> <!
 [endif]--> <!--  /* Font Definitions */  @font-face 	{font-family:"Trebuche
 t MS"; 	panose-1:2 11 6 3 2 2 2 2 2 4; 	mso-font-charset:0; 	mso-generic-fo
 nt-family:swiss; 	mso-font-pitch:variable; 	mso-font-signature:647 0 0 0 15
 9 0;} @font-face 	{font-family:"Comic Sans MS"; 	panose-1:3 15 7 2 3 3 2 2 
 2 4; 	mso-font-charset:0; 	mso-generic-font-family:script; 	mso-font-pitch:
 variable; 	mso-font-signature:647 0 0 0 159 0;} @font-face 	{font-family:Ca
 libri; 	panose-1:2 15 5 2 2 2 4 3 2 4; 	mso-font-charset:0; 	mso-generic-fo
 nt-family:swiss; 	mso-font-pitch:variable; 	mso-font-signature:-1610611985 
 1073750139 0 0 159 0;}  /* Style Definitions */  p.MsoNormal, li.MsoNormal,
  div.MsoNormal 	{mso-style-parent:""; 	margin-top:0cm; 	margin-right:0cm; 	
 mso-margin-bottom-alt:auto; 	margin-left:0cm; 	text-align:justify; 	line-he
 ight:115%; 	mso-pagination:widow-orphan; 	font-size:11.0pt; 	font-family:Ca
 libri; 	mso-fareast-font-family:Calibri; 	mso-bidi-font-family:"Times New R
 oman"; 	mso-fareast-language:EN-US;} h1 	{mso-style-next:Normale; 	margin:0
 cm; 	margin-bottom:.0001pt; 	text-align:center; 	mso-pagination:widow-orpha
 n; 	page-break-after:avoid; 	mso-outline-level:1; 	font-size:14.0pt; 	font-
 family:Calibri; 	mso-fareast-font-family:Calibri; 	mso-font-kerning:0pt; 	m
 so-fareast-language:EN-US; 	mso-bidi-font-weight:normal; 	font-style:italic
 ;} h2 	{mso-style-next:Normale; 	margin:0cm; 	margin-bottom:.0001pt; 	text-
 align:center; 	mso-pagination:widow-orphan; 	page-break-after:avoid; 	mso-o
 utline-level:2; 	font-size:14.0pt; 	font-family:Calibri; 	mso-fareast-font-
 family:Calibri; 	mso-fareast-language:EN-US; 	mso-bidi-font-weight:normal;}
  p.MsoBodyText, li.MsoBodyText, div.MsoBodyText 	{margin:0cm; 	margin-botto
 m:.0001pt; 	text-align:justify; 	mso-pagination:widow-orphan; 	font-size:12
 .0pt; 	font-family:Calibri; 	mso-fareast-font-family:Calibri; 	mso-bidi-fon
 t-family:"Times New Roman"; 	mso-fareast-language:EN-US;} p.MsoBodyText2, l
 i.MsoBodyText2, div.MsoBodyText2 	{margin:0cm; 	margin-bottom:.0001pt; 	tex
 t-align:right; 	mso-pagination:widow-orphan; 	font-size:9.0pt; 	font-family
 :Calibri; 	mso-fareast-font-family:Calibri; 	mso-bidi-font-family:"Times Ne
 w Roman"; 	mso-fareast-language:EN-US;} a:link, span.MsoHyperlink 	{color:b
 lue; 	text-decoration:underline; 	text-underline:single;} a:visited, span.M
 soHyperlinkFollowed 	{color:purple; 	text-decoration:underline; 	text-under
 line:single;} @page Section1 	{size:595.3pt 841.9pt; 	margin:49.65pt 2.0cm 
 26.95pt 2.0cm; 	mso-header-margin:35.4pt; 	mso-footer-margin:35.4pt; 	mso-p
 aper-source:0;} div.Section1 	{page:Section1;} --> <!--[if gte mso 10]> <st
 yle>  /* Style Definitions */  table.MsoNormalTable 	{mso-style-name:"Tabel
 la normale"; 	mso-tstyle-rowband-size:0; 	mso-tstyle-colband-size:0; 	mso-s
 tyle-noshow:yes; 	mso-style-parent:""; 	mso-padding-alt:0cm 5.4pt 0cm 5.4pt
 ; 	mso-para-margin:0cm; 	mso-para-margin-bottom:.0001pt; 	mso-pagination:wi
 dow-orphan; 	font-size:10.0pt; 	font-family:"Times New Roman"; 	mso-ansi-la
 nguage:#0400; 	mso-fareast-language:#0400; 	mso-bidi-language:#0400;} </sty
 le> <![endif]-->  <p style="text-align: center" class="MsoNormal" align="ce
 nter"><span style="font-family: &quot;Trebuchet MS&quot;">La  Fondazione Ba
 sso-</span><span style="font-family: &quot;Trebuchet MS&quot;"> Sezione Int
 ernazionale e l&rsquo;Associazione <em>Il Trillo</em></span></p>  <p style=
 "margin-bottom: 0.0001pt; text-align: center; line-height: normal" class="M
 soNormal" align="center"><em><span style="font-family: &quot;Trebuchet MS&q
 uot;">presentano il libro</span></em><span style="font-family: &quot;Trebuc
 het MS&quot;"> </span></p>  <p style="margin-bottom: 0.0001pt; text-align: 
 center; line-height: normal" class="MsoNormal" align="center">&nbsp;</p>  <
 h1><span style="font-family: &quot;Trebuchet MS&quot;">Invisibile agli occh
 i</span></h1>  <p style="margin-bottom: 0.0001pt; text-align: center; line-
 height: normal" class="MsoNormal" align="center"><span style="font-size: 12
 pt; font-family: &quot;Trebuchet MS&quot;">di Wolfgang Fasser e Massimo Orl
 andi</span></p>  <p style="margin-bottom: 0.0001pt; text-align: center; lin
 e-height: normal" class="MsoNormal" align="center"><span style="font-size: 
 12pt; font-family: &quot;Trebuchet MS&quot;">&nbsp;</span></p>  <p style="m
 argin-bottom: 0.0001pt; text-align: center; line-height: normal" class="Mso
 Normal" align="center"><span style="font-family: &quot;Comic Sans MS&quot;"
 >&nbsp;</span></p>  <h2><span style="font-size: 11pt; font-family: &quot;Ti
 mes New Roman&quot;">Mercoled&igrave; 14 ottobre 2009</span></h2>  <p style
 ="margin-bottom: 0.0001pt; text-align: center; line-height: normal" class="
 MsoNormal" align="center"><strong><span style="font-family: &quot;Times New
  Roman&quot;">Ore 17</span></strong></p>  <p style="margin-bottom: 0.0001pt
 ; text-align: center; line-height: normal" class="MsoNormal" align="center"
 ><strong><span style="font-family: &quot;Times New Roman&quot;">Sala Confer
 enze Fondazione Basso</span></strong></p>  <p style="margin-bottom: 0.0001p
 t; text-align: center; line-height: normal" class="MsoNormal" align="center
 "><strong><span style="font-family: &quot;Times New Roman&quot;">Via della 
 Dogana Vecchia 5 &ndash; Roma</span></strong><strong><span style="font-size
 : 12pt; font-family: &quot;Times New Roman&quot;"></span></strong></p>  <p 
 style="margin-bottom: 0.0001pt; text-align: center; line-height: normal" cl
 ass="MsoNormal" align="center"><strong><span style="font-size: 12pt; font-f
 amily: &quot;Times New Roman&quot;">&nbsp;</span></strong></p>  <p style="m
 argin-bottom: 0.0001pt; text-align: center; line-height: normal" class="Mso
 Normal" align="center"><strong>&nbsp;</strong></p>  <p style="margin-bottom
 : 0.0001pt; line-height: normal" class="MsoNormal"><span style="font-size: 
 12pt; font-family: &quot;Trebuchet MS&quot;">La Fondazione Basso-</span><sp
 an style="font-size: 12pt; font-family: &quot;Trebuchet MS&quot;"> Sezione 
 Internazionale e l&rsquo;Associazione <em>Il Trillo</em> invitano alla pres
 entazione del libro <strong><em>Invisibile agli occhi</em> </strong>di Wolf
 gang Fasser e Massimo Orlandi.</span><span style="font-size: 10pt; font-fam
 ily: &quot;Trebuchet MS&quot;"><span>&nbsp;&nbsp;&nbsp;&nbsp;&nbsp;&nbsp;&n
 bsp;&nbsp;&nbsp;&nbsp;&nbsp;&nbsp;&nbsp;&nbsp;&nbsp;&nbsp;&nbsp;&nbsp;&nbsp
 ;&nbsp;&nbsp;&nbsp;&nbsp;&nbsp;&nbsp;&nbsp;&nbsp;&nbsp;&nbsp;&nbsp;&nbsp;&n
 bsp;&nbsp;&nbsp;&nbsp;&nbsp;&nbsp;&nbsp;&nbsp;&nbsp;&nbsp;&nbsp;&nbsp;&nbsp
 ;&nbsp;&nbsp;&nbsp;&nbsp;&nbsp;&nbsp;&nbsp;&nbsp;&nbsp;&nbsp;&nbsp;&nbsp;&n
 bsp;&nbsp;&nbsp;&nbsp;&nbsp;&nbsp;&nbsp;&nbsp;&nbsp;&nbsp;&nbsp;&nbsp;&nbsp
 ;&nbsp;&nbsp;&nbsp; </span></span><span style="font-family: &quot;Trebuchet
  MS&quot;"></span></p>  <p class="MsoBodyText"><span style="font-family: &q
 uot;Trebuchet MS&quot;">Una straordinaria avventura attraverso un viaggio n
 elle dimensioni di ci&ograve; che non si vede con gli occhi, guidati da un 
 cieco.</span></p>  <p style="margin-bottom: 0.0001pt; line-height: normal" 
 class="MsoNormal"><span style="font-size: 12pt; font-family: &quot;Trebuche
 t MS&quot;">Il libro propone un vero e proprio cammino personale a fianco d
 i un non vedente, <strong>Wolfgang Fasser </strong>che, da molti anni, guid
 a escursioni notturne nelle foreste della Toscana per ascoltare le voci e g
 li odori e per essere vicino a chiunque voglia mettersi in ascolto di se st
 esso, per far tacere il bombardamento quotidiano di immagini e di rumori; &
 egrave;<span>&nbsp; </span>il primo passo per ritrovarsi. &ldquo; <em>Non &
 egrave; forse vero</em> &ndash; sottolinea Wolfgang nel libro &ndash; <em>c
 he per gustare fino in fondo qualcosa di profondo, dobbiamo chiudere gli oc
 chi? Come quando si ascolta un concerto, si fa l&rsquo;amore, si prega&rdqu
 o;.</em></span></p>  <p style="margin-bottom: 0.0001pt; line-height: normal
 " class="MsoNormal"><em><span style="font-size: 12pt; font-family: &quot;Tr
 ebuchet MS&quot;">Invisibile agli occhi </span></em><span style="font-size:
  12pt; font-family: &quot;Trebuchet MS&quot;">si sviluppa come un percorso 
 biografico nella vita di Wolfgang Fasser, dalla sua infanzia in Svizzera al
 la progressiva perdita della vista; dalle sue esperienze professionali nell
 a fisioterapia fino alla lunga esperienza di lavoro volontario in uno degli
  stati pi&ugrave; poveri dell&rsquo;Africa, il Lesotho; dall&rsquo;introduz
 ione delle tecniche di musicoterapia nelle sue attivit&agrave; di cura sino
  al lancio di una nuova esperienza come custode di ascolto e di silenzio ne
 l verde della campagna casentinese.</span></p>  <p style="margin-bottom: 0.
 0001pt; line-height: normal" class="MsoNormal"><span style="font-size: 12pt
 ; font-family: &quot;Trebuchet MS&quot;">Il giornalista <strong>Massimo Orl
 andi, </strong><span>che</span><strong> </strong>accompagna questo percorso
 , con le sue parole ci restituisce i passi di Wolfgang mostrando quanto<spa
 n>&nbsp; </span>la sua vita ci riguardi e ci coinvolga.</span></p>  <p clas
 s="MsoBodyText"><span style="font-family: &quot;Trebuchet MS&quot;">Durante
  la presentazione gli autori proporranno anche alcune esperienze di ascolto
  di suoni del gruppo musicale <strong>Shalom Klezmer,</strong> voci della n
 atura e dell&rsquo;uomo, per mostrare quante siano le possibili dimensioni 
 della luce. Molte di queste non si vedono con gli occhi.</span></p>  <p sty
 le="margin-bottom: 0.0001pt; line-height: normal" class="MsoNormal"><span s
 tyle="font-family: &quot;Trebuchet MS&quot;">&nbsp;</span></p>  <p style="m
 argin-bottom: 0.0001pt; line-height: normal" class="MsoNormal"><em>&nbsp;</
 em></p>  <p class="MsoBodyText2"><em><span style="font-family: &quot;Trebuc
 het MS&quot;">&ldquo; Di solito siete voi che accompagnate me, che non vedo
 , nel mondo del visibile.</span></em></p>  <p class="MsoBodyText2"><em><spa
 n style="font-family: &quot;Trebuchet MS&quot;">Per una volta vorrei portar
 vi nel mio mondo, il mondo di ci&ograve; che non si vede con gli occhi &ldq
 uo;.</span></em><span style="font-family: &quot;Trebuchet MS&quot;"></span>
 </p>  <p style="margin-bottom: 0.0001pt; text-align: right; line-height: no
 rmal" class="MsoNormal" align="right"><span style="font-size: 10pt; font-fa
 mily: &quot;Trebuchet MS&quot;"><span>&nbsp;&nbsp;&nbsp;&nbsp;&nbsp;&nbsp;&
 nbsp;&nbsp;&nbsp;&nbsp;&nbsp;&nbsp;&nbsp;&nbsp;&nbsp;&nbsp;&nbsp;&nbsp;&nbs
 p;&nbsp;&nbsp;&nbsp;&nbsp;&nbsp;&nbsp;&nbsp;&nbsp;&nbsp;&nbsp;&nbsp;&nbsp;&
 nbsp; </span><span>&nbsp;&nbsp;&nbsp;&nbsp;&nbsp;&nbsp;&nbsp;&nbsp;&nbsp;&n
 bsp;&nbsp;&nbsp;&nbsp;&nbsp;&nbsp;&nbsp;&nbsp;&nbsp;&nbsp;&nbsp;&nbsp;&nbsp
 ;&nbsp;&nbsp;&nbsp;&nbsp;&nbsp;&nbsp;&nbsp;&nbsp;&nbsp;&nbsp;&nbsp;&nbsp;&n
 bsp;&nbsp;&nbsp;&nbsp;&nbsp;&nbsp;&nbsp;&nbsp;&nbsp;&nbsp;&nbsp;&nbsp;&nbsp
 ;&nbsp; </span></span><strong><span style="font-size: 9pt; font-family: &qu
 ot;Trebuchet MS&quot;">Wolfgang Fasser</span></strong><span style="font-siz
 e: 9pt; font-family: &quot;Trebuchet MS&quot;"></span></p>  <p style="margi
 n-bottom: 0.0001pt; line-height: normal" class="MsoNormal"><span style="fon
 t-size: 9pt"><span>&nbsp;&nbsp;&nbsp;&nbsp;&nbsp;&nbsp;&nbsp;&nbsp;&nbsp;&n
 bsp;&nbsp;&nbsp;&nbsp;&nbsp;&nbsp;&nbsp;&nbsp;&nbsp;&nbsp;&nbsp;&nbsp;&nbsp
 ;&nbsp;&nbsp;&nbsp;&nbsp;&nbsp;&nbsp;&nbsp;&nbsp;&nbsp;&nbsp;&nbsp;&nbsp;&n
 bsp;&nbsp;&nbsp;&nbsp;&nbsp;&nbsp;&nbsp;&nbsp;&nbsp;&nbsp;&nbsp;&nbsp;&nbsp
 ;&nbsp;&nbsp;&nbsp;&nbsp;&nbsp;&nbsp;&nbsp;&nbsp;&nbsp;&nbsp;&nbsp;&nbsp;&n
 bsp;&nbsp;&nbsp;&nbsp;&nbsp;&nbsp;&nbsp;&nbsp;&nbsp;&nbsp;&nbsp;&nbsp; </sp
 an><strong></strong></span></p>  <p style="margin-bottom: 0.0001pt; line-he
 ight: normal" class="MsoNormal"><strong><span style="font-size: 9pt">&nbsp;
 </span></strong></p>  <p style="margin-bottom: 0.0001pt; line-height: norma
 l" class="MsoNormal">&nbsp;</p>  <p style="margin-bottom: 0.0001pt; line-he
 ight: normal" class="MsoNormal">&nbsp;</p>  <p style="margin-bottom: 0.0001
 pt; line-height: normal" class="MsoNormal">&nbsp;</p>  <p style="margin-bot
 tom: 0.0001pt; text-align: center; line-height: normal" class="MsoNormal" a
 lign="center"><strong><span style="font-size: 10pt; font-family: &quot;Treb
 uchet MS&quot;">Fondazione Basso &ndash; Sezione Internazionale</span></str
 ong></p>  <p style="margin-bottom: 0.0001pt; text-align: center; line-heigh
 t: normal" class="MsoNormal" align="center"><span style="font-size: 10pt; f
 ont-family: &quot;Trebuchet MS&quot;">Tel: 06 &ndash; 6877774 &ndash;<stron
 g> </strong></span><span style="font-size: 10pt; font-family: &quot;Trebuch
 et MS&quot;"><span id="cloak42413">Questo indirizzo email è protetto dagli 
 spambots. È necessario abilitare JavaScript per vederlo.</span><script type
 ='text/javascript'>
 //<!--
 document.getElementById('cloak42413').innerHTM
 L = '';
 var prefix = 'ma' + 'il' + 'to';
 var path = 'hr' + 'ef' + '=';
 v
 ar addy42413 = 'filb' + '@';
 addy42413 = addy42413 + 'iol' + '.' + 'it';
 
 var addy_text42413 = '<strong><span>filb' + '@' + 'iol' + '.' + 'it</span><
 /strong>';
 document.getElementById('cloak42413').innerHTML += '<a ' + path
  + '\'' + prefix + ':' + addy42413 + '\'>'+addy_text42413+'<\/a>';
 //-->
 
 </script></span><strong><span style="font-size: 10pt; font-family: &quot;Tr
 ebuchet MS&quot;"></span></strong></p>  <p style="margin-bottom: 0.0001pt; 
 text-align: center; line-height: normal" class="MsoNormal" align="center"><
 strong><span style="font-size: 10pt; font-family: &quot;Trebuchet MS&quot;"
 >Associazione Il Trillo</span></strong></p>  <p style="margin-bottom: 0.000
 1pt; text-align: center; line-height: normal" class="MsoNormal" align="cent
 er"><span style="font-size: 10pt; font-family: &quot;Trebuchet MS&quot;">Te
 l: 339 -6377828 &ndash; <span id="cloak12505">Questo indirizzo email è prot
 etto dagli spambots. È necessario abilitare JavaScript per vederlo.</span><
 script type='text/javascript'>
 //<!--
 document.getElementById('cloak12505
 ').innerHTML = '';
 var prefix = '&#109;a' + 'i&#108;' + '&#116;o';
 var pa
 th = 'hr' + 'ef' + '=';
 var addy12505 = '&#105;nf&#111;' + '&#64;';
 addy1
 2505 = addy12505 + '&#105;ltr&#105;ll&#111;' + '&#46;' + '&#111;rg';
 var a
 ddy_text12505 = '&#105;nf&#111;' + '&#64;' + '&#105;ltr&#105;ll&#111;' + '&
 #46;' + '&#111;rg';
 document.getElementById('cloak12505').innerHTML += '<a
  ' + path + '\'' + prefix + ':' + addy12505 + '\'>'+addy_text12505+'<\/a>';
 
 //-->
 </script><strong></strong></span></p>  
DTSTAMP:20260420T131702Z
DTSTART;TZID=Europe/Rome;VALUE=DATE:20091014
DTEND;TZID=Europe/Rome;VALUE=DATE:20091015
SEQUENCE:0
TRANSP:OPAQUE
END:VEVENT
END:VCALENDAR