BEGIN:VCALENDAR
VERSION:2.0
PRODID:-//jEvents 2.0 for Joomla//EN
CALSCALE:GREGORIAN
METHOD:PUBLISH
BEGIN:VTIMEZONE
TZID:Europe/Rome
BEGIN:STANDARD
DTSTART:20081122T000100
RDATE:20090329T030000
TZOFFSETFROM:+0200
TZOFFSETTO:+0100
TZNAME:Europe/Rome CET
END:STANDARD
BEGIN:STANDARD
DTSTART:20091025T020000
RDATE:20100328T030000
TZOFFSETFROM:+0200
TZOFFSETTO:+0100
TZNAME:Europe/Rome CET
END:STANDARD
BEGIN:STANDARD
DTSTART:20101031T020000
RDATE:20110327T030000
TZOFFSETFROM:+0200
TZOFFSETTO:+0100
TZNAME:Europe/Rome CET
END:STANDARD
BEGIN:STANDARD
DTSTART:20111030T020000
RDATE:20120325T030000
TZOFFSETFROM:+0200
TZOFFSETTO:+0100
TZNAME:Europe/Rome CET
END:STANDARD
BEGIN:STANDARD
DTSTART:20121028T020000
RDATE:20130331T030000
TZOFFSETFROM:+0200
TZOFFSETTO:+0100
TZNAME:Europe/Rome CET
END:STANDARD
BEGIN:STANDARD
DTSTART:20131027T020000
RDATE:20140330T030000
TZOFFSETFROM:+0200
TZOFFSETTO:+0100
TZNAME:Europe/Rome CET
END:STANDARD
BEGIN:STANDARD
DTSTART:20141026T020000
RDATE:20150329T030000
TZOFFSETFROM:+0200
TZOFFSETTO:+0100
TZNAME:Europe/Rome CET
END:STANDARD
BEGIN:STANDARD
DTSTART:20151025T020000
RDATE:20160327T030000
TZOFFSETFROM:+0200
TZOFFSETTO:+0100
TZNAME:Europe/Rome CET
END:STANDARD
BEGIN:STANDARD
DTSTART:20161030T020000
RDATE:20170326T030000
TZOFFSETFROM:+0200
TZOFFSETTO:+0100
TZNAME:Europe/Rome CET
END:STANDARD
BEGIN:STANDARD
DTSTART:20171029T020000
RDATE:20180325T030000
TZOFFSETFROM:+0200
TZOFFSETTO:+0100
TZNAME:Europe/Rome CET
END:STANDARD
BEGIN:STANDARD
DTSTART:20181028T020000
RDATE:20190331T030000
TZOFFSETFROM:+0200
TZOFFSETTO:+0100
TZNAME:Europe/Rome CET
END:STANDARD
BEGIN:STANDARD
DTSTART:20191027T020000
RDATE:20200329T030000
TZOFFSETFROM:+0200
TZOFFSETTO:+0100
TZNAME:Europe/Rome CET
END:STANDARD
BEGIN:STANDARD
DTSTART:20201025T020000
RDATE:20210328T030000
TZOFFSETFROM:+0200
TZOFFSETTO:+0100
TZNAME:Europe/Rome CET
END:STANDARD
BEGIN:STANDARD
DTSTART:20211031T020000
RDATE:20220327T030000
TZOFFSETFROM:+0200
TZOFFSETTO:+0100
TZNAME:Europe/Rome CET
END:STANDARD
BEGIN:STANDARD
DTSTART:20221030T020000
RDATE:20230326T030000
TZOFFSETFROM:+0200
TZOFFSETTO:+0100
TZNAME:Europe/Rome CET
END:STANDARD
BEGIN:STANDARD
DTSTART:20231029T020000
RDATE:20240331T030000
TZOFFSETFROM:+0200
TZOFFSETTO:+0100
TZNAME:Europe/Rome CET
END:STANDARD
BEGIN:STANDARD
DTSTART:20241027T020000
RDATE:20250330T030000
TZOFFSETFROM:+0200
TZOFFSETTO:+0100
TZNAME:Europe/Rome CET
END:STANDARD
BEGIN:STANDARD
DTSTART:20251026T020000
RDATE:20260329T030000
TZOFFSETFROM:+0200
TZOFFSETTO:+0100
TZNAME:Europe/Rome CET
END:STANDARD
BEGIN:STANDARD
DTSTART:20261025T020000
RDATE:20270328T030000
TZOFFSETFROM:+0200
TZOFFSETTO:+0100
TZNAME:Europe/Rome CET
END:STANDARD
BEGIN:STANDARD
DTSTART:20271031T020000
RDATE:20280326T030000
TZOFFSETFROM:+0200
TZOFFSETTO:+0100
TZNAME:Europe/Rome CET
END:STANDARD
BEGIN:STANDARD
DTSTART:20281029T020000
RDATE:20290325T030000
TZOFFSETFROM:+0200
TZOFFSETTO:+0100
TZNAME:Europe/Rome CET
END:STANDARD
BEGIN:STANDARD
DTSTART:20291028T020000
RDATE:20300331T030000
TZOFFSETFROM:+0200
TZOFFSETTO:+0100
TZNAME:Europe/Rome CET
END:STANDARD
BEGIN:STANDARD
DTSTART:20301027T020000
RDATE:20310330T030000
TZOFFSETFROM:+0200
TZOFFSETTO:+0100
TZNAME:Europe/Rome CET
END:STANDARD
BEGIN:STANDARD
DTSTART:20311026T020000
RDATE:20320328T030000
TZOFFSETFROM:+0200
TZOFFSETTO:+0100
TZNAME:Europe/Rome CET
END:STANDARD
BEGIN:STANDARD
DTSTART:20321031T020000
RDATE:20330327T030000
TZOFFSETFROM:+0200
TZOFFSETTO:+0100
TZNAME:Europe/Rome CET
END:STANDARD
BEGIN:STANDARD
DTSTART:20331030T020000
RDATE:20340326T030000
TZOFFSETFROM:+0200
TZOFFSETTO:+0100
TZNAME:Europe/Rome CET
END:STANDARD
BEGIN:STANDARD
DTSTART:20341029T020000
RDATE:20350325T030000
TZOFFSETFROM:+0200
TZOFFSETTO:+0100
TZNAME:Europe/Rome CET
END:STANDARD
BEGIN:STANDARD
DTSTART:20351028T020000
RDATE:20360330T030000
TZOFFSETFROM:+0200
TZOFFSETTO:+0100
TZNAME:Europe/Rome CET
END:STANDARD
BEGIN:STANDARD
DTSTART:20361026T020000
RDATE:20370329T030000
TZOFFSETFROM:+0200
TZOFFSETTO:+0100
TZNAME:Europe/Rome CET
END:STANDARD
BEGIN:STANDARD
DTSTART:20371025T020000
TZOFFSETFROM:+0200
TZOFFSETTO:+0100
TZNAME:Europe/Rome CET
END:STANDARD
BEGIN:DAYLIGHT
DTSTART:20090329T030000
RDATE:20091025T020000
TZOFFSETFROM:+0100
TZOFFSETTO:+0200
TZNAME:Europe/Rome CEST
END:DAYLIGHT
BEGIN:DAYLIGHT
DTSTART:20100328T030000
RDATE:20101031T020000
TZOFFSETFROM:+0100
TZOFFSETTO:+0200
TZNAME:Europe/Rome CEST
END:DAYLIGHT
BEGIN:DAYLIGHT
DTSTART:20110327T030000
RDATE:20111030T020000
TZOFFSETFROM:+0100
TZOFFSETTO:+0200
TZNAME:Europe/Rome CEST
END:DAYLIGHT
BEGIN:DAYLIGHT
DTSTART:20120325T030000
RDATE:20121028T020000
TZOFFSETFROM:+0100
TZOFFSETTO:+0200
TZNAME:Europe/Rome CEST
END:DAYLIGHT
BEGIN:DAYLIGHT
DTSTART:20130331T030000
RDATE:20131027T020000
TZOFFSETFROM:+0100
TZOFFSETTO:+0200
TZNAME:Europe/Rome CEST
END:DAYLIGHT
BEGIN:DAYLIGHT
DTSTART:20140330T030000
RDATE:20141026T020000
TZOFFSETFROM:+0100
TZOFFSETTO:+0200
TZNAME:Europe/Rome CEST
END:DAYLIGHT
BEGIN:DAYLIGHT
DTSTART:20150329T030000
RDATE:20151025T020000
TZOFFSETFROM:+0100
TZOFFSETTO:+0200
TZNAME:Europe/Rome CEST
END:DAYLIGHT
BEGIN:DAYLIGHT
DTSTART:20160327T030000
RDATE:20161030T020000
TZOFFSETFROM:+0100
TZOFFSETTO:+0200
TZNAME:Europe/Rome CEST
END:DAYLIGHT
BEGIN:DAYLIGHT
DTSTART:20170326T030000
RDATE:20171029T020000
TZOFFSETFROM:+0100
TZOFFSETTO:+0200
TZNAME:Europe/Rome CEST
END:DAYLIGHT
BEGIN:DAYLIGHT
DTSTART:20180325T030000
RDATE:20181028T020000
TZOFFSETFROM:+0100
TZOFFSETTO:+0200
TZNAME:Europe/Rome CEST
END:DAYLIGHT
BEGIN:DAYLIGHT
DTSTART:20190331T030000
RDATE:20191027T020000
TZOFFSETFROM:+0100
TZOFFSETTO:+0200
TZNAME:Europe/Rome CEST
END:DAYLIGHT
BEGIN:DAYLIGHT
DTSTART:20200329T030000
RDATE:20201025T020000
TZOFFSETFROM:+0100
TZOFFSETTO:+0200
TZNAME:Europe/Rome CEST
END:DAYLIGHT
BEGIN:DAYLIGHT
DTSTART:20210328T030000
RDATE:20211031T020000
TZOFFSETFROM:+0100
TZOFFSETTO:+0200
TZNAME:Europe/Rome CEST
END:DAYLIGHT
BEGIN:DAYLIGHT
DTSTART:20220327T030000
RDATE:20221030T020000
TZOFFSETFROM:+0100
TZOFFSETTO:+0200
TZNAME:Europe/Rome CEST
END:DAYLIGHT
BEGIN:DAYLIGHT
DTSTART:20230326T030000
RDATE:20231029T020000
TZOFFSETFROM:+0100
TZOFFSETTO:+0200
TZNAME:Europe/Rome CEST
END:DAYLIGHT
BEGIN:DAYLIGHT
DTSTART:20240331T030000
RDATE:20241027T020000
TZOFFSETFROM:+0100
TZOFFSETTO:+0200
TZNAME:Europe/Rome CEST
END:DAYLIGHT
BEGIN:DAYLIGHT
DTSTART:20250330T030000
RDATE:20251026T020000
TZOFFSETFROM:+0100
TZOFFSETTO:+0200
TZNAME:Europe/Rome CEST
END:DAYLIGHT
BEGIN:DAYLIGHT
DTSTART:20260329T030000
RDATE:20261025T020000
TZOFFSETFROM:+0100
TZOFFSETTO:+0200
TZNAME:Europe/Rome CEST
END:DAYLIGHT
BEGIN:DAYLIGHT
DTSTART:20270328T030000
RDATE:20271031T020000
TZOFFSETFROM:+0100
TZOFFSETTO:+0200
TZNAME:Europe/Rome CEST
END:DAYLIGHT
BEGIN:DAYLIGHT
DTSTART:20280326T030000
RDATE:20281029T020000
TZOFFSETFROM:+0100
TZOFFSETTO:+0200
TZNAME:Europe/Rome CEST
END:DAYLIGHT
BEGIN:DAYLIGHT
DTSTART:20290325T030000
RDATE:20291028T020000
TZOFFSETFROM:+0100
TZOFFSETTO:+0200
TZNAME:Europe/Rome CEST
END:DAYLIGHT
BEGIN:DAYLIGHT
DTSTART:20300331T030000
RDATE:20301027T020000
TZOFFSETFROM:+0100
TZOFFSETTO:+0200
TZNAME:Europe/Rome CEST
END:DAYLIGHT
BEGIN:DAYLIGHT
DTSTART:20310330T030000
RDATE:20311026T020000
TZOFFSETFROM:+0100
TZOFFSETTO:+0200
TZNAME:Europe/Rome CEST
END:DAYLIGHT
BEGIN:DAYLIGHT
DTSTART:20320328T030000
RDATE:20321031T020000
TZOFFSETFROM:+0100
TZOFFSETTO:+0200
TZNAME:Europe/Rome CEST
END:DAYLIGHT
BEGIN:DAYLIGHT
DTSTART:20330327T030000
RDATE:20331030T020000
TZOFFSETFROM:+0100
TZOFFSETTO:+0200
TZNAME:Europe/Rome CEST
END:DAYLIGHT
BEGIN:DAYLIGHT
DTSTART:20340326T030000
RDATE:20341029T020000
TZOFFSETFROM:+0100
TZOFFSETTO:+0200
TZNAME:Europe/Rome CEST
END:DAYLIGHT
BEGIN:DAYLIGHT
DTSTART:20350325T030000
RDATE:20351028T020000
TZOFFSETFROM:+0100
TZOFFSETTO:+0200
TZNAME:Europe/Rome CEST
END:DAYLIGHT
BEGIN:DAYLIGHT
DTSTART:20360330T030000
RDATE:20361026T020000
TZOFFSETFROM:+0100
TZOFFSETTO:+0200
TZNAME:Europe/Rome CEST
END:DAYLIGHT
BEGIN:DAYLIGHT
DTSTART:20370329T030000
RDATE:20371025T020000
TZOFFSETFROM:+0100
TZOFFSETTO:+0200
TZNAME:Europe/Rome CEST
END:DAYLIGHT
END:VTIMEZONE
BEGIN:VEVENT
UID:1429119861evt464
CATEGORIES:.
SUMMARY:23- Shatila camp (documentario, dibattito, foto..)
DESCRIPTION;ENCODING=QUOTED-PRINTABLE:<!--[if gte mso 9]><xml>  <w:WordDocument>   <w:View>Normal</w:View>   <w:Z
 oom>0</w:Zoom>   <w:HyphenationZone>14</w:HyphenationZone>   <w:Punctuation
 Kerning/>   <w:ValidateAgainstSchemas/>   <w:SaveIfXMLInvalid>false</w:Save
 IfXMLInvalid>   <w:IgnoreMixedContent>false</w:IgnoreMixedContent>   <w:Alw
 aysShowPlaceholderText>false</w:AlwaysShowPlaceholderText>   <w:Compatibili
 ty>    <w:BreakWrappedTables/>    <w:SnapToGridInCell/>    <w:WrapTextWithP
 unct/>    <w:UseAsianBreakRules/>    <w:DontGrowAutofit/>   </w:Compatibili
 ty>   <w:BrowserLevel>MicrosoftInternetExplorer4</w:BrowserLevel>  </w:Word
 Document> </xml><![endif]--><!--[if gte mso 9]><xml>  <w:LatentStyles DefLo
 ckedState="false" LatentStyleCount="156">  </w:LatentStyles> </xml><![endif
 ]--><!--[if !mso]><div   classid="clsid:38481807-CA0E-42D2-BF39-B33AF135CC4
 D" id=ieooui></div> <style> st1\:*{behavior:url(#ieooui) } </style> <![endi
 f]--> <!--  /* Style Definitions */  p.MsoNormal, li.MsoNormal, div.MsoNorm
 al 	{mso-style-parent:""; 	margin:0cm; 	margin-bottom:.0001pt; 	mso-paginat
 ion:widow-orphan; 	font-size:12.0pt; 	font-family:"Times New Roman"; 	mso-f
 areast-font-family:"Times New Roman";} a:link, span.MsoHyperlink 	{color:bl
 ue; 	text-decoration:underline; 	text-underline:single;} a:visited, span.Ms
 oHyperlinkFollowed 	{color:purple; 	text-decoration:underline; 	text-underl
 ine:single;} @page Section1 	{size:595.3pt 841.9pt; 	margin:70.85pt 2.0cm 2
 .0cm 2.0cm; 	mso-header-margin:35.4pt; 	mso-footer-margin:35.4pt; 	mso-pape
 r-source:0;} div.Section1 	{page:Section1;} --> <!--[if gte mso 10]> <style
 >  /* Style Definitions */  table.MsoNormalTable 	{mso-style-name:"Tabella 
 normale"; 	mso-tstyle-rowband-size:0; 	mso-tstyle-colband-size:0; 	mso-styl
 e-noshow:yes; 	mso-style-parent:""; 	mso-padding-alt:0cm 5.4pt 0cm 5.4pt; 	
 mso-para-margin:0cm; 	mso-para-margin-bottom:.0001pt; 	mso-pagination:widow
 -orphan; 	font-size:10.0pt; 	font-family:"Times New Roman"; 	mso-ansi-langu
 age:#0400; 	mso-fareast-language:#0400; 	mso-bidi-language:#0400;} </style>
  <![endif]-->  <p class="MsoNormal">&nbsp;</p>  <p style="text-align: cente
 r" class="MsoNormal" align="center"><strong><span style="font-size: 10pt">A
 ssociazione per la Pace - Roma</span></strong></p>  <p style="text-align: c
 enter" class="MsoNormal" align="center"><span style="font-size: 10pt">nell&
 #39;ambito del progetto &quot;Intrecciando idee per il futuro - Cominciamo 
 dai campi profughi&quot;&nbsp;</span></p>  <p style="text-align: center" cl
 ass="MsoNormal" align="center"><span style="font-size: 10pt">vi invita alla
  proiezione del documentario</span></p>  <p style="text-align: center" clas
 s="MsoNormal" align="center"><strong><span style="font-size: 18pt; letter-s
 pacing: 9pt">Shatila camp</span></strong></p>  <p style="text-align: center
 " class="MsoNormal" align="center"><span style="font-size: 10pt">di Valenti
 na Lombardo</span></p>  <p style="text-align: center" class="MsoNormal" ali
 gn="center">&nbsp;</p>  <p style="text-align: center" class="MsoNormal" ali
 gn="center"><strong><span style="font-size: 14pt">23 novembre 2009 ore 20.3
 0 </span></strong></p>  <p style="text-align: center" class="MsoNormal" ali
 gn="center"><strong><span style="font-size: 10pt">&nbsp;</span></strong></p
 >  <p style="text-align: center" class="MsoNormal" align="center"><strong>p
 resso il Circolo ARCI &quot;Arcobaleno&quot;, via Pullino 1 (Garbatella) Ro
 ma,</strong></p>  <p style="text-align: center" class="MsoNormal" align="ce
 nter">ingresso libero</p>  <p style="text-align: center" class="MsoNormal" 
 align="center"><strong>&nbsp;</strong></p>  <p style="text-align: center" c
 lass="MsoNormal" align="center">Incontro-dibattito con <strong>Nancy El Haj
 jeh, </strong>giovane operatrice palestinese&nbsp;del &quot;Children and Yo
 uth Center&quot; del Campo profughi di Shatila.</p>  <p class="MsoNormal">&
 nbsp;</p>  <p class="MsoNormal">A seguire: </p>  <p class="MsoNormal">- pro
 iezione del documentario &quot;Shatila camp&quot; realizzato nel campo prof
 ughi a&nbsp;giugno 2009 da Valentina Lombardo con i volontari dell&#39;Asso
 ciazione per la  Pace</p>  <p class="MsoNormal">- proiezione delle foto sca
 ttate durante l&#39;esperienza</p>  <p class="MsoNormal">- buffet solidale<
 /p>  <p class="MsoNormal">&nbsp;</p>  <p class="MsoNormal">Pi&ugrave; di 4,
 6 milioni di profughi vivono distribuiti tra Cisgiordania, Gaza, Giordania,
  Siria e Libano. La situazione pi&ugrave; drammatica per i profughi in dias
 pora &egrave; quella libanese. I profughi palestinesi in Libano non hanno i
 l diritto alla cittadinanza, al lavoro, non possono associarsi e inoltre - 
 secondo la legge libanese &ndash; non possono accedere a ben 72 professioni
 . Il 60% dei profughi palestinesi in Libano vive sotto la soglia di povert&
 agrave;. Il tasso di disoccupazione raggiunge il 42%. Il tasso di mortalit&
 agrave; infantile e maternale supera 239 per 1.000. Il tasso di analfabetis
 mo supera il 13% nei maschi adulti ed il 23% nelle donne adulte. Il 60% dei
  giovani tra 18 e i 29 anni non ha potuto completare il ciclo di studi. Il 
 50% dei giovani ha abbandonato la scuola al 16/mo anno di et&agrave;.<br />
  <!--[if !supportLineBreakNewLine]--><br /> <!--[endif]--></p>  <p class="M
 soNormal">L `iniziativa &egrave; organizzata da Assopace Roma nell&#39;ambi
 to del progetto &quot;Bando delle Idee&quot; finanziato dal Municipio XI di
 &nbsp;Roma<br /> &nbsp;</p>  <p class="MsoNormal">&nbsp;</p>  <p class="Mso
 Normal">Associazione per la  Pace - Roma</p>  <p class="MsoNormal"><span id
 ="cloak20468">Questo indirizzo email è protetto dagli spambots. È necessari
 o abilitare JavaScript per vederlo.</span><script type='text/javascript'>
 
 //<!--
 document.getElementById('cloak20468').innerHTML = '';
 var prefix =
  '&#109;a' + 'i&#108;' + '&#116;o';
 var path = 'hr' + 'ef' + '=';
 var add
 y20468 = '&#97;ss&#111;p&#97;c&#101;r&#111;m&#97;' + '&#64;';
 addy20468 = 
 addy20468 + 'gm&#97;&#105;l' + '&#46;' + 'c&#111;m';
 var addy_text20468 = 
 '&#97;ss&#111;p&#97;c&#101;r&#111;m&#97;' + '&#64;' + 'gm&#97;&#105;l' + '&
 #46;' + 'c&#111;m';
 document.getElementById('cloak20468').innerHTML += '<a
  ' + path + '\'' + prefix + ':' + addy20468 + '\' target="_blank">'+addy_te
 xt20468+'<\/a>';
 //-->
 </script> </p>  <p class="MsoNormal"><a href="http
 ://www.assopace.org/" target="_blank">www.assopace.org</a> <strong><span st
 yle="font-size: 11pt">&nbsp;</span></strong></p>  <p class="MsoNormal">&nbs
 p;</p>  <p class="MsoNormal"><strong><span style="font-size: 10pt">Associaz
 ione per la Pace</span></strong></p>  <p class="MsoNormal"><strong><span st
 yle="font-size: 10pt">Italian Peace Association </span></strong></p>  <p cl
 ass="MsoNormal"><span style="font-size: 10pt">Via&nbsp; India 1 - 00196 Rom
 a</span></p>  <p class="MsoNormal"><span style="font-size: 10pt">Tel. +<spa
 n style="color: #333333">39 0695558458</span></span></p>  <p class="MsoNorm
 al"><span style="font-size: 10pt">Fax:+39&nbsp;0623327800</span></p>  <p cl
 ass="MsoNormal"><span style="font-size: 10pt"><a href="http://www.assopac.o
 rg/" target="_blank">www.assopace.org</a></span></p>  <p class="MsoNormal">
 <span style="font-size: 10pt"><span id="cloak50088">Questo indirizzo email 
 è protetto dagli spambots. È necessario abilitare JavaScript per vederlo.</
 span><script type='text/javascript'>
 //<!--
 document.getElementById('cloa
 k50088').innerHTML = '';
 var prefix = '&#109;a' + 'i&#108;' + '&#116;o';
 
 var path = 'hr' + 'ef' + '=';
 var addy50088 = '&#97;ss&#111;p&#97;c&#101;.
 n&#97;z&#105;&#111;n&#97;l&#101;' + '&#64;';
 addy50088 = addy50088 + '&#97
 ;ss&#111;p&#97;c&#101;' + '&#46;' + '&#111;rg';
 var addy_text50088 = '&#97
 ;ss&#111;p&#97;c&#101;.n&#97;z&#105;&#111;n&#97;l&#101;' + '&#64;' + '&#97;
 ss&#111;p&#97;c&#101;' + '&#46;' + '&#111;rg';
 document.getElementById('cl
 oak50088').innerHTML += '<a ' + path + '\'' + prefix + ':' + addy50088 + '\
 ' target="_blank">'+addy_text50088+'<\/a>';
 //-->
 </script></span></p>  <
 p class="MsoNormal"><span style="font-size: 10pt"><span id="cloak87375">Que
 sto indirizzo email è protetto dagli spambots. È necessario abilitare JavaS
 cript per vederlo.</span><script type='text/javascript'>
 //<!--
 document.
 getElementById('cloak87375').innerHTML = '';
 var prefix = '&#109;a' + 'i&#
 108;' + '&#116;o';
 var path = 'hr' + 'ef' + '=';
 var addy87375 = '&#97;ss
 &#111;p&#97;c&#101;r&#111;m&#97;' + '&#64;';
 addy87375 = addy87375 + 'gm&#
 97;&#105;l' + '&#46;' + 'c&#111;m';
 var addy_text87375 = '&#97;ss&#111;p&#
 97;c&#101;r&#111;m&#97;' + '&#64;' + 'gm&#97;&#105;l' + '&#46;' + 'c&#111;m
 ';
 document.getElementById('cloak87375').innerHTML += '<a ' + path + '\'' 
 + prefix + ':' + addy87375 + '\' target="_blank">'+addy_text87375+'<\/a>';

  //-->
 </script></span></p>  <p class="MsoNormal"><span style="font-size: 
 10pt">Nome skype: assopace.nazionale</span></p>  <p class="MsoNormal">&nbsp
 ;</p>  
DTSTAMP:20260420T131923Z
DTSTART;TZID=Europe/Rome:20091123T000100
DTEND;TZID=Europe/Rome:20091124T000100
SEQUENCE:0
TRANSP:OPAQUE
END:VEVENT
END:VCALENDAR