BEGIN:VCALENDAR
VERSION:2.0
PRODID:-//jEvents 2.0 for Joomla//EN
CALSCALE:GREGORIAN
METHOD:PUBLISH
BEGIN:VTIMEZONE
TZID:Europe/Rome
BEGIN:STANDARD
DTSTART:20081214T000100
RDATE:20090329T030000
TZOFFSETFROM:+0200
TZOFFSETTO:+0100
TZNAME:Europe/Rome CET
END:STANDARD
BEGIN:STANDARD
DTSTART:20091025T020000
RDATE:20100328T030000
TZOFFSETFROM:+0200
TZOFFSETTO:+0100
TZNAME:Europe/Rome CET
END:STANDARD
BEGIN:STANDARD
DTSTART:20101031T020000
RDATE:20110327T030000
TZOFFSETFROM:+0200
TZOFFSETTO:+0100
TZNAME:Europe/Rome CET
END:STANDARD
BEGIN:STANDARD
DTSTART:20111030T020000
RDATE:20120325T030000
TZOFFSETFROM:+0200
TZOFFSETTO:+0100
TZNAME:Europe/Rome CET
END:STANDARD
BEGIN:STANDARD
DTSTART:20121028T020000
RDATE:20130331T030000
TZOFFSETFROM:+0200
TZOFFSETTO:+0100
TZNAME:Europe/Rome CET
END:STANDARD
BEGIN:STANDARD
DTSTART:20131027T020000
RDATE:20140330T030000
TZOFFSETFROM:+0200
TZOFFSETTO:+0100
TZNAME:Europe/Rome CET
END:STANDARD
BEGIN:STANDARD
DTSTART:20141026T020000
RDATE:20150329T030000
TZOFFSETFROM:+0200
TZOFFSETTO:+0100
TZNAME:Europe/Rome CET
END:STANDARD
BEGIN:STANDARD
DTSTART:20151025T020000
RDATE:20160327T030000
TZOFFSETFROM:+0200
TZOFFSETTO:+0100
TZNAME:Europe/Rome CET
END:STANDARD
BEGIN:STANDARD
DTSTART:20161030T020000
RDATE:20170326T030000
TZOFFSETFROM:+0200
TZOFFSETTO:+0100
TZNAME:Europe/Rome CET
END:STANDARD
BEGIN:STANDARD
DTSTART:20171029T020000
RDATE:20180325T030000
TZOFFSETFROM:+0200
TZOFFSETTO:+0100
TZNAME:Europe/Rome CET
END:STANDARD
BEGIN:STANDARD
DTSTART:20181028T020000
RDATE:20190331T030000
TZOFFSETFROM:+0200
TZOFFSETTO:+0100
TZNAME:Europe/Rome CET
END:STANDARD
BEGIN:STANDARD
DTSTART:20191027T020000
RDATE:20200329T030000
TZOFFSETFROM:+0200
TZOFFSETTO:+0100
TZNAME:Europe/Rome CET
END:STANDARD
BEGIN:STANDARD
DTSTART:20201025T020000
RDATE:20210328T030000
TZOFFSETFROM:+0200
TZOFFSETTO:+0100
TZNAME:Europe/Rome CET
END:STANDARD
BEGIN:STANDARD
DTSTART:20211031T020000
RDATE:20220327T030000
TZOFFSETFROM:+0200
TZOFFSETTO:+0100
TZNAME:Europe/Rome CET
END:STANDARD
BEGIN:STANDARD
DTSTART:20221030T020000
RDATE:20230326T030000
TZOFFSETFROM:+0200
TZOFFSETTO:+0100
TZNAME:Europe/Rome CET
END:STANDARD
BEGIN:STANDARD
DTSTART:20231029T020000
RDATE:20240331T030000
TZOFFSETFROM:+0200
TZOFFSETTO:+0100
TZNAME:Europe/Rome CET
END:STANDARD
BEGIN:STANDARD
DTSTART:20241027T020000
RDATE:20250330T030000
TZOFFSETFROM:+0200
TZOFFSETTO:+0100
TZNAME:Europe/Rome CET
END:STANDARD
BEGIN:STANDARD
DTSTART:20251026T020000
RDATE:20260329T030000
TZOFFSETFROM:+0200
TZOFFSETTO:+0100
TZNAME:Europe/Rome CET
END:STANDARD
BEGIN:STANDARD
DTSTART:20261025T020000
RDATE:20270328T030000
TZOFFSETFROM:+0200
TZOFFSETTO:+0100
TZNAME:Europe/Rome CET
END:STANDARD
BEGIN:STANDARD
DTSTART:20271031T020000
RDATE:20280326T030000
TZOFFSETFROM:+0200
TZOFFSETTO:+0100
TZNAME:Europe/Rome CET
END:STANDARD
BEGIN:STANDARD
DTSTART:20281029T020000
RDATE:20290325T030000
TZOFFSETFROM:+0200
TZOFFSETTO:+0100
TZNAME:Europe/Rome CET
END:STANDARD
BEGIN:STANDARD
DTSTART:20291028T020000
RDATE:20300331T030000
TZOFFSETFROM:+0200
TZOFFSETTO:+0100
TZNAME:Europe/Rome CET
END:STANDARD
BEGIN:STANDARD
DTSTART:20301027T020000
RDATE:20310330T030000
TZOFFSETFROM:+0200
TZOFFSETTO:+0100
TZNAME:Europe/Rome CET
END:STANDARD
BEGIN:STANDARD
DTSTART:20311026T020000
RDATE:20320328T030000
TZOFFSETFROM:+0200
TZOFFSETTO:+0100
TZNAME:Europe/Rome CET
END:STANDARD
BEGIN:STANDARD
DTSTART:20321031T020000
RDATE:20330327T030000
TZOFFSETFROM:+0200
TZOFFSETTO:+0100
TZNAME:Europe/Rome CET
END:STANDARD
BEGIN:STANDARD
DTSTART:20331030T020000
RDATE:20340326T030000
TZOFFSETFROM:+0200
TZOFFSETTO:+0100
TZNAME:Europe/Rome CET
END:STANDARD
BEGIN:STANDARD
DTSTART:20341029T020000
RDATE:20350325T030000
TZOFFSETFROM:+0200
TZOFFSETTO:+0100
TZNAME:Europe/Rome CET
END:STANDARD
BEGIN:STANDARD
DTSTART:20351028T020000
RDATE:20360330T030000
TZOFFSETFROM:+0200
TZOFFSETTO:+0100
TZNAME:Europe/Rome CET
END:STANDARD
BEGIN:STANDARD
DTSTART:20361026T020000
RDATE:20370329T030000
TZOFFSETFROM:+0200
TZOFFSETTO:+0100
TZNAME:Europe/Rome CET
END:STANDARD
BEGIN:STANDARD
DTSTART:20371025T020000
TZOFFSETFROM:+0200
TZOFFSETTO:+0100
TZNAME:Europe/Rome CET
END:STANDARD
BEGIN:DAYLIGHT
DTSTART:20090329T030000
RDATE:20091025T020000
TZOFFSETFROM:+0100
TZOFFSETTO:+0200
TZNAME:Europe/Rome CEST
END:DAYLIGHT
BEGIN:DAYLIGHT
DTSTART:20100328T030000
RDATE:20101031T020000
TZOFFSETFROM:+0100
TZOFFSETTO:+0200
TZNAME:Europe/Rome CEST
END:DAYLIGHT
BEGIN:DAYLIGHT
DTSTART:20110327T030000
RDATE:20111030T020000
TZOFFSETFROM:+0100
TZOFFSETTO:+0200
TZNAME:Europe/Rome CEST
END:DAYLIGHT
BEGIN:DAYLIGHT
DTSTART:20120325T030000
RDATE:20121028T020000
TZOFFSETFROM:+0100
TZOFFSETTO:+0200
TZNAME:Europe/Rome CEST
END:DAYLIGHT
BEGIN:DAYLIGHT
DTSTART:20130331T030000
RDATE:20131027T020000
TZOFFSETFROM:+0100
TZOFFSETTO:+0200
TZNAME:Europe/Rome CEST
END:DAYLIGHT
BEGIN:DAYLIGHT
DTSTART:20140330T030000
RDATE:20141026T020000
TZOFFSETFROM:+0100
TZOFFSETTO:+0200
TZNAME:Europe/Rome CEST
END:DAYLIGHT
BEGIN:DAYLIGHT
DTSTART:20150329T030000
RDATE:20151025T020000
TZOFFSETFROM:+0100
TZOFFSETTO:+0200
TZNAME:Europe/Rome CEST
END:DAYLIGHT
BEGIN:DAYLIGHT
DTSTART:20160327T030000
RDATE:20161030T020000
TZOFFSETFROM:+0100
TZOFFSETTO:+0200
TZNAME:Europe/Rome CEST
END:DAYLIGHT
BEGIN:DAYLIGHT
DTSTART:20170326T030000
RDATE:20171029T020000
TZOFFSETFROM:+0100
TZOFFSETTO:+0200
TZNAME:Europe/Rome CEST
END:DAYLIGHT
BEGIN:DAYLIGHT
DTSTART:20180325T030000
RDATE:20181028T020000
TZOFFSETFROM:+0100
TZOFFSETTO:+0200
TZNAME:Europe/Rome CEST
END:DAYLIGHT
BEGIN:DAYLIGHT
DTSTART:20190331T030000
RDATE:20191027T020000
TZOFFSETFROM:+0100
TZOFFSETTO:+0200
TZNAME:Europe/Rome CEST
END:DAYLIGHT
BEGIN:DAYLIGHT
DTSTART:20200329T030000
RDATE:20201025T020000
TZOFFSETFROM:+0100
TZOFFSETTO:+0200
TZNAME:Europe/Rome CEST
END:DAYLIGHT
BEGIN:DAYLIGHT
DTSTART:20210328T030000
RDATE:20211031T020000
TZOFFSETFROM:+0100
TZOFFSETTO:+0200
TZNAME:Europe/Rome CEST
END:DAYLIGHT
BEGIN:DAYLIGHT
DTSTART:20220327T030000
RDATE:20221030T020000
TZOFFSETFROM:+0100
TZOFFSETTO:+0200
TZNAME:Europe/Rome CEST
END:DAYLIGHT
BEGIN:DAYLIGHT
DTSTART:20230326T030000
RDATE:20231029T020000
TZOFFSETFROM:+0100
TZOFFSETTO:+0200
TZNAME:Europe/Rome CEST
END:DAYLIGHT
BEGIN:DAYLIGHT
DTSTART:20240331T030000
RDATE:20241027T020000
TZOFFSETFROM:+0100
TZOFFSETTO:+0200
TZNAME:Europe/Rome CEST
END:DAYLIGHT
BEGIN:DAYLIGHT
DTSTART:20250330T030000
RDATE:20251026T020000
TZOFFSETFROM:+0100
TZOFFSETTO:+0200
TZNAME:Europe/Rome CEST
END:DAYLIGHT
BEGIN:DAYLIGHT
DTSTART:20260329T030000
RDATE:20261025T020000
TZOFFSETFROM:+0100
TZOFFSETTO:+0200
TZNAME:Europe/Rome CEST
END:DAYLIGHT
BEGIN:DAYLIGHT
DTSTART:20270328T030000
RDATE:20271031T020000
TZOFFSETFROM:+0100
TZOFFSETTO:+0200
TZNAME:Europe/Rome CEST
END:DAYLIGHT
BEGIN:DAYLIGHT
DTSTART:20280326T030000
RDATE:20281029T020000
TZOFFSETFROM:+0100
TZOFFSETTO:+0200
TZNAME:Europe/Rome CEST
END:DAYLIGHT
BEGIN:DAYLIGHT
DTSTART:20290325T030000
RDATE:20291028T020000
TZOFFSETFROM:+0100
TZOFFSETTO:+0200
TZNAME:Europe/Rome CEST
END:DAYLIGHT
BEGIN:DAYLIGHT
DTSTART:20300331T030000
RDATE:20301027T020000
TZOFFSETFROM:+0100
TZOFFSETTO:+0200
TZNAME:Europe/Rome CEST
END:DAYLIGHT
BEGIN:DAYLIGHT
DTSTART:20310330T030000
RDATE:20311026T020000
TZOFFSETFROM:+0100
TZOFFSETTO:+0200
TZNAME:Europe/Rome CEST
END:DAYLIGHT
BEGIN:DAYLIGHT
DTSTART:20320328T030000
RDATE:20321031T020000
TZOFFSETFROM:+0100
TZOFFSETTO:+0200
TZNAME:Europe/Rome CEST
END:DAYLIGHT
BEGIN:DAYLIGHT
DTSTART:20330327T030000
RDATE:20331030T020000
TZOFFSETFROM:+0100
TZOFFSETTO:+0200
TZNAME:Europe/Rome CEST
END:DAYLIGHT
BEGIN:DAYLIGHT
DTSTART:20340326T030000
RDATE:20341029T020000
TZOFFSETFROM:+0100
TZOFFSETTO:+0200
TZNAME:Europe/Rome CEST
END:DAYLIGHT
BEGIN:DAYLIGHT
DTSTART:20350325T030000
RDATE:20351028T020000
TZOFFSETFROM:+0100
TZOFFSETTO:+0200
TZNAME:Europe/Rome CEST
END:DAYLIGHT
BEGIN:DAYLIGHT
DTSTART:20360330T030000
RDATE:20361026T020000
TZOFFSETFROM:+0100
TZOFFSETTO:+0200
TZNAME:Europe/Rome CEST
END:DAYLIGHT
BEGIN:DAYLIGHT
DTSTART:20370329T030000
RDATE:20371025T020000
TZOFFSETFROM:+0100
TZOFFSETTO:+0200
TZNAME:Europe/Rome CEST
END:DAYLIGHT
END:VTIMEZONE
BEGIN:VEVENT
UID:1429119862evt480
CATEGORIES:.
SUMMARY:15-16 Festival delle Civiltà del Mediterraneo - Identità in Dialogo
DESCRIPTION;ENCODING=QUOTED-PRINTABLE:<h2><a href="http://www.intesacp.it/show_news.php?id=339">FESTIVAL DELLE CI
 VILTA&#39; DEL MEDITERRANEO </a></h2><h1><a href="http://www.intesacp.it/sh
 ow_news.php?id=339">( 15-16 dicembre, Ara Pacis )</a></h1><p>&nbsp;</p><p>I
 l <strong>&ldquo;Festival delle Civilt&agrave; del Mediterraneo - Identit&a
 grave; in Dialogo&rdquo;, </strong>ideato e organizzato da <strong>Intesa &
 amp; C.P. </strong>in collaborazione con <strong>AIMI - Associazione Intell
 ettuali Musulmani Italiani</strong> presso l&rsquo;Auditorium dell&rsquo;Ar
 a Pacis nei giorni 15 e 16 dicembre 2009 (Via di Ripetta 190, Roma)<strong>
 ,</strong> &egrave; <strong>realizzato con il sostegno dell&rsquo;Assessora
 to alle Politiche Culturali e della Comunicazione del Comune di Roma e dell
 &rsquo;Ufficio Relazioni Internazionali</strong> <strong>del Comune di Roma
 </strong> e<strong> patrocinato dal Parlamento Europeo e dalla Rappresentan
 za in Italia della Commissione Europea.&nbsp;</strong><br /><br />Il &ldquo
 ;Festival delle Civilt&agrave; del Mediterraneo - Identit&agrave; in Dialog
 o&rdquo; si apre marted&igrave; 15 dicembre alle 10.30 con il <strong>conve
 gno &ldquo;Roma ed il pluralismo culturale&rdquo;</strong> che vede la part
 ecipazione del Sindaco di Roma <strong>Gianni Alemanno</strong>, del Dirett
 ore della Fondazione Farefuturo <strong>Mario Ciampi</strong>, del Segretar
 io Generale della Fondazione Italianieuropei <strong>Andrea Peruzy</strong>
 , del Segretario Generale della Grande Moschea di Roma <strong>Abdallah Red
 ouane</strong>, del Presidente della Comunit&agrave; Ebraica di Roma <stron
 g>Riccardo Pacifici</strong>, del Corrispondente del quotidiano&nbsp;&ldquo
 ;Yedioth Ahronoth&rdquo; <strong>Menachem Gantz</strong>, di <strong>Abdel 
 Amer</strong> della Comunit&agrave; Egiziana e di <strong>Ahmad Hijaz</stro
 ng> della Comunit&agrave; Pakistana. Introduce e modera <strong>On. Federic
 o Rocca</strong>, Consigliere del Comune di Roma.&nbsp;<br /><br />Nel pome
 riggio, alle ore 17.00, si apre il <strong>convegno &ldquo;Centri Culturali
  in dialogo&rdquo;</strong> a cura dell&rsquo;AIMI, che vede gli interventi
  di <strong>Serena Forni</strong>, Staff del Sindaco - Ufficio Relazioni In
 ternazionali del Comune di Roma, dell&rsquo;Assessore alla Cultura dell&#39
 ;UCEI - Unione della Comunit&agrave; Ebraiche Italiane <strong>Victor Magia
 r</strong>, di <strong>Mario Scialoja</strong> della Grande Moschea di Roma
 , della Docente di Lingua e Letteratura Araba all&rsquo;Universit&agrave; L
 a Sapienza di Roma e all&rsquo;Orientale di Napoli <strong>Isabella Camera 
 d&rsquo;Afflitto</strong>, della Docente di Lingua e Letteratura Ebraica al
 l&rsquo;Universit&agrave; La Sapienza di Roma&nbsp;<strong>Sivan Kotler De 
 Benedetti</strong> e di rappresentanti dei Centri Culturali delle Ambasciat
 e di Egitto, Emirati Arabi, Giordania, Indonesia, Israele, Marocco e del Ce
 ntro Culturale Averro&eacute; di Roma. Introduce e modera<strong> Ahmad Gia
 npiero Vincenzo</strong>, Presidente AIMI.<br /><br />Il 16 novembre apre a
 lle 10.30 con il <strong>convegno &ldquo;Siamo tutte seconde generazioni&rd
 quo; </strong>dedicato alle scuole medie e superiori della citt&agrave; di 
 Roma, con gli interventi di <strong>Elisabetta Olivi</strong> della Rappres
 entanza in Italia della Commissione Europea, del Vicepresidente del Ben&egr
 ave; Berith Giovani <strong>Fabio Perugia</strong>, della Presidente della 
 Associazione Il&agrave; <strong>Grazia Patellaro</strong> e della Giornalis
 ta e Presidente dell&rsquo;Associazione Genemaghrebina <strong>Karima Moual
 </strong>.&nbsp;<br /><br />Nel pomeriggio si prosegue con il <strong>conve
 gno &ldquo;Il dialogo interreligioso&rdquo;</strong> sempre a cura dell&rsq
 uo;AIMI in cui intervengono il Segretario Generale della Grande Moschea di 
 Roma <strong>Abdallah Redouane</strong>, il Presidente dell&rsquo;UCEI - Un
 ione della Comunit&agrave; Ebraiche Italiane <strong>Renzo Gattegna</strong
 >, il Presidente dell&#39;Unione Induista Italiana <strong>Jayendranatha Fr
 anco Di Maria</strong>, la Presidente dell&rsquo;Unione Buddhista Italiana 
 <strong>Maria Angela Fal&agrave;</strong>, il Direttore della rivista Confr
 onti ed esponente della Chiesa Valdese <strong>Gian Mario Gillio</strong> e
  rappresentanti del Pontificio Consiglio per il Dialogo. Introduce e modera
  <strong>Ahmad Gianpiero Vincenzo</strong>, Presidente AIMI.<br /><br />Il 
 &ldquo;Festival del Mediterraneo - Identit&agrave; in Dialogo&rdquo; propon
 e, inoltre, per entrambi i giorni <strong>due momenti dedicati alla proiezi
 one di documentari italiani </strong>(ore 20.00)<strong> </strong>: <strong
 >&ldquo;Negri de Roma&rdquo; </strong>di<strong> Sabrina Varani </strong>e<
 strong> &ldquo;Sognavo le nuvole colorate&rdquo; </strong>di <strong>Mario 
 Balsamo</strong>.<strong> Due gli spettacoli musicali serali </strong>(ore 
 21.30) che rappresentano alcune delle<strong> esperienze pi&ugrave; interes
 santi della musica etnica di origine araba ed ebraica</strong>, fornendo un
  esempio concreto di come la cultura possa essere un ponte naturale tra le 
 civilt&agrave;, indispensabile per superare barriere e pregiudizi. Nella se
 rata di marted&igrave; 15 dicembre si tiene il concerto dell&rsquo;artista 
 marocchino <strong>Nour Eddine Fatty</strong>, accompagnato da Marco Vala B
 regua&nbsp;e Luca Cioffi, mentre mercoled&igrave; 16 un concerto di musica 
 ebraica con la <strong>partecipazione straordinaria di &nbsp;Miriam Meghnag
 i</strong>, accompagnata da Nicola Puglielli alle chitarre.<br /><br />Un f
 itto programma di appuntamenti per sottolineare il ruolo dell&rsquo;Italia 
 come ponte tra le diverse culture e il ruolo di Roma per il suo antico lega
 me con i popoli del Mediterraneo, testimoniato da pietre e persone, da stra
 de e suggestioni, da suoni e parole.&nbsp; Identit&agrave; in dialogo per n
 on cadere nei luoghi comuni, per non banalizzare le differenze, ma per cono
 scere e conoscersi. Un&rsquo;occasione in pi&ugrave; per approfondire la co
 noscenza di usi, costumi e pi&ugrave; in generale della cultura delle princ
 ipali comunit&agrave; presenti a Roma, una citt&agrave; che ha saputo conta
 giare popoli e terre, che ha saputo arricchirsi delle differenze per costru
 ire un percorso di rispetto delle identit&agrave; che ritroviamo ogni giorn
 o tra i &ldquo;nostri&rdquo; vicini di casa, &nbsp;i &ldquo;nostri&rdquo; c
 olleghi, &nbsp;i &ldquo;nostri&rdquo; compagni di scuola.&nbsp;<br /><br />
 Vi &egrave; una strada per dialogare restando fedeli alle proprie radici? V
 i &egrave; un modo per seguire un percorso di pace, senza pretendere di imp
 orre le proprie idee?&nbsp; Queste sono alcune delle domande con cui si vuo
 le contribuire a stimolare un dibattito tra istituzioni, comunit&agrave;, a
 ssociazioni, centri culturali e scuole. Un&rsquo;occasione di dialogo tra g
 enerazioni, per coniugare radici e tradizioni con la capacit&agrave; dei gi
 ovani di immaginare il futuro e di anticiparlo. Si tratta di una delle sfid
 e culturali, politiche e sociali pi&ugrave; complesse de nostri tempi e che
  coinvolgono l&rsquo;intera Unione Europea, la quale, fin dal Trattato di B
 arcellona del 1995, &nbsp;ha iniziato a scommettere sul Mediterraneo come a
 rea non solo di sviluppo economico, ma anche di grandi opportunit&agrave; s
 trategiche e culturale. L&#39;intento &egrave; quello di uscire dal tecnici
 smo burocratico per indirizzare scelte politiche che sappiano dialogare con
  le identit&agrave; e le religioni, con le radici plurali di popoli che vog
 liono vivere al meglio il loro presente e il futuro, senza dimenticare il l
 oro passato.<br /><br /><br /><strong>Per informazioni :</strong><br /><br 
 /><strong>Intesa &amp; Comunicazione Produzione S.r.l. - Tel. 06.6832740 - 
 Web <a href="http://www.intesacp.it/">www.intesacp.it</a>&nbsp;&nbsp;</stro
 ng><br /><br /><strong>Museo dell&rsquo;Ara Pacis - Tel. 06.06.08 - Web <a 
 href="http://www.arapacis.it/">www.arapacis.it</a></strong><br /><br /><str
 ong>Ufficio stampa : In Media Res Comunicazione S.r.l.<br />Tel. 06.8620923
 4 - Web <a href="http://www.inmediarescomunicazione.it/">www.inmediarescomu
 nicazione.it</a> - Mail <span id="cloak39533">Questo indirizzo email è prot
 etto dagli spambots. È necessario abilitare JavaScript per vederlo.</span><
 script type='text/javascript'>
 //<!--
 document.getElementById('cloak39533
 ').innerHTML = '';
 var prefix = '&#109;a' + 'i&#108;' + '&#116;o';
 var pa
 th = 'hr' + 'ef' + '=';
 var addy39533 = '&#105;nf&#111;' + '&#64;';
 addy3
 9533 = addy39533 + '&#105;nm&#101;d&#105;&#97;r&#101;sc&#111;m&#117;n&#105;
 c&#97;z&#105;&#111;n&#101;' + '&#46;' + '&#105;t';
 var addy_text39533 = '&
 #105;nf&#111;' + '&#64;' + '&#105;nm&#101;d&#105;&#97;r&#101;sc&#111;m&#117
 ;n&#105;c&#97;z&#105;&#111;n&#101;' + '&#46;' + '&#105;t';
 document.getEle
 mentById('cloak39533').innerHTML += '<a ' + path + '\'' + prefix + ':' + ad
 dy39533 + '\'>'+addy_text39533+'<\/a>';
 //-->
 </script><br /><br /></stro
 ng></p>  
DTSTAMP:20260420T102942Z
DTSTART;TZID=Europe/Rome:20091215T000100
DTEND;TZID=Europe/Rome:20091216T000100
SEQUENCE:0
TRANSP:OPAQUE
END:VEVENT
END:VCALENDAR