BEGIN:VCALENDAR
VERSION:2.0
PRODID:-//jEvents 2.0 for Joomla//EN
CALSCALE:GREGORIAN
METHOD:PUBLISH
BEGIN:VTIMEZONE
TZID:Europe/Rome
BEGIN:STANDARD
DTSTART:20081217T000100
RDATE:20090329T030000
TZOFFSETFROM:+0200
TZOFFSETTO:+0100
TZNAME:Europe/Rome CET
END:STANDARD
BEGIN:STANDARD
DTSTART:20091025T020000
RDATE:20100328T030000
TZOFFSETFROM:+0200
TZOFFSETTO:+0100
TZNAME:Europe/Rome CET
END:STANDARD
BEGIN:STANDARD
DTSTART:20101031T020000
RDATE:20110327T030000
TZOFFSETFROM:+0200
TZOFFSETTO:+0100
TZNAME:Europe/Rome CET
END:STANDARD
BEGIN:STANDARD
DTSTART:20111030T020000
RDATE:20120325T030000
TZOFFSETFROM:+0200
TZOFFSETTO:+0100
TZNAME:Europe/Rome CET
END:STANDARD
BEGIN:STANDARD
DTSTART:20121028T020000
RDATE:20130331T030000
TZOFFSETFROM:+0200
TZOFFSETTO:+0100
TZNAME:Europe/Rome CET
END:STANDARD
BEGIN:STANDARD
DTSTART:20131027T020000
RDATE:20140330T030000
TZOFFSETFROM:+0200
TZOFFSETTO:+0100
TZNAME:Europe/Rome CET
END:STANDARD
BEGIN:STANDARD
DTSTART:20141026T020000
RDATE:20150329T030000
TZOFFSETFROM:+0200
TZOFFSETTO:+0100
TZNAME:Europe/Rome CET
END:STANDARD
BEGIN:STANDARD
DTSTART:20151025T020000
RDATE:20160327T030000
TZOFFSETFROM:+0200
TZOFFSETTO:+0100
TZNAME:Europe/Rome CET
END:STANDARD
BEGIN:STANDARD
DTSTART:20161030T020000
RDATE:20170326T030000
TZOFFSETFROM:+0200
TZOFFSETTO:+0100
TZNAME:Europe/Rome CET
END:STANDARD
BEGIN:STANDARD
DTSTART:20171029T020000
RDATE:20180325T030000
TZOFFSETFROM:+0200
TZOFFSETTO:+0100
TZNAME:Europe/Rome CET
END:STANDARD
BEGIN:STANDARD
DTSTART:20181028T020000
RDATE:20190331T030000
TZOFFSETFROM:+0200
TZOFFSETTO:+0100
TZNAME:Europe/Rome CET
END:STANDARD
BEGIN:STANDARD
DTSTART:20191027T020000
RDATE:20200329T030000
TZOFFSETFROM:+0200
TZOFFSETTO:+0100
TZNAME:Europe/Rome CET
END:STANDARD
BEGIN:STANDARD
DTSTART:20201025T020000
RDATE:20210328T030000
TZOFFSETFROM:+0200
TZOFFSETTO:+0100
TZNAME:Europe/Rome CET
END:STANDARD
BEGIN:STANDARD
DTSTART:20211031T020000
RDATE:20220327T030000
TZOFFSETFROM:+0200
TZOFFSETTO:+0100
TZNAME:Europe/Rome CET
END:STANDARD
BEGIN:STANDARD
DTSTART:20221030T020000
RDATE:20230326T030000
TZOFFSETFROM:+0200
TZOFFSETTO:+0100
TZNAME:Europe/Rome CET
END:STANDARD
BEGIN:STANDARD
DTSTART:20231029T020000
RDATE:20240331T030000
TZOFFSETFROM:+0200
TZOFFSETTO:+0100
TZNAME:Europe/Rome CET
END:STANDARD
BEGIN:STANDARD
DTSTART:20241027T020000
RDATE:20250330T030000
TZOFFSETFROM:+0200
TZOFFSETTO:+0100
TZNAME:Europe/Rome CET
END:STANDARD
BEGIN:STANDARD
DTSTART:20251026T020000
RDATE:20260329T030000
TZOFFSETFROM:+0200
TZOFFSETTO:+0100
TZNAME:Europe/Rome CET
END:STANDARD
BEGIN:STANDARD
DTSTART:20261025T020000
RDATE:20270328T030000
TZOFFSETFROM:+0200
TZOFFSETTO:+0100
TZNAME:Europe/Rome CET
END:STANDARD
BEGIN:STANDARD
DTSTART:20271031T020000
RDATE:20280326T030000
TZOFFSETFROM:+0200
TZOFFSETTO:+0100
TZNAME:Europe/Rome CET
END:STANDARD
BEGIN:STANDARD
DTSTART:20281029T020000
RDATE:20290325T030000
TZOFFSETFROM:+0200
TZOFFSETTO:+0100
TZNAME:Europe/Rome CET
END:STANDARD
BEGIN:STANDARD
DTSTART:20291028T020000
RDATE:20300331T030000
TZOFFSETFROM:+0200
TZOFFSETTO:+0100
TZNAME:Europe/Rome CET
END:STANDARD
BEGIN:STANDARD
DTSTART:20301027T020000
RDATE:20310330T030000
TZOFFSETFROM:+0200
TZOFFSETTO:+0100
TZNAME:Europe/Rome CET
END:STANDARD
BEGIN:STANDARD
DTSTART:20311026T020000
RDATE:20320328T030000
TZOFFSETFROM:+0200
TZOFFSETTO:+0100
TZNAME:Europe/Rome CET
END:STANDARD
BEGIN:STANDARD
DTSTART:20321031T020000
RDATE:20330327T030000
TZOFFSETFROM:+0200
TZOFFSETTO:+0100
TZNAME:Europe/Rome CET
END:STANDARD
BEGIN:STANDARD
DTSTART:20331030T020000
RDATE:20340326T030000
TZOFFSETFROM:+0200
TZOFFSETTO:+0100
TZNAME:Europe/Rome CET
END:STANDARD
BEGIN:STANDARD
DTSTART:20341029T020000
RDATE:20350325T030000
TZOFFSETFROM:+0200
TZOFFSETTO:+0100
TZNAME:Europe/Rome CET
END:STANDARD
BEGIN:STANDARD
DTSTART:20351028T020000
RDATE:20360330T030000
TZOFFSETFROM:+0200
TZOFFSETTO:+0100
TZNAME:Europe/Rome CET
END:STANDARD
BEGIN:STANDARD
DTSTART:20361026T020000
RDATE:20370329T030000
TZOFFSETFROM:+0200
TZOFFSETTO:+0100
TZNAME:Europe/Rome CET
END:STANDARD
BEGIN:STANDARD
DTSTART:20371025T020000
TZOFFSETFROM:+0200
TZOFFSETTO:+0100
TZNAME:Europe/Rome CET
END:STANDARD
BEGIN:DAYLIGHT
DTSTART:20090329T030000
RDATE:20091025T020000
TZOFFSETFROM:+0100
TZOFFSETTO:+0200
TZNAME:Europe/Rome CEST
END:DAYLIGHT
BEGIN:DAYLIGHT
DTSTART:20100328T030000
RDATE:20101031T020000
TZOFFSETFROM:+0100
TZOFFSETTO:+0200
TZNAME:Europe/Rome CEST
END:DAYLIGHT
BEGIN:DAYLIGHT
DTSTART:20110327T030000
RDATE:20111030T020000
TZOFFSETFROM:+0100
TZOFFSETTO:+0200
TZNAME:Europe/Rome CEST
END:DAYLIGHT
BEGIN:DAYLIGHT
DTSTART:20120325T030000
RDATE:20121028T020000
TZOFFSETFROM:+0100
TZOFFSETTO:+0200
TZNAME:Europe/Rome CEST
END:DAYLIGHT
BEGIN:DAYLIGHT
DTSTART:20130331T030000
RDATE:20131027T020000
TZOFFSETFROM:+0100
TZOFFSETTO:+0200
TZNAME:Europe/Rome CEST
END:DAYLIGHT
BEGIN:DAYLIGHT
DTSTART:20140330T030000
RDATE:20141026T020000
TZOFFSETFROM:+0100
TZOFFSETTO:+0200
TZNAME:Europe/Rome CEST
END:DAYLIGHT
BEGIN:DAYLIGHT
DTSTART:20150329T030000
RDATE:20151025T020000
TZOFFSETFROM:+0100
TZOFFSETTO:+0200
TZNAME:Europe/Rome CEST
END:DAYLIGHT
BEGIN:DAYLIGHT
DTSTART:20160327T030000
RDATE:20161030T020000
TZOFFSETFROM:+0100
TZOFFSETTO:+0200
TZNAME:Europe/Rome CEST
END:DAYLIGHT
BEGIN:DAYLIGHT
DTSTART:20170326T030000
RDATE:20171029T020000
TZOFFSETFROM:+0100
TZOFFSETTO:+0200
TZNAME:Europe/Rome CEST
END:DAYLIGHT
BEGIN:DAYLIGHT
DTSTART:20180325T030000
RDATE:20181028T020000
TZOFFSETFROM:+0100
TZOFFSETTO:+0200
TZNAME:Europe/Rome CEST
END:DAYLIGHT
BEGIN:DAYLIGHT
DTSTART:20190331T030000
RDATE:20191027T020000
TZOFFSETFROM:+0100
TZOFFSETTO:+0200
TZNAME:Europe/Rome CEST
END:DAYLIGHT
BEGIN:DAYLIGHT
DTSTART:20200329T030000
RDATE:20201025T020000
TZOFFSETFROM:+0100
TZOFFSETTO:+0200
TZNAME:Europe/Rome CEST
END:DAYLIGHT
BEGIN:DAYLIGHT
DTSTART:20210328T030000
RDATE:20211031T020000
TZOFFSETFROM:+0100
TZOFFSETTO:+0200
TZNAME:Europe/Rome CEST
END:DAYLIGHT
BEGIN:DAYLIGHT
DTSTART:20220327T030000
RDATE:20221030T020000
TZOFFSETFROM:+0100
TZOFFSETTO:+0200
TZNAME:Europe/Rome CEST
END:DAYLIGHT
BEGIN:DAYLIGHT
DTSTART:20230326T030000
RDATE:20231029T020000
TZOFFSETFROM:+0100
TZOFFSETTO:+0200
TZNAME:Europe/Rome CEST
END:DAYLIGHT
BEGIN:DAYLIGHT
DTSTART:20240331T030000
RDATE:20241027T020000
TZOFFSETFROM:+0100
TZOFFSETTO:+0200
TZNAME:Europe/Rome CEST
END:DAYLIGHT
BEGIN:DAYLIGHT
DTSTART:20250330T030000
RDATE:20251026T020000
TZOFFSETFROM:+0100
TZOFFSETTO:+0200
TZNAME:Europe/Rome CEST
END:DAYLIGHT
BEGIN:DAYLIGHT
DTSTART:20260329T030000
RDATE:20261025T020000
TZOFFSETFROM:+0100
TZOFFSETTO:+0200
TZNAME:Europe/Rome CEST
END:DAYLIGHT
BEGIN:DAYLIGHT
DTSTART:20270328T030000
RDATE:20271031T020000
TZOFFSETFROM:+0100
TZOFFSETTO:+0200
TZNAME:Europe/Rome CEST
END:DAYLIGHT
BEGIN:DAYLIGHT
DTSTART:20280326T030000
RDATE:20281029T020000
TZOFFSETFROM:+0100
TZOFFSETTO:+0200
TZNAME:Europe/Rome CEST
END:DAYLIGHT
BEGIN:DAYLIGHT
DTSTART:20290325T030000
RDATE:20291028T020000
TZOFFSETFROM:+0100
TZOFFSETTO:+0200
TZNAME:Europe/Rome CEST
END:DAYLIGHT
BEGIN:DAYLIGHT
DTSTART:20300331T030000
RDATE:20301027T020000
TZOFFSETFROM:+0100
TZOFFSETTO:+0200
TZNAME:Europe/Rome CEST
END:DAYLIGHT
BEGIN:DAYLIGHT
DTSTART:20310330T030000
RDATE:20311026T020000
TZOFFSETFROM:+0100
TZOFFSETTO:+0200
TZNAME:Europe/Rome CEST
END:DAYLIGHT
BEGIN:DAYLIGHT
DTSTART:20320328T030000
RDATE:20321031T020000
TZOFFSETFROM:+0100
TZOFFSETTO:+0200
TZNAME:Europe/Rome CEST
END:DAYLIGHT
BEGIN:DAYLIGHT
DTSTART:20330327T030000
RDATE:20331030T020000
TZOFFSETFROM:+0100
TZOFFSETTO:+0200
TZNAME:Europe/Rome CEST
END:DAYLIGHT
BEGIN:DAYLIGHT
DTSTART:20340326T030000
RDATE:20341029T020000
TZOFFSETFROM:+0100
TZOFFSETTO:+0200
TZNAME:Europe/Rome CEST
END:DAYLIGHT
BEGIN:DAYLIGHT
DTSTART:20350325T030000
RDATE:20351028T020000
TZOFFSETFROM:+0100
TZOFFSETTO:+0200
TZNAME:Europe/Rome CEST
END:DAYLIGHT
BEGIN:DAYLIGHT
DTSTART:20360330T030000
RDATE:20361026T020000
TZOFFSETFROM:+0100
TZOFFSETTO:+0200
TZNAME:Europe/Rome CEST
END:DAYLIGHT
BEGIN:DAYLIGHT
DTSTART:20370329T030000
RDATE:20371025T020000
TZOFFSETFROM:+0100
TZOFFSETTO:+0200
TZNAME:Europe/Rome CEST
END:DAYLIGHT
END:VTIMEZONE
BEGIN:VEVENT
UID:1429119862evt485
CATEGORIES:.
SUMMARY:18-19- Madama cie (teatro)
DESCRIPTION;ENCODING=QUOTED-PRINTABLE:<p style="margin: 0cm 0cm 10pt; text-align: center; line-height: normal" cl
 ass="MsoNormal" align="center"><strong> 18 19 dic spettacolo teatrale e dib
 attito pubblico MADAMA CIE attricecontro<br />  <br />  </strong>  body,tab
 le,td,tr,p,input {font-family: Verdana, Arial, Helvetica, Sans-Serif; font-
 size: 11px} hr {height: 1px}    </p><p style="margin: 0cm 0cm 10pt; text-al
 ign: center; line-height: normal" class="MsoNormal" align="center"><strong>
 <span style="font-family: &#39;Arial Narrow&#39;,&#39;sans-serif&#39;; font
 -size: 14pt">B&igrave;t Scenika</span></strong></p>  <p style="margin: 0cm 
 0cm 10pt; text-align: center; line-height: normal" class="MsoNormal" align=
 "center"><strong><span style="font-family: &#39;Arial Narrow&#39;,&#39;sans
 -serif&#39;; font-size: 14pt">&amp;</span></strong></p>  <p style="margin: 
 0cm 0cm 10pt; text-align: center; line-height: normal" class="MsoNormal" al
 ign="center"><strong><span style="font-family: &#39;Arial Narrow&#39;,&#39;
 sans-serif&#39;; font-size: 14pt">COMPAGNIA TEATRALE INDIPENDENTE<span>&nbs
 p; </span>AttriceContro</span></strong></p>  <p style="margin: 0cm 0cm 10pt
 ; text-align: center; line-height: normal" class="MsoNormal" align="center"
 ><strong><span style="font-family: &#39;Arial Narrow&#39;,&#39;sans-serif&#
 39;; font-size: 14pt">presentano</span></strong></p>  <p style="margin: 0cm
  0cm 10pt; text-align: center; line-height: normal" class="MsoNormal" align
 ="center"><strong><span style="font-family: &#39;Arial Narrow&#39;,&#39;san
 s-serif&#39;; color: red; font-size: 14pt">MADAMA CIE</span></strong><span 
 style="font-family: &#39;Arial Narrow&#39;,&#39;sans-serif&#39;; font-size:
  14pt"> </span></p>  <p style="margin: 0cm 0cm 10pt; text-align: center; li
 ne-height: normal" class="MsoNormal" align="center"><strong><span style="fo
 nt-family: &#39;Arial Narrow&#39;,&#39;sans-serif&#39;; color: red; font-si
 ze: 14pt">Rievocazioni estemporanee di una divisa scoppiata</span></strong>
 </p>    <p style="margin: 0cm 0cm 10pt; text-align: center; line-height: no
 rmal" class="MsoNormal" align="center"><strong><span style="font-family: &#
 39;Arial Narrow&#39;,&#39;sans-serif&#39;; font-size: 14pt">Scritto, dirett
 o, e interpretato da Alessandra Magrini<br /><br /></span></strong></p>  <p
  style="margin: 0cm 0cm 10pt; text-align: center; line-height: normal" clas
 s="MsoNormal" align="center"><span style="font-family: &#39;Arial Narrow&#3
 9;,&#39;sans-serif&#39;; font-size: 14pt">Il 18 e 19 dicembre al Kollatino 
 Underground,dopo l&rsquo;anteprima fiorentina,<span>&nbsp; </span>aprir&agr
 ave; le scene lo spettacolo teatrale itinerante &#147;Madama CIE, Rievocazi
 oni estemporanee di una divisa scoppiata&#148;, scritto diretto interpretat
 o da Alessandra Magrini, audio e video Francesco Marchese. </span></p>  <p 
 style="margin: 0cm 0cm 10pt; text-align: center; line-height: normal" class
 ="MsoNormal" align="center"><span style="font-family: &#39;Arial Narrow&#39
 ;,&#39;sans-serif&#39;; font-size: 14pt">Monologo multimediale, &#147;Madam
 a CIE&#148; &egrave; una mistura di brandelli scagliati dall&rsquo;esplosio
 ne di una divisa da cui origina un simulacro tragicomico che segue un senti
 ero di rievocazioni estemporanee. Lady Oscar, Pinocchio, la Costituzione, N
 elson Mandela, il CIE di Ponte Galeria, gli sbarchi a Lampedusa, sgorgano d
 a una mente fuor di senno, proprio come accadde a molti giovani soldati di 
 ritorno dal Vietnam negli anni &lsquo;60 che non hanno retto il peso dell&r
 squo;orrore. </span></p>  <p style="margin: 0cm 0cm 10pt; text-align: cente
 r; line-height: normal" class="MsoNormal" align="center"><span style="font-
 family: &#39;Arial Narrow&#39;,&#39;sans-serif&#39;; font-size: 14pt">Madam
 a CIE non torna da cos&igrave; lontano, lei vive ed opera nell&rsquo;Italia
  dei nostri giorni, quella degli operai arrampicati in cima alle fabbriche,
  delle aggressioni razziste, delle escort, delle ronde, dei precari senza u
 n euro, dei viaggi disperati degli immigrati<span> &nbsp; </span>clandestin
 i. A calcare le scene &egrave; un personaggio costruito dalla fantasia dell
 &rsquo;autrice, ma i contenuti della narrazione sono frutto di una document
 azione effettuata su reportage giornalistici, contatti con sindacalisti,<sp
 an>&nbsp; </span>volontari CIE, dossier e siti internet, fino ad interviste
  effettuate dalla stessa autrice ad immigrati clandestini.</span></p>  <p s
 tyle="margin: 0cm 0cm 10pt; text-align: center; line-height: normal" class=
 "MsoNormal" align="center"><span style="font-family: &#39;Arial Narrow&#39;
 ,&#39;sans-serif&#39;; font-size: 14pt">Come in molti dei lavori della comp
 agnia &#147;AttriceContro&#148; anche in questo c&rsquo;&egrave; l&rsquo;im
 mancabile tributo al grande Gianmaria Volont&egrave;, i suoi personaggi per
 lopi&ugrave; figli degli anni &lsquo;70, trasportati ai giorni nostri si ri
 velano immortali, scolpiti nel tempo, sempre da tener presenti per penetrar
 e a fondo la verit&agrave;. </span></p>  <p style="margin: 0cm 0cm 10pt; te
 xt-align: center; line-height: normal" class="MsoNormal" align="center"><sp
 an style="font-family: &#39;Arial Narrow&#39;,&#39;sans-serif&#39;; font-si
 ze: 14pt">Si ringrazia in modo particolare per la collaborazione alla docum
 entazione, Francesco Viviano (giornalista la Repubblica),Kurosh Danesh ( Co
 ordinatore del Comitato Nazionale Immigrate/i CGIL),Francesca De Masi (coop
 erativa be free contro ogni discriminazione), csa Camilo Cienfuegos per il 
 dossier &#147;chi specula sulla paura&#148;, il sito internet fortresseurop
 e.blogspot.com anche per il prezioso<span> &nbsp; </span>materiale fotograf
 ico messo a disposizione.</span></p> <p style="margin: 0cm 0cm 10pt; text-a
 lign: center; line-height: normal" class="MsoNormal" align="center">&nbsp;<
 /p><p style="margin: 0cm 0cm 10pt; text-align: center; line-height: normal"
  class="MsoNormal" align="center"><strong><span style="font-family: &#39;Ar
 ial Narrow&#39;,&#39;sans-serif&#39;; font-size: 14pt">Venerd&igrave; 18 al
 le ore 19.30 <br />  a precedere lo spettacolo sar&agrave; un incontro/diba
 ttito pubblico</span></strong><span style="font-family: &#39;Arial Narrow&#
 39;,&#39;sans-serif&#39;; font-size: 14pt"> <br />  <strong><span style="co
 lor: red">Immigrazione, centri d&rsquo;identificazione ed espulsione, buroc
 razia, caporalato, <br />  viaggi disperati, tratta<span>&nbsp; </span>e di
 ritti umani violati</span> <br />  </strong>Un momento importante per capir
 e ed analizzare questo urgente tema sociale con coloro che ogni giorno vivo
 no a stretto contatto con gli immigrati e con le loro problematiche e che p
 ossono sia aiutare a capire quali siano le loro reali condizioni, i problem
 i burocratici legati ai permessi di soggiorno e i contratti di lavoro, ma a
 nche a suggerire eventuali soluzioni per una vera integrazione. </span></p>
   <p style="margin: 0cm 0cm 10pt; text-align: center; line-height: normal" 
 class="MsoNormal" align="center"><span style="font-family: &#39;Arial Narro
 w&#39;,&#39;sans-serif&#39;; font-size: 14pt">A dare le loro testimonianze:
 </span></p>  <p style="margin: 0cm 0cm 10pt; text-align: center; line-heigh
 t: normal" class="MsoNormal" align="center"><span style="font-family: &#39;
 Arial Narrow&#39;,&#39;sans-serif&#39;; font-size: 14pt">Avv. Angiolo Marro
 ni (Garante dei diritti dei detenuti del Lazio)</span></p>  <p style="margi
 n: 0cm 0cm 10pt; text-align: center; line-height: normal" class="MsoNormal"
  align="center"><span style="font-family: &#39;Arial Narrow&#39;,&#39;sans-
 serif&#39;; font-size: 14pt">Simone Ragno (Garante dei diritti dei detenuti
  del Lazio)</span></p>  <p style="margin: 0cm 0cm 10pt; text-align: center;
  line-height: normal" class="MsoNormal" align="center"><span style="font-fa
 mily: &#39;Arial Narrow&#39;,&#39;sans-serif&#39;; font-size: 14pt">Frances
 co Viviano (Giornalista Repubblica)</span></p>  <p style="margin: 0cm 0cm 1
 0pt; text-align: center; line-height: normal" class="MsoNormal" align="cent
 er"><span style="font-family: &#39;Arial Narrow&#39;,&#39;sans-serif&#39;; 
 font-size: 14pt">Kurosh Danesh (Coordinatore del Comitato Nazionale Immigra
 te/i CGIL)</span></p>  <p style="margin: 0cm 0cm 10pt; text-align: center; 
 line-height: normal" class="MsoNormal" align="center"><span style="font-fam
 ily: &#39;Arial Narrow&#39;,&#39;sans-serif&#39;; font-size: 14pt">Francesc
 a De Masi (Cooperativa be free contro tratta, violenza, discriminazione)</s
 pan></p>  <p style="margin: 0cm 0cm 10pt; text-align: center; line-height: 
 normal" class="MsoNormal" align="center"><span style="font-family: &#39;Ari
 al Narrow&#39;,&#39;sans-serif&#39;; font-size: 14pt">Avv.Salvatore Fachile
  (Ass. Studi Giuridici sull&#39;Immigrazione)</span></p>  <p style="margin:
  0cm 0cm 10pt; text-align: center; line-height: normal" class="MsoNormal" a
 lign="center"><span style="font-family: &#39;Arial Narrow&#39;,&#39;sans-se
 rif&#39;; font-size: 14pt">Fabio Nobile (Segretario PdCI Roma)</span></p>  
 <p style="margin: 0cm 0cm 10pt; text-align: center; line-height: normal" cl
 ass="MsoNormal" align="center"><span style="font-family: &#39;Arial Narrow&
 #39;,&#39;sans-serif&#39;; font-size: 14pt">Modera Chiara Crupi</span></p> 
  <p style="margin: 0cm 0cm 10pt; text-align: center; line-height: normal" c
 lass="MsoNormal" align="center"><span style="font-family: &#39;Arial Narrow
 &#39;,&#39;sans-serif&#39;; font-size: 14pt"></span>&nbsp;</p>  <p style="m
 argin: 0cm 0cm 10pt; text-align: center; line-height: normal" class="MsoNor
 mal" align="center"><span style="font-family: &#39;Arial Narrow&#39;,&#39;s
 ans-serif&#39;; font-size: 14pt">Chi &egrave; Madama CIE? Una divisa, una d
 i quelle pi&ugrave; convinte, che ogni giorno difende lo stato con dedizion
 e e fedelt&agrave; ma che si ritrova<span> &nbsp; </span>a dover obbedire a
 gli ordini che si scontrano con la sua coscienza. Assistiamo ad una violent
 a<span>&nbsp; </span>lacerazione psichica di una divisa che si trova a dove
 r risolvere l&rsquo;equazione che pone la coscienza contrapposta al sistema
  militare fondato sull&rsquo;obbedienza agli ordini.</span></p>  <p style="
 margin: 0cm 0cm 10pt; text-align: center; line-height: normal" class="MsoNo
 rmal" align="center"><span style="font-family: &#39;Arial Narrow&#39;,&#39;
 sans-serif&#39;; font-size: 14pt">Fra ricordi d&rsquo;infanzia, sindrome di
  Lady Oscar, e altre allucinazioni, la nostra madama ci mostrer&agrave; sen
 za filtri e con cruenta verit&agrave; cosa significa assolvere al compito d
 ella &#147;sicurezza&#148; in un mondo che le<span> &nbsp; </span>famiglie 
 italiane conoscono solo attraverso i telegiornali.</span></p>  <p style="ma
 rgin: 0cm 0cm 10pt; text-align: center; line-height: normal" class="MsoNorm
 al" align="center"><span style="font-family: &#39;Arial Narrow&#39;,&#39;sa
 ns-serif&#39;; font-size: 14pt">Il manganello ben inserito nel cinturone pe
 rder&agrave; la sua maneggevolezza<span>&nbsp; </span>proprio operando<span
 > &nbsp; </span>sul campo quando vivr&agrave; sulla propria pelle il signif
 icato delle barbarie contro esseri umani indifesi, come gli immigrati e com
 e gli occhi di una<span>&nbsp; </span>bambina africana che si riveleranno l
 a scintilla<span>&nbsp; </span>che provocher&agrave; lo strappo finale alle
  sue convinzioni.</span></p>  <p style="margin: 0cm 0cm 10pt; text-align: c
 enter; line-height: normal" class="MsoNormal" align="center"><span style="f
 ont-family: &#39;Arial Narrow&#39;,&#39;sans-serif&#39;; font-size: 14pt">L
 e scenografie come il testo sono sempre diverse essendo un lavoro work in p
 rogress, che affrontando temi d&rsquo;attualit&agrave; si arricchisce di vo
 lta in volta di testimonianze nuove che a loro volta ne ridefiniscono anche
  l&rsquo;ambientazione scenica.<br />  Biglietto: 5 euro</span></p>  <p sty
 le="margin: 0cm 0cm 10pt; text-align: center; line-height: normal" class="M
 soNormal" align="center"><span style="font-family: &#39;Arial Narrow&#39;,&
 #39;sans-serif&#39;; font-size: 14pt">&nbsp;</span></p> <span style="font-f
 amily: &#39;Arial Narrow&#39;,&#39;sans-serif&#39;; font-size: 14pt"> <p st
 yle="margin: 0cm 0cm 10pt; text-align: center; line-height: normal" class="
 MsoNormal" align="center"><strong><span style="font-family: &#39;Arial Narr
 ow&#39;,&#39;sans-serif&#39;; font-size: 14pt"><span style="color: #ff0000"
 ><a href="http://www.kollatinounderground.org/" target="_blank">www.kollati
 nounderground.org</a> </span>18 e 19 Dicembre 2009 ore 21 </span></strong><
 /p></span><span style="font-family: &#39;Arial Narrow&#39;,&#39;sans-serif&
 #39;; font-size: 14pt">via Georges Sorel 10 </span><span style="font-family
 : &#39;Arial Narrow&#39;,&#39;sans-serif&#39;; font-size: 14pt">00177 Roma<
 br />  info: 3382006735</span><br /> 
DTSTAMP:20260420T133104Z
DTSTART;TZID=Europe/Rome:20091218T000100
DTEND;TZID=Europe/Rome:20091219T000100
SEQUENCE:0
TRANSP:OPAQUE
END:VEVENT
END:VCALENDAR