BEGIN:VCALENDAR
VERSION:2.0
PRODID:-//jEvents 2.0 for Joomla//EN
CALSCALE:GREGORIAN
METHOD:PUBLISH
BEGIN:VTIMEZONE
TZID:Europe/Rome
BEGIN:STANDARD
DTSTART:20071028T020000
RDATE:20080330T030000
TZOFFSETFROM:+0200
TZOFFSETTO:+0100
TZNAME:Europe/Rome CET
END:STANDARD
BEGIN:STANDARD
DTSTART:20081026T020000
RDATE:20090329T030000
TZOFFSETFROM:+0200
TZOFFSETTO:+0100
TZNAME:Europe/Rome CET
END:STANDARD
BEGIN:STANDARD
DTSTART:20091025T020000
RDATE:20100328T030000
TZOFFSETFROM:+0200
TZOFFSETTO:+0100
TZNAME:Europe/Rome CET
END:STANDARD
BEGIN:STANDARD
DTSTART:20101031T020000
RDATE:20110327T030000
TZOFFSETFROM:+0200
TZOFFSETTO:+0100
TZNAME:Europe/Rome CET
END:STANDARD
BEGIN:STANDARD
DTSTART:20111030T020000
RDATE:20120325T030000
TZOFFSETFROM:+0200
TZOFFSETTO:+0100
TZNAME:Europe/Rome CET
END:STANDARD
BEGIN:STANDARD
DTSTART:20121028T020000
RDATE:20130331T030000
TZOFFSETFROM:+0200
TZOFFSETTO:+0100
TZNAME:Europe/Rome CET
END:STANDARD
BEGIN:STANDARD
DTSTART:20131027T020000
RDATE:20140330T030000
TZOFFSETFROM:+0200
TZOFFSETTO:+0100
TZNAME:Europe/Rome CET
END:STANDARD
BEGIN:STANDARD
DTSTART:20141026T020000
RDATE:20150329T030000
TZOFFSETFROM:+0200
TZOFFSETTO:+0100
TZNAME:Europe/Rome CET
END:STANDARD
BEGIN:STANDARD
DTSTART:20151025T020000
RDATE:20160327T030000
TZOFFSETFROM:+0200
TZOFFSETTO:+0100
TZNAME:Europe/Rome CET
END:STANDARD
BEGIN:STANDARD
DTSTART:20161030T020000
RDATE:20170326T030000
TZOFFSETFROM:+0200
TZOFFSETTO:+0100
TZNAME:Europe/Rome CET
END:STANDARD
BEGIN:STANDARD
DTSTART:20171029T020000
RDATE:20180325T030000
TZOFFSETFROM:+0200
TZOFFSETTO:+0100
TZNAME:Europe/Rome CET
END:STANDARD
BEGIN:STANDARD
DTSTART:20181028T020000
RDATE:20190331T030000
TZOFFSETFROM:+0200
TZOFFSETTO:+0100
TZNAME:Europe/Rome CET
END:STANDARD
BEGIN:STANDARD
DTSTART:20191027T020000
RDATE:20200329T030000
TZOFFSETFROM:+0200
TZOFFSETTO:+0100
TZNAME:Europe/Rome CET
END:STANDARD
BEGIN:STANDARD
DTSTART:20201025T020000
RDATE:20210328T030000
TZOFFSETFROM:+0200
TZOFFSETTO:+0100
TZNAME:Europe/Rome CET
END:STANDARD
BEGIN:STANDARD
DTSTART:20211031T020000
RDATE:20220327T030000
TZOFFSETFROM:+0200
TZOFFSETTO:+0100
TZNAME:Europe/Rome CET
END:STANDARD
BEGIN:STANDARD
DTSTART:20221030T020000
RDATE:20230326T030000
TZOFFSETFROM:+0200
TZOFFSETTO:+0100
TZNAME:Europe/Rome CET
END:STANDARD
BEGIN:STANDARD
DTSTART:20231029T020000
RDATE:20240331T030000
TZOFFSETFROM:+0200
TZOFFSETTO:+0100
TZNAME:Europe/Rome CET
END:STANDARD
BEGIN:STANDARD
DTSTART:20241027T020000
RDATE:20250330T030000
TZOFFSETFROM:+0200
TZOFFSETTO:+0100
TZNAME:Europe/Rome CET
END:STANDARD
BEGIN:STANDARD
DTSTART:20251026T020000
RDATE:20260329T030000
TZOFFSETFROM:+0200
TZOFFSETTO:+0100
TZNAME:Europe/Rome CET
END:STANDARD
BEGIN:STANDARD
DTSTART:20261025T020000
RDATE:20270328T030000
TZOFFSETFROM:+0200
TZOFFSETTO:+0100
TZNAME:Europe/Rome CET
END:STANDARD
BEGIN:STANDARD
DTSTART:20271031T020000
RDATE:20280326T030000
TZOFFSETFROM:+0200
TZOFFSETTO:+0100
TZNAME:Europe/Rome CET
END:STANDARD
BEGIN:STANDARD
DTSTART:20281029T020000
RDATE:20290325T030000
TZOFFSETFROM:+0200
TZOFFSETTO:+0100
TZNAME:Europe/Rome CET
END:STANDARD
BEGIN:STANDARD
DTSTART:20291028T020000
RDATE:20300331T030000
TZOFFSETFROM:+0200
TZOFFSETTO:+0100
TZNAME:Europe/Rome CET
END:STANDARD
BEGIN:STANDARD
DTSTART:20301027T020000
RDATE:20310330T030000
TZOFFSETFROM:+0200
TZOFFSETTO:+0100
TZNAME:Europe/Rome CET
END:STANDARD
BEGIN:STANDARD
DTSTART:20311026T020000
RDATE:20320328T030000
TZOFFSETFROM:+0200
TZOFFSETTO:+0100
TZNAME:Europe/Rome CET
END:STANDARD
BEGIN:STANDARD
DTSTART:20321031T020000
RDATE:20330327T030000
TZOFFSETFROM:+0200
TZOFFSETTO:+0100
TZNAME:Europe/Rome CET
END:STANDARD
BEGIN:STANDARD
DTSTART:20331030T020000
RDATE:20340326T030000
TZOFFSETFROM:+0200
TZOFFSETTO:+0100
TZNAME:Europe/Rome CET
END:STANDARD
BEGIN:STANDARD
DTSTART:20341029T020000
RDATE:20350325T030000
TZOFFSETFROM:+0200
TZOFFSETTO:+0100
TZNAME:Europe/Rome CET
END:STANDARD
BEGIN:STANDARD
DTSTART:20351028T020000
RDATE:20360330T030000
TZOFFSETFROM:+0200
TZOFFSETTO:+0100
TZNAME:Europe/Rome CET
END:STANDARD
BEGIN:STANDARD
DTSTART:20361026T020000
RDATE:20370329T030000
TZOFFSETFROM:+0200
TZOFFSETTO:+0100
TZNAME:Europe/Rome CET
END:STANDARD
BEGIN:STANDARD
DTSTART:20371025T020000
TZOFFSETFROM:+0200
TZOFFSETTO:+0100
TZNAME:Europe/Rome CET
END:STANDARD
BEGIN:DAYLIGHT
DTSTART:20070509T203000
RDATE:20071028T020000
TZOFFSETFROM:+0100
TZOFFSETTO:+0200
TZNAME:Europe/Rome CEST
END:DAYLIGHT
BEGIN:DAYLIGHT
DTSTART:20080330T030000
RDATE:20081026T020000
TZOFFSETFROM:+0100
TZOFFSETTO:+0200
TZNAME:Europe/Rome CEST
END:DAYLIGHT
BEGIN:DAYLIGHT
DTSTART:20090329T030000
RDATE:20091025T020000
TZOFFSETFROM:+0100
TZOFFSETTO:+0200
TZNAME:Europe/Rome CEST
END:DAYLIGHT
BEGIN:DAYLIGHT
DTSTART:20100328T030000
RDATE:20101031T020000
TZOFFSETFROM:+0100
TZOFFSETTO:+0200
TZNAME:Europe/Rome CEST
END:DAYLIGHT
BEGIN:DAYLIGHT
DTSTART:20110327T030000
RDATE:20111030T020000
TZOFFSETFROM:+0100
TZOFFSETTO:+0200
TZNAME:Europe/Rome CEST
END:DAYLIGHT
BEGIN:DAYLIGHT
DTSTART:20120325T030000
RDATE:20121028T020000
TZOFFSETFROM:+0100
TZOFFSETTO:+0200
TZNAME:Europe/Rome CEST
END:DAYLIGHT
BEGIN:DAYLIGHT
DTSTART:20130331T030000
RDATE:20131027T020000
TZOFFSETFROM:+0100
TZOFFSETTO:+0200
TZNAME:Europe/Rome CEST
END:DAYLIGHT
BEGIN:DAYLIGHT
DTSTART:20140330T030000
RDATE:20141026T020000
TZOFFSETFROM:+0100
TZOFFSETTO:+0200
TZNAME:Europe/Rome CEST
END:DAYLIGHT
BEGIN:DAYLIGHT
DTSTART:20150329T030000
RDATE:20151025T020000
TZOFFSETFROM:+0100
TZOFFSETTO:+0200
TZNAME:Europe/Rome CEST
END:DAYLIGHT
BEGIN:DAYLIGHT
DTSTART:20160327T030000
RDATE:20161030T020000
TZOFFSETFROM:+0100
TZOFFSETTO:+0200
TZNAME:Europe/Rome CEST
END:DAYLIGHT
BEGIN:DAYLIGHT
DTSTART:20170326T030000
RDATE:20171029T020000
TZOFFSETFROM:+0100
TZOFFSETTO:+0200
TZNAME:Europe/Rome CEST
END:DAYLIGHT
BEGIN:DAYLIGHT
DTSTART:20180325T030000
RDATE:20181028T020000
TZOFFSETFROM:+0100
TZOFFSETTO:+0200
TZNAME:Europe/Rome CEST
END:DAYLIGHT
BEGIN:DAYLIGHT
DTSTART:20190331T030000
RDATE:20191027T020000
TZOFFSETFROM:+0100
TZOFFSETTO:+0200
TZNAME:Europe/Rome CEST
END:DAYLIGHT
BEGIN:DAYLIGHT
DTSTART:20200329T030000
RDATE:20201025T020000
TZOFFSETFROM:+0100
TZOFFSETTO:+0200
TZNAME:Europe/Rome CEST
END:DAYLIGHT
BEGIN:DAYLIGHT
DTSTART:20210328T030000
RDATE:20211031T020000
TZOFFSETFROM:+0100
TZOFFSETTO:+0200
TZNAME:Europe/Rome CEST
END:DAYLIGHT
BEGIN:DAYLIGHT
DTSTART:20220327T030000
RDATE:20221030T020000
TZOFFSETFROM:+0100
TZOFFSETTO:+0200
TZNAME:Europe/Rome CEST
END:DAYLIGHT
BEGIN:DAYLIGHT
DTSTART:20230326T030000
RDATE:20231029T020000
TZOFFSETFROM:+0100
TZOFFSETTO:+0200
TZNAME:Europe/Rome CEST
END:DAYLIGHT
BEGIN:DAYLIGHT
DTSTART:20240331T030000
RDATE:20241027T020000
TZOFFSETFROM:+0100
TZOFFSETTO:+0200
TZNAME:Europe/Rome CEST
END:DAYLIGHT
BEGIN:DAYLIGHT
DTSTART:20250330T030000
RDATE:20251026T020000
TZOFFSETFROM:+0100
TZOFFSETTO:+0200
TZNAME:Europe/Rome CEST
END:DAYLIGHT
BEGIN:DAYLIGHT
DTSTART:20260329T030000
RDATE:20261025T020000
TZOFFSETFROM:+0100
TZOFFSETTO:+0200
TZNAME:Europe/Rome CEST
END:DAYLIGHT
BEGIN:DAYLIGHT
DTSTART:20270328T030000
RDATE:20271031T020000
TZOFFSETFROM:+0100
TZOFFSETTO:+0200
TZNAME:Europe/Rome CEST
END:DAYLIGHT
BEGIN:DAYLIGHT
DTSTART:20280326T030000
RDATE:20281029T020000
TZOFFSETFROM:+0100
TZOFFSETTO:+0200
TZNAME:Europe/Rome CEST
END:DAYLIGHT
BEGIN:DAYLIGHT
DTSTART:20290325T030000
RDATE:20291028T020000
TZOFFSETFROM:+0100
TZOFFSETTO:+0200
TZNAME:Europe/Rome CEST
END:DAYLIGHT
BEGIN:DAYLIGHT
DTSTART:20300331T030000
RDATE:20301027T020000
TZOFFSETFROM:+0100
TZOFFSETTO:+0200
TZNAME:Europe/Rome CEST
END:DAYLIGHT
BEGIN:DAYLIGHT
DTSTART:20310330T030000
RDATE:20311026T020000
TZOFFSETFROM:+0100
TZOFFSETTO:+0200
TZNAME:Europe/Rome CEST
END:DAYLIGHT
BEGIN:DAYLIGHT
DTSTART:20320328T030000
RDATE:20321031T020000
TZOFFSETFROM:+0100
TZOFFSETTO:+0200
TZNAME:Europe/Rome CEST
END:DAYLIGHT
BEGIN:DAYLIGHT
DTSTART:20330327T030000
RDATE:20331030T020000
TZOFFSETFROM:+0100
TZOFFSETTO:+0200
TZNAME:Europe/Rome CEST
END:DAYLIGHT
BEGIN:DAYLIGHT
DTSTART:20340326T030000
RDATE:20341029T020000
TZOFFSETFROM:+0100
TZOFFSETTO:+0200
TZNAME:Europe/Rome CEST
END:DAYLIGHT
BEGIN:DAYLIGHT
DTSTART:20350325T030000
RDATE:20351028T020000
TZOFFSETFROM:+0100
TZOFFSETTO:+0200
TZNAME:Europe/Rome CEST
END:DAYLIGHT
BEGIN:DAYLIGHT
DTSTART:20360330T030000
RDATE:20361026T020000
TZOFFSETFROM:+0100
TZOFFSETTO:+0200
TZNAME:Europe/Rome CEST
END:DAYLIGHT
BEGIN:DAYLIGHT
DTSTART:20370329T030000
RDATE:20371025T020000
TZOFFSETFROM:+0100
TZOFFSETTO:+0200
TZNAME:Europe/Rome CEST
END:DAYLIGHT
END:VTIMEZONE
BEGIN:VEVENT
UID:1429119832evt60
CATEGORIES:.
SUMMARY:5-12-19-26-Sopralluoghi in palestina (rassegna cinema)
DESCRIPTION;ENCODING=QUOTED-PRINTABLE:<br />Associazione per la Pace (www.assopace.org)<br />Associazione Cultura
 le Aktivamente (www.aktivamente.it)<br />Associazione giovani palestinesi W
 ael Zwuaiter (www.palestinawz.org)<br /><br /><br /><strong>&quot;Sopralluo
 ghi in Palestina&quot;<br /></strong>fotogrammi di un conflitto<br /><stron
 g>8 film, 8 temi</strong><br /><br />Suggestioni visive per comprendere le 
 origini e le evoluzioni del conflitto <br />tra palestinesi e israeliani: l
 a storia, i popoli (profughi, coloni, nuovi <br />immigrati), il territorio
 , i muri, la propaganda e le forme di resistenza. <br /><br />Le proiezioni
 , in lingua originale e sottotitolate in italiano, saranno <br />accompagna
 te da strumenti di approfondimento - mostre fotografiche, <br />suggeriment
 i di lettura, materiale informativo - sui temi trattati.<br /><br /><br /><
 strong>Ogni lunedi&#39; di maggio, due proiezioni (20.30 - 22.30)</strong><
 br /><br />tutti i film sono sottotitolati in italiano - ingresso libero<br
  /><br /><strong>presso:</strong> Libreria Caffe&#39; Flexi - via Clementin
 a 9, <br />Rione Monti, Roma &nbsp;<br />contatto: www.libreriaflexi.it<br 
 /><br /><br /><br /><br /><strong>Programma</strong> delle prossime proiezi
 oni di <strong>maggio</strong><br /><br /><br />Lunedi&#39; <strong>5</stro
 ng> maggio <br />due proiezioni: h 20.30 e h 22.30<br /><br />Profughi - &q
 uot; The Inner Tour&quot; <br /><br />(www.tichofilm.com/it/02289/30/page.h
 tml)<br />di Ra&#39;anan Alexandrovich, Palestina/Israele, 2001, 97&#39;, s
 ottotitoli in italiano.<br />Un viaggio organizzato che attraversa Israele 
 in autobus. I partecipanti sono uomini, <br />donne e bambini palestinesi c
 he risiedono nei Territori Occupati. Filmato pochi mesi <br />prima dell&#3
 9;inizio della Seconda Intifada, il film e&#39; il racconto di un weekend o
 ltre <br />confine che si trasforma in un viaggio attraverso il tempo e la 
 nostalgia. <br />I protagonisti sono di fatto dei turisti nel loro stesso p
 aese...<br /><br /><br /><br /><br />Lunedi&#39; <strong>12</strong> maggio
  <br />due proiezioni: h 20.30 e h 22.30<br /><br />Resistenze (Israele) - 
 &quot;Il club antioccupazione delle nonnine infuriate&quot; <br /><br />(ww
 w.ogniana-film.de/it/index.html)<br />di Iwajla Klinke, Germania/Italia, 20
 06, 88&#39;, sottotitoli in italiano.<br />Il film narra le vicende della 7
 6enne Hava e delle sue amiche, quattro <br />ottuagenarie israeliane che ha
 nno in comune non solo eta&#39; e provenienza - <br />l&#39;Europa, abbando
 nata ai tempi del nazismo per sfuggire all&#39;olocausto- ma <br />anche l&
 #39;impegno politico nei confronti dei palestinesi. Un film non solo <br />
 sulla politica di occupazione israeliana ma anche soprattutto su coloro <br
  />che un tempo la resero reale, mentre oggi la combattono con tutti i mezz
 i <br />a loro disposizione, nonostante l&#39;eta&#39;.<br /><br /><br /><b
 r /><br />Lunedi&#39; <strong>19</strong> maggio <br />due proiezioni: h 20
 .30 e h 22.30<br /><br />Gaza - &quot;Gaza Strip&quot; <br /><br />(www.lit
 tleredbutton.com/gaza )<br />di James Longley, USA, 2002, 74&#39;, sottotit
 oli in italiano.<br />Un documentarista americano, durante l&#39;inverno de
 l 2001, segue con la sua <br />camera l&#39;insieme di eventi e persone che
  seguono le elezioni del primo ministro <br />israeliano Ariel Sharon nella
  Striscia di Gaza.<br />L&#39;inasprirsi della seconda intifada, la distruz
 ione delle case, le vittime dei <br />bombardamenti, viste attraverso gli o
 cchi del tredicenne Mohammed Hejazi e dei <br />suoi compagni, piccoli vend
 itori ambulanti; fino all&#39;incursione israeliana nel <br />campo profugh
 i di Khan Younis, che segnera&#39; l&#39;inizio della rioccupazione delle <
 br />aree autonome palestinesi (Operazione Scudo di Difesa)<br /><br /><br 
 /><br /><br />Lunedi&#39; <strong>26</strong> maggio <br />due proiezioni: 
 h 20.30 e h 22.30<br /><br />Resistenze (Palestina) - &quot;Private&quot; <
 br /><br />(http://trovacinema.repubblica.it/film/scheda/Private/276236)<br
  />di Saverio Costanzo, Italia, 2004, 90&#39;, in italiano.<br />Docente di
  letteratura inglese in Palestina, Mohammed vive con la moglie e i <br />ci
 nque figli in una casa situata tra un villaggio palestinese e un insediamen
 to <br />israeliano. L&#39;abitazione finisce per subire gli attacchi incro
 ciati delle parti in <br />lotta, diventando un sito altamente strategico. 
 L&#39;esercito israeliano decide di <br />occuparla ma, nonostante l&#39;in
 vasione dei soldati israeliani, Mohammed si rifiuta <br />categoricamente d
 i abbandonarla. Fedele ai principi della non violenza, e&#39; convinto <br 
 />che si possa trovare un&#39;intesa.<br /><br /><br /><br /><br /><strong>
 Promosso e organizzato da</strong><br /><br />Associazione per la Pace (www
 .assopace.org)<br />L&#39;Associazione per la Pace nei suoi quasi 20 anni d
 i attivit&Atilde; si e&#39; impegnata in Italia <br />e all&#39;estero con 
 azioni volte alla risoluzione nonviolenta dei conflitti e alla promozione <
 br />del dialogo fra i popoli. Attraverso la sperimentazione di interventi 
 civili nei conflitti, <br />i volontari e le volontarie sono stati presenti
  nei principali luoghi di guerra del <br />Mediterraneo (Balcani e Mediorie
 nte) cercando di mediare tra istanze, popoli e religioni in <br />lotta. Ab
 biamo scelto di stare nei conflitti mettendoci dalla parte dei civili, per 
 renderli <br />attori/risolutori e non piu&#39; vittime principali, come sp
 esso accade nei guerre contemporanee.<br />Il lavoro su Palestina/Israele e
 &#39; cominciato durante la seconda Intifada e continua ancora <br />oggi a
 ttraverso viaggi di conoscenza, campi di lavoro e azioni di interposizione 
 e di difesa <br />dei diritti umani in Palestina, e in Italia con azioni di
  sensibilizzazione volte a mostrare <br />gli aspetti meno mediatici e piu&
 #39; concreti di un conflitto che coinvolge tutta l&#39;area mediterranea.<
 br /><br /><br />Associazione Culturale Aktivamente (www.aktivamente.it)<br
  />Aktivamente nasce nell&#39;ottobre del 2004 a Roma con l&#39;idea di cre
 are nuovi spazi per l&#39;arte. <br />Arte intesa a 360 gradi. In una realt
 a&#39; come quella attuale dove la velocita&#39; dell&#39;informazione, <br
  />il continuo flusso di immagini, il dominio della televisione creano un s
 istema di sovraffollamento <br />video/sonoro, Aktivamente lavora partendo 
 da un assunto, da un&#39;idea definita Aktiva:&quot;e&#39; lo spazio <br />
 che manca non l&#39;arte&quot;.L&#39;associazione si nutre del lavoro e imp
 egno volontario di giovani provenienti <br />da retroterra culturali distin
 ti, per lo piu&#39; residenti nel territorio romano, che curano tutte le <b
 r />componenti delle iniziative, dall&#39;ideazione al coordinamento, logis
 tica e realizzazione. Nei primi <br />due anni di vita Aktivamente ha raffo
 rzato rapporti e collaborazioni con artisti, associazioni, <br />ONLUS e st
 rutture aggregative presenti sul territorio (Politecnico Fandango, Servizio
  Civile <br />Internazionale, Circolo degli Artisti, Stalker, Osservatorio 
 Nomade, ecc.) realizzando eventi <br />ed iniziative artistiche segnate spe
 sso da un marcato contenuto sociale.<br /><br /><br />Associazione giovani 
 palestinesi Wael Zwuaiter (www.palestinawz.org)<br />L&#39;Associazione Gio
 vani Palestinesi &quot;Wael Zuaiter&quot; nasce nell&#39;ottobre 2005 dall&
 #39;iniziativa della <br />nuova generazione di palestinesi e italo-palesti
 nesi residenti in Italia. Il programma dell&#39;<br />Associazione prevede 
 un impegno culturale di ampio respiro, con attivita&#39; di informazione ed
  <br />archiviazione multimediatica, progetti di collaborazione e solidarie
 ta&#39; ed attivita&#39; <br />ludico-ricreative. Nello spirito del nostro 
 agire si ritrova il motivo del nome a cui e&#39; dedicata <br />l&#39;Assoc
 iazione Giovani Palestinesi &quot;Wael Zuaiter&quot;, l&#39;intellettuale p
 alestinese assassinato a Roma <br />nell&#39;ottobre del 1972. Wael Zuaiter
  aveva cercato, durante il suo breve soggiorno in Italia, di <br />accredit
 are un&#39;idea diversa del popolo palestinese. Non &quot;rifugiato&quot;, 
 non &quot;terrorista&quot;, ma un popolo <br />desideroso solo di vedersi r
 iconoscere la propria storia e il diritto ad avere una terra ed un suo <br 
 />Stato. Per questo l&#39;Associazione ha come obiettivo la riscoperta e la
  conservazione della cultura <br />di origine dei palestinesi ed intende pr
 oporsi come veicolo di informazione approfondita, completa <br />e obiettiv
 a sulla causa palestinese, presso l&#39;opinione pubblica italiana.<br /><b
 r /><br />- Il programma aggiornato &egrave; on line sui siti delle associa
 zioni organizzatrici -<br />
DTSTAMP:20260420T131914Z
DTSTART;TZID=Europe/Rome:20080509T203000
DTEND;TZID=Europe/Rome:20080508T235959
SEQUENCE:0
TRANSP:OPAQUE
END:VEVENT
END:VCALENDAR