BEGIN:VCALENDAR
VERSION:2.0
PRODID:-//jEvents 2.0 for Joomla//EN
CALSCALE:GREGORIAN
METHOD:PUBLISH
BEGIN:VTIMEZONE
TZID:Europe/Rome
BEGIN:STANDARD
DTSTART:20071129T080000
RDATE:20080330T030000
TZOFFSETFROM:+0200
TZOFFSETTO:+0100
TZNAME:Europe/Rome CET
END:STANDARD
BEGIN:STANDARD
DTSTART:20081026T020000
RDATE:20090329T030000
TZOFFSETFROM:+0200
TZOFFSETTO:+0100
TZNAME:Europe/Rome CET
END:STANDARD
BEGIN:STANDARD
DTSTART:20091025T020000
RDATE:20100328T030000
TZOFFSETFROM:+0200
TZOFFSETTO:+0100
TZNAME:Europe/Rome CET
END:STANDARD
BEGIN:STANDARD
DTSTART:20101031T020000
RDATE:20110327T030000
TZOFFSETFROM:+0200
TZOFFSETTO:+0100
TZNAME:Europe/Rome CET
END:STANDARD
BEGIN:STANDARD
DTSTART:20111030T020000
RDATE:20120325T030000
TZOFFSETFROM:+0200
TZOFFSETTO:+0100
TZNAME:Europe/Rome CET
END:STANDARD
BEGIN:STANDARD
DTSTART:20121028T020000
RDATE:20130331T030000
TZOFFSETFROM:+0200
TZOFFSETTO:+0100
TZNAME:Europe/Rome CET
END:STANDARD
BEGIN:STANDARD
DTSTART:20131027T020000
RDATE:20140330T030000
TZOFFSETFROM:+0200
TZOFFSETTO:+0100
TZNAME:Europe/Rome CET
END:STANDARD
BEGIN:STANDARD
DTSTART:20141026T020000
RDATE:20150329T030000
TZOFFSETFROM:+0200
TZOFFSETTO:+0100
TZNAME:Europe/Rome CET
END:STANDARD
BEGIN:STANDARD
DTSTART:20151025T020000
RDATE:20160327T030000
TZOFFSETFROM:+0200
TZOFFSETTO:+0100
TZNAME:Europe/Rome CET
END:STANDARD
BEGIN:STANDARD
DTSTART:20161030T020000
RDATE:20170326T030000
TZOFFSETFROM:+0200
TZOFFSETTO:+0100
TZNAME:Europe/Rome CET
END:STANDARD
BEGIN:STANDARD
DTSTART:20171029T020000
RDATE:20180325T030000
TZOFFSETFROM:+0200
TZOFFSETTO:+0100
TZNAME:Europe/Rome CET
END:STANDARD
BEGIN:STANDARD
DTSTART:20181028T020000
RDATE:20190331T030000
TZOFFSETFROM:+0200
TZOFFSETTO:+0100
TZNAME:Europe/Rome CET
END:STANDARD
BEGIN:STANDARD
DTSTART:20191027T020000
RDATE:20200329T030000
TZOFFSETFROM:+0200
TZOFFSETTO:+0100
TZNAME:Europe/Rome CET
END:STANDARD
BEGIN:STANDARD
DTSTART:20201025T020000
RDATE:20210328T030000
TZOFFSETFROM:+0200
TZOFFSETTO:+0100
TZNAME:Europe/Rome CET
END:STANDARD
BEGIN:STANDARD
DTSTART:20211031T020000
RDATE:20220327T030000
TZOFFSETFROM:+0200
TZOFFSETTO:+0100
TZNAME:Europe/Rome CET
END:STANDARD
BEGIN:STANDARD
DTSTART:20221030T020000
RDATE:20230326T030000
TZOFFSETFROM:+0200
TZOFFSETTO:+0100
TZNAME:Europe/Rome CET
END:STANDARD
BEGIN:STANDARD
DTSTART:20231029T020000
RDATE:20240331T030000
TZOFFSETFROM:+0200
TZOFFSETTO:+0100
TZNAME:Europe/Rome CET
END:STANDARD
BEGIN:STANDARD
DTSTART:20241027T020000
RDATE:20250330T030000
TZOFFSETFROM:+0200
TZOFFSETTO:+0100
TZNAME:Europe/Rome CET
END:STANDARD
BEGIN:STANDARD
DTSTART:20251026T020000
RDATE:20260329T030000
TZOFFSETFROM:+0200
TZOFFSETTO:+0100
TZNAME:Europe/Rome CET
END:STANDARD
BEGIN:STANDARD
DTSTART:20261025T020000
RDATE:20270328T030000
TZOFFSETFROM:+0200
TZOFFSETTO:+0100
TZNAME:Europe/Rome CET
END:STANDARD
BEGIN:STANDARD
DTSTART:20271031T020000
RDATE:20280326T030000
TZOFFSETFROM:+0200
TZOFFSETTO:+0100
TZNAME:Europe/Rome CET
END:STANDARD
BEGIN:STANDARD
DTSTART:20281029T020000
RDATE:20290325T030000
TZOFFSETFROM:+0200
TZOFFSETTO:+0100
TZNAME:Europe/Rome CET
END:STANDARD
BEGIN:STANDARD
DTSTART:20291028T020000
RDATE:20300331T030000
TZOFFSETFROM:+0200
TZOFFSETTO:+0100
TZNAME:Europe/Rome CET
END:STANDARD
BEGIN:STANDARD
DTSTART:20301027T020000
RDATE:20310330T030000
TZOFFSETFROM:+0200
TZOFFSETTO:+0100
TZNAME:Europe/Rome CET
END:STANDARD
BEGIN:STANDARD
DTSTART:20311026T020000
RDATE:20320328T030000
TZOFFSETFROM:+0200
TZOFFSETTO:+0100
TZNAME:Europe/Rome CET
END:STANDARD
BEGIN:STANDARD
DTSTART:20321031T020000
RDATE:20330327T030000
TZOFFSETFROM:+0200
TZOFFSETTO:+0100
TZNAME:Europe/Rome CET
END:STANDARD
BEGIN:STANDARD
DTSTART:20331030T020000
RDATE:20340326T030000
TZOFFSETFROM:+0200
TZOFFSETTO:+0100
TZNAME:Europe/Rome CET
END:STANDARD
BEGIN:STANDARD
DTSTART:20341029T020000
RDATE:20350325T030000
TZOFFSETFROM:+0200
TZOFFSETTO:+0100
TZNAME:Europe/Rome CET
END:STANDARD
BEGIN:STANDARD
DTSTART:20351028T020000
RDATE:20360330T030000
TZOFFSETFROM:+0200
TZOFFSETTO:+0100
TZNAME:Europe/Rome CET
END:STANDARD
BEGIN:STANDARD
DTSTART:20361026T020000
RDATE:20370329T030000
TZOFFSETFROM:+0200
TZOFFSETTO:+0100
TZNAME:Europe/Rome CET
END:STANDARD
BEGIN:STANDARD
DTSTART:20371025T020000
TZOFFSETFROM:+0200
TZOFFSETTO:+0100
TZNAME:Europe/Rome CET
END:STANDARD
BEGIN:DAYLIGHT
DTSTART:20080330T030000
RDATE:20081026T020000
TZOFFSETFROM:+0100
TZOFFSETTO:+0200
TZNAME:Europe/Rome CEST
END:DAYLIGHT
BEGIN:DAYLIGHT
DTSTART:20090329T030000
RDATE:20091025T020000
TZOFFSETFROM:+0100
TZOFFSETTO:+0200
TZNAME:Europe/Rome CEST
END:DAYLIGHT
BEGIN:DAYLIGHT
DTSTART:20100328T030000
RDATE:20101031T020000
TZOFFSETFROM:+0100
TZOFFSETTO:+0200
TZNAME:Europe/Rome CEST
END:DAYLIGHT
BEGIN:DAYLIGHT
DTSTART:20110327T030000
RDATE:20111030T020000
TZOFFSETFROM:+0100
TZOFFSETTO:+0200
TZNAME:Europe/Rome CEST
END:DAYLIGHT
BEGIN:DAYLIGHT
DTSTART:20120325T030000
RDATE:20121028T020000
TZOFFSETFROM:+0100
TZOFFSETTO:+0200
TZNAME:Europe/Rome CEST
END:DAYLIGHT
BEGIN:DAYLIGHT
DTSTART:20130331T030000
RDATE:20131027T020000
TZOFFSETFROM:+0100
TZOFFSETTO:+0200
TZNAME:Europe/Rome CEST
END:DAYLIGHT
BEGIN:DAYLIGHT
DTSTART:20140330T030000
RDATE:20141026T020000
TZOFFSETFROM:+0100
TZOFFSETTO:+0200
TZNAME:Europe/Rome CEST
END:DAYLIGHT
BEGIN:DAYLIGHT
DTSTART:20150329T030000
RDATE:20151025T020000
TZOFFSETFROM:+0100
TZOFFSETTO:+0200
TZNAME:Europe/Rome CEST
END:DAYLIGHT
BEGIN:DAYLIGHT
DTSTART:20160327T030000
RDATE:20161030T020000
TZOFFSETFROM:+0100
TZOFFSETTO:+0200
TZNAME:Europe/Rome CEST
END:DAYLIGHT
BEGIN:DAYLIGHT
DTSTART:20170326T030000
RDATE:20171029T020000
TZOFFSETFROM:+0100
TZOFFSETTO:+0200
TZNAME:Europe/Rome CEST
END:DAYLIGHT
BEGIN:DAYLIGHT
DTSTART:20180325T030000
RDATE:20181028T020000
TZOFFSETFROM:+0100
TZOFFSETTO:+0200
TZNAME:Europe/Rome CEST
END:DAYLIGHT
BEGIN:DAYLIGHT
DTSTART:20190331T030000
RDATE:20191027T020000
TZOFFSETFROM:+0100
TZOFFSETTO:+0200
TZNAME:Europe/Rome CEST
END:DAYLIGHT
BEGIN:DAYLIGHT
DTSTART:20200329T030000
RDATE:20201025T020000
TZOFFSETFROM:+0100
TZOFFSETTO:+0200
TZNAME:Europe/Rome CEST
END:DAYLIGHT
BEGIN:DAYLIGHT
DTSTART:20210328T030000
RDATE:20211031T020000
TZOFFSETFROM:+0100
TZOFFSETTO:+0200
TZNAME:Europe/Rome CEST
END:DAYLIGHT
BEGIN:DAYLIGHT
DTSTART:20220327T030000
RDATE:20221030T020000
TZOFFSETFROM:+0100
TZOFFSETTO:+0200
TZNAME:Europe/Rome CEST
END:DAYLIGHT
BEGIN:DAYLIGHT
DTSTART:20230326T030000
RDATE:20231029T020000
TZOFFSETFROM:+0100
TZOFFSETTO:+0200
TZNAME:Europe/Rome CEST
END:DAYLIGHT
BEGIN:DAYLIGHT
DTSTART:20240331T030000
RDATE:20241027T020000
TZOFFSETFROM:+0100
TZOFFSETTO:+0200
TZNAME:Europe/Rome CEST
END:DAYLIGHT
BEGIN:DAYLIGHT
DTSTART:20250330T030000
RDATE:20251026T020000
TZOFFSETFROM:+0100
TZOFFSETTO:+0200
TZNAME:Europe/Rome CEST
END:DAYLIGHT
BEGIN:DAYLIGHT
DTSTART:20260329T030000
RDATE:20261025T020000
TZOFFSETFROM:+0100
TZOFFSETTO:+0200
TZNAME:Europe/Rome CEST
END:DAYLIGHT
BEGIN:DAYLIGHT
DTSTART:20270328T030000
RDATE:20271031T020000
TZOFFSETFROM:+0100
TZOFFSETTO:+0200
TZNAME:Europe/Rome CEST
END:DAYLIGHT
BEGIN:DAYLIGHT
DTSTART:20280326T030000
RDATE:20281029T020000
TZOFFSETFROM:+0100
TZOFFSETTO:+0200
TZNAME:Europe/Rome CEST
END:DAYLIGHT
BEGIN:DAYLIGHT
DTSTART:20290325T030000
RDATE:20291028T020000
TZOFFSETFROM:+0100
TZOFFSETTO:+0200
TZNAME:Europe/Rome CEST
END:DAYLIGHT
BEGIN:DAYLIGHT
DTSTART:20300331T030000
RDATE:20301027T020000
TZOFFSETFROM:+0100
TZOFFSETTO:+0200
TZNAME:Europe/Rome CEST
END:DAYLIGHT
BEGIN:DAYLIGHT
DTSTART:20310330T030000
RDATE:20311026T020000
TZOFFSETFROM:+0100
TZOFFSETTO:+0200
TZNAME:Europe/Rome CEST
END:DAYLIGHT
BEGIN:DAYLIGHT
DTSTART:20320328T030000
RDATE:20321031T020000
TZOFFSETFROM:+0100
TZOFFSETTO:+0200
TZNAME:Europe/Rome CEST
END:DAYLIGHT
BEGIN:DAYLIGHT
DTSTART:20330327T030000
RDATE:20331030T020000
TZOFFSETFROM:+0100
TZOFFSETTO:+0200
TZNAME:Europe/Rome CEST
END:DAYLIGHT
BEGIN:DAYLIGHT
DTSTART:20340326T030000
RDATE:20341029T020000
TZOFFSETFROM:+0100
TZOFFSETTO:+0200
TZNAME:Europe/Rome CEST
END:DAYLIGHT
BEGIN:DAYLIGHT
DTSTART:20350325T030000
RDATE:20351028T020000
TZOFFSETFROM:+0100
TZOFFSETTO:+0200
TZNAME:Europe/Rome CEST
END:DAYLIGHT
BEGIN:DAYLIGHT
DTSTART:20360330T030000
RDATE:20361026T020000
TZOFFSETFROM:+0100
TZOFFSETTO:+0200
TZNAME:Europe/Rome CEST
END:DAYLIGHT
BEGIN:DAYLIGHT
DTSTART:20370329T030000
RDATE:20371025T020000
TZOFFSETFROM:+0100
TZOFFSETTO:+0200
TZNAME:Europe/Rome CEST
END:DAYLIGHT
END:VTIMEZONE
BEGIN:VEVENT
UID:1429119833evt78
CATEGORIES:.
SUMMARY:29-Manifestazione Nazionale Palestina
DESCRIPTION;ENCODING=QUOTED-PRINTABLE:<p><strong>[valutazione CONCLUSIVA DELLA MANIFESTAZIONE:</strong></p><p>htt
 p://www.forumpalestina.org/news/2008/Dicembre08/01-12-08ValutazioniManifest
 azione.htm<strong>] </strong></p><p>&nbsp;</p><p><strong>In occasione della
  Giornata Mondiale di Solidariet&agrave; con la Palestina</strong> indetta 
 dalle Nazione Unite sar&agrave; prevista a Roma una manifestazione nazional
 e. </p><p>&nbsp;la manifestazione del 29 novembre 2008 &egrave; stata gi&ag
 rave; richiesta e autorizzata. <br /><strong>Il percorso </strong>&egrave; 
 da Piazza della Repubblica a Piazza Madonna di Loreto (Piazza Venezia). <br
  /><strong>L&rsquo;appuntamento</strong> &egrave; alle 15.00 in piazza dell
 a Repubblica.<br /><br /><br /><strong>Il corteo sar&agrave; aperto da</str
 ong>lle organizzazioni palestinesi e arabe <br />(comunit&agrave; palestine
 si, udap, comunit&agrave; araba, comunit&agrave; islamiche), <br />poi segu
 iranno le associazioni e le forze che hanno animato la <br />campagna 2008 
 anno della Palestina.<br /><br /><strong>Lo striscione di apertura </strong
 >sar&agrave; &ldquo;Vita, terra, libert&agrave; per il popolo palestinese&r
 dquo;<br /><br /><strong>contatti:</strong><br />Le <strong>adesioni </stro
 ng>vanno spedite a: <span id="cloak3922">Questo indirizzo email è protetto 
 dagli spambots. È necessario abilitare JavaScript per vederlo.</span><scrip
 t type='text/javascript'>
 //<!--
 document.getElementById('cloak3922').inn
 erHTML = '';
 var prefix = '&#109;a' + 'i&#108;' + '&#116;o';
 var path = '
 hr' + 'ef' + '=';
 var addy3922 = '&#97;nn&#111;d&#101;ll&#97;p&#97;l&#101;
 st&#105;n&#97;' + '&#64;';
 addy3922 = addy3922 + 'l&#105;b&#101;r&#111;' +
  '&#46;' + '&#105;t';
 document.getElementById('cloak3922').innerHTML += '<
 a ' + path + '\'' + prefix + ':' + addy3922 + '\'>' +addy3922+'<\/a>';
 //-
 ->
 </script><br />Chi volesse i <strong>manifesti </strong>contatti subito
  <span id="cloak84922">Questo indirizzo email è protetto dagli spambots. È 
 necessario abilitare JavaScript per vederlo.</span><script type='text/javas
 cript'>
 //<!--
 document.getElementById('cloak84922').innerHTML = '';
 var
  prefix = '&#109;a' + 'i&#108;' + '&#116;o';
 var path = 'hr' + 'ef' + '=';
 
 var addy84922 = 'f&#111;r&#117;mp&#97;l&#101;st&#105;n&#97;' + '&#64;';
 
 addy84922 = addy84922 + 'l&#105;b&#101;r&#111;' + '&#46;' + '&#105;t';
 doc
 ument.getElementById('cloak84922').innerHTML += '<a ' + path + '\'' + prefi
 x + ':' + addy84922 + '\'>' +addy84922+'<\/a>';
 //-->
 </script>. Fateli c
 ircolare il pi&ugrave; possibile.<br /><br />[<strong>in pi&ugrave;:</stron
 g><br />Questa settimana &egrave; la settimana internazionale contro il Mur
 o dell&rsquo;apartheid. <br /><strong>A Roma ci sar&agrave; una manifestazi
 one domenica 16 novembre la mattina.</strong>]</p><p>&nbsp;</p><p>&nbsp;</p
 ><p><strong>Comunicato manifestazione 29 nov 08:</strong></p><p>&nbsp;</p><
 p>Vita, terra e libert&agrave; per il popolo palestinese<br /><br />&nbsp;<
 br /><br />Nel disinteresse quasi totale dell&#39;opinione pubblica, <br />
 dei cosiddetti paesi democratici e dei governi occidentali, <br />in Palest
 ina continua a consumarsi la tragedia di un popolo <br />privato dei suoi d
 iritti elementari, primo fra tutti il <br />diritto ad una vita degna per s
 &eacute; e per i propri figli.<br /><br />Le politiche di occupazione e chi
 usura dei governi israeliani <br />oltre che impedire con la forza e con l&
 #39;illegalit&agrave; lo sviluppo <br />e la crescita pacifica di una popol
 azione, il suo diritto a <br />determinarsi come entit&agrave; politica in 
 uno Stato, cos&igrave; come <br />previsto dal diritto internazionale, mett
 ono una seria ipoteca <br />sulla possibilit&agrave; di un futuro di pace p
 er tutti coloro che <br />convivono nella Palestina storica.<br /><br />Que
 sta politica &egrave; il logico compimento di pi&ugrave; di sessant&#39;ann
 i <br />di strategie tese all&#39;esclusione e al rifiuto del diverso che, 
 <br />dal 1948, con la nakba, passando per il 1967 e per la rioccupazione <
 br />di tutta la Palestina storica, hanno caratterizzato il fine ultimo <br
  />dei governi israeliani: avere uno stato ebraico puro, una terra <br />do
 ve il numero degli arabi fosse ridotto al minimo.<br /><br />Le politiche d
 ei fatti compiuti, dell&#39;estromissione delle leadership <br />politiche 
 non gradite ai governi israeliani, gli omicidi dei <br />dirigenti della ca
 usa nazionale palestinese o il loro arresto, <br />priva il popolo palestin
 ese di qualsiasi strumento efficace di <br />resistenza e lotta che non sia
  quello delle armi.<br /><br />La resistenza, in tutte le forme che essa ha
  sviluppato in questi anni, <br />&egrave; stato l&#39;unico argine all&#39
 ;annientamento di un popolo, alla sua <br />definitiva scomparsa e dispersi
 one, obiettivo dichiarato di una buona <br />parte dell&#39;oltranzismo sio
 nista.<br /><br />A questa resistenza, nelle forme e nei limiti che &egrave
 ; possibile portare <br />avanti in ciascun contesto locale, noi sentiamo d
 i dover portare la nostra <br />solidariet&agrave; sollevando e tenendo anc
 ora viva la questione palestinese <br />in occidente. In questo quadro vann
 o inserite le tante manifestazioni <br />di solidariet&agrave; internaziona
 le, da quelle pi&ugrave; piccole, operate <br />quotidianamente dal tessuto
  associativo che opera attraverso i tanti <br />momenti di solidariet&agrav
 e; diretta, alle operazioni di rottura dell&#39;infame <br />embargo anti-p
 alestinese, come quella portata avanti di recente a Gaza.<br /><br />Per te
 nere desta questa attenzione, specie in un contesto fortemente <br />segnat
 o dalla regressione politico culturale dell&#39;Italia verso uno <br />stri
 sciante razzismo di massa, &egrave; necessario anche giungere a <br />manif
 estazioni pubbliche e di massa che, negli anni scorsi, hanno <br />contribu
 ito a mantenere, con le poche forze disponibili, la questione <br />palesti
 nese dentro l&#39;agenda politica italiana, a dispetto di quanti <br />avre
 bbero voluto marginalizzare il problema.<br /><br />Le priorit&agrave; sono
  quelle degli ultimi anni, anche se col passare del tempo <br />la situazio
 ne &egrave; andata sempre pi&ugrave; peggiorando.<br /><br />La liberazione
  dei prigionieri, innanzitutto.<br /><br />La fine dell&#39;occupazione e d
 el furto delle risorse naturali, <br />in primis l&#39;acqua.<br /><br />La
  distruzione del muro.<br /><br />Lo smantellamento degli insediamenti colo
 nici israeliani.<br /><br />La fine del blocco economico contro la popolazi
 one di Gaza.<br /><br />Il diritto al ritorno, nei rispettivi paesi d&#39;o
 rigine, per i profughi.<br /><br />Per uno stato palestinese con Gerusalemm
 e capitale.&nbsp;&nbsp;&nbsp;&nbsp;&nbsp;&nbsp;&nbsp;&nbsp;&nbsp;&nbsp;&nbs
 p;&nbsp;&nbsp;&nbsp;&nbsp;&nbsp;&nbsp;&nbsp;&nbsp;&nbsp;&nbsp;&nbsp;&nbsp;&
 nbsp;&nbsp;&nbsp;&nbsp;&nbsp;&nbsp;&nbsp;&nbsp;&nbsp; <br /><br />&nbsp;&nb
 sp;&nbsp;&nbsp;&nbsp;&nbsp;&nbsp;&nbsp;&nbsp;&nbsp;&nbsp;&nbsp;&nbsp;&nbsp;
 &nbsp;&nbsp;&nbsp;&nbsp;&nbsp;&nbsp;&nbsp;&nbsp;&nbsp;&nbsp;&nbsp;&nbsp;&nb
 sp;&nbsp;&nbsp;&nbsp;&nbsp;&nbsp;&nbsp;&nbsp;&nbsp;&nbsp;&nbsp;&nbsp;&nbsp;
 &nbsp;&nbsp;&nbsp;&nbsp;&nbsp;&nbsp;&nbsp;&nbsp;&nbsp;&nbsp;&nbsp;&nbsp;&nb
 sp;&nbsp;&nbsp;&nbsp; </p>
DTSTAMP:20260420T131918Z
DTSTART;TZID=Europe/Rome:20081129T080000
DTEND;TZID=Europe/Rome:20081129T170000
SEQUENCE:0
TRANSP:OPAQUE
END:VEVENT
END:VCALENDAR